BEGIN:VCALENDAR
VERSION:2.0
PRODID:-//Jump &amp; Jive - Athens Swing Team - ECPv6.6.3//NONSGML v1.0//EN
CALSCALE:GREGORIAN
METHOD:PUBLISH
X-WR-CALNAME:Jump &amp; Jive - Athens Swing Team
X-ORIGINAL-URL:https://jumpnjive.gr
X-WR-CALDESC:Jump &amp; Jive - Athens Swing Team - Εκδηλώσεις
REFRESH-INTERVAL;VALUE=DURATION:PT1H
X-Robots-Tag:noindex
X-PUBLISHED-TTL:PT1H
BEGIN:VTIMEZONE
TZID:Europe/Athens
BEGIN:DAYLIGHT
TZOFFSETFROM:+0200
TZOFFSETTO:+0300
TZNAME:EEST
DTSTART:20240331T010000
END:DAYLIGHT
BEGIN:STANDARD
TZOFFSETFROM:+0300
TZOFFSETTO:+0200
TZNAME:EET
DTSTART:20241027T010000
END:STANDARD
END:VTIMEZONE
BEGIN:VEVENT
DTSTART;TZID=Europe/Athens:20240908T193000
DTEND;TZID=Europe/Athens:20240908T203000
DTSTAMP:20260420T230427
CREATED:20240805T112119Z
LAST-MODIFIED:20240805T112119Z
UID:10578-1725823800-1725827400@jumpnjive.gr
SUMMARY:Vintage Night at Χοροστασιον
DESCRIPTION:Ανοίγουμε τη σεζον στο αγαπημένο μας Χοροστάσιον!Δίπλα από το μετρό Πανεπιστήμιο\, στο κέντρο της Αθήνας.Θα μας βρειτε εκεί να swingοροκάρουμε στην ταράτσα την Κυριακή 08 Σεπτ από τις 19:30.\nΗ πρώτη ώρα θα είναι σε ‘beginner friendly’ tempos.Φήμες λένε πως κατά τη διάρκεια της βραδιάς θα υπάρχουν χορευτικές εκπλήξεις .Είσοδος Ελέυθερη.ΧοροστασιονΣκουλενίου 2Β\, Πλατεία Κλαυθμώνος..Jump n JiveTalk Vintage To Me
URL:https://jumpnjive.gr/event/vintage-night-at-%cf%87%ce%bf%cf%81%ce%bf%cf%83%cf%84%ce%b1%cf%83%ce%b9%ce%bf%ce%bd/
LOCATION:Jump & Jive – Athens Swing Team\, Zan moreas 1\, Koukaki\, Athens\, 11741
CATEGORIES:Jump & Jive Events
ATTACH;FMTTYPE=image/png:https://jumpnjive.gr/wp-content/uploads/2024/08/party-2024-Ανάρτηση-Instagram.png
ORGANIZER;CN="Jump & Jive - Athens Swing Team":MAILTO:jumpnjive@gmail.com
END:VEVENT
END:VCALENDAR