BEGIN:VCALENDAR
VERSION:2.0
PRODID:-//Jump &amp; Jive - Athens Swing Team - ECPv6.6.3//NONSGML v1.0//EN
CALSCALE:GREGORIAN
METHOD:PUBLISH
X-ORIGINAL-URL:https://jumpnjive.gr
X-WR-CALDESC:Jump &amp; Jive - Athens Swing Team - Εκδηλώσεις
REFRESH-INTERVAL;VALUE=DURATION:PT1H
X-Robots-Tag:noindex
X-PUBLISHED-TTL:PT1H
BEGIN:VTIMEZONE
TZID:Europe/Athens
BEGIN:DAYLIGHT
TZOFFSETFROM:+0200
TZOFFSETTO:+0300
TZNAME:EEST
DTSTART:20250330T010000
END:DAYLIGHT
BEGIN:STANDARD
TZOFFSETFROM:+0300
TZOFFSETTO:+0200
TZNAME:EET
DTSTART:20251026T010000
END:STANDARD
END:VTIMEZONE
BEGIN:VEVENT
DTSTART;TZID=Europe/Athens:20250406T123000
DTEND;TZID=Europe/Athens:20250406T140000
DTSTAMP:20260420T222544
CREATED:20250318T232424Z
LAST-MODIFIED:20250318T232424Z
UID:10712-1743942600-1743948000@jumpnjive.gr
SUMMARY:The Boogie Cup - April 2025
DESCRIPTION:Στις 06 Απριλίου Κυριακή στη Σαλαμίνα θα πραγματοποιηθεί ο πρώτος αγώνας στη κατηγορία C Class για το 2025.Ώρα έναρξης αγώνα 12:30. Δημοτικό Σχολείο ΠαλουκιώνΕυαγγελιστριας 29 Σαλαμίνα\nΤο Boogie Cup είναι ένας διαγωνισμός χορού Boogie Woogie με κύριο στόχο να ενθαρρύνει τους χορευτές που ασχολούνται με το χορό αυτό να αναδείξουν τις δεξιότητες τους και να αναδείξει τους καλύτερους χορευτές στην Ελλάδα!\nΣτο Boogie Cup θα υπάρχουν συγκεκριμένες κατηγορίες / επίπεδα που κάθε χορευτής μπορεί να δηλώσει συμμετοχή. Η πρώτη κατηγορία ονομάζεται C Class και αποτελεί το πρώτο επίπεδο από το οποίο ένας νέος χορευτής μπορεί να ξεκινήσει την συμμετοχή του σε διαγωνισμούς. Οι συμμετέχοντες στη κατηγορία C Class διαγωνίζονται σε χορογραφία που έχουν ορίσει τα Boogie Woogie Clubs της Ελλάδος.\nΔηλώσεις συμμετοχών πραγματοποιούνται μέσω των ομάδων χορού Boogie Woogie.\nΚριτές του διαγωνισμού αυτού θα είναι οι διακεκριμένοι αθλητές και προπονητές του αθλητικού χορού Boogie Woogie από Ιταλία Marco & Francesca.\nΠερισσότερες πληροφορίες για τους όρους του διαγωνισμού μπορείτε να βρείτε στο έντυπο “Boogie Cup Regulations”
URL:https://jumpnjive.gr/event/the-boogie-cup-april-2025/
LOCATION:Athens
CATEGORIES:Jump & Jive Events
ATTACH;FMTTYPE=image/jpeg:https://jumpnjive.gr/wp-content/uploads/2025/03/boogie-cup-fb-cover.jpg
ORGANIZER;CN="Jump & Jive - Athens Swing Team":MAILTO:jumpnjive@gmail.com
END:VEVENT
END:VCALENDAR