BEGIN:VCALENDAR
VERSION:2.0
PRODID:-//Jump &amp; Jive - Athens Swing Team - ECPv6.6.3//NONSGML v1.0//EN
CALSCALE:GREGORIAN
METHOD:PUBLISH
X-ORIGINAL-URL:https://jumpnjive.gr
X-WR-CALDESC:Jump &amp; Jive - Athens Swing Team - Εκδηλώσεις
REFRESH-INTERVAL;VALUE=DURATION:PT1H
X-Robots-Tag:noindex
X-PUBLISHED-TTL:PT1H
BEGIN:VTIMEZONE
TZID:Europe/Athens
BEGIN:DAYLIGHT
TZOFFSETFROM:+0200
TZOFFSETTO:+0300
TZNAME:EEST
DTSTART:20190331T010000
END:DAYLIGHT
BEGIN:STANDARD
TZOFFSETFROM:+0300
TZOFFSETTO:+0200
TZNAME:EET
DTSTART:20191027T010000
END:STANDARD
END:VTIMEZONE
BEGIN:VEVENT
DTSTART;TZID=Europe/Athens:20190104T080000
DTEND;TZID=Europe/Athens:20190104T170000
DTSTAMP:20260424T092213
CREATED:20181217T114937Z
LAST-MODIFIED:20181217T115005Z
UID:9442-1546588800-1546621200@jumpnjive.gr
SUMMARY:New Year's Good Rocking Tonight - Swing & RnR Dance Party
DESCRIPTION:Good Rockin Tonight στο Blue Fox!!!!\nΤρελή εορταστική Παρασκευή με τον νέο χρόνο στο αγαπημένο μας… μπλε Blue Fox για πολύ Swing\, R’n’R\, Blues & Rockabilly!!! \nΣας περιμένουμε από τις 22.00! \nH πρώτη ώρα θα είναι beginner’s hour (22.00 – 23.00) \, που σημαίνει\, μουσικές σε αργό τέμπο για φουλ εξάσκηση από νέους και παλαιότερους χορευτές! \n#beginnershour #jumpnjive #δεγινεταιαλλιως \nvideo credits: Thanos Fotakopoulos \nΘα εκτιμηθεί ιδιαίτερα το κάπνισμα εκτός του μαγαζιού 😉 #thankyou\n#dancedancedance \nJoin us\,\nJump n Jive – Athens Swing Team\nBlue Fox Bar\nAsklhpiou 91\nΕίσοδος Ελεύθερη
URL:https://jumpnjive.gr/event/new-years-good-rocking-tonight-swing-rnr-dance-party/
LOCATION:Blue Fox Bar\, Asklhpiou 91\, Athens\, Attica\, 11472\, Greece
CATEGORIES:Jump & Jive Events
ORGANIZER;CN="Jump & Jive - Athens Swing Team":MAILTO:jumpnjive@gmail.com
END:VEVENT
BEGIN:VEVENT
DTSTART;TZID=Europe/Athens:20190124T200000
DTEND;TZID=Europe/Athens:20190124T200000
DTSTAMP:20260424T092213
CREATED:20180903T203429Z
LAST-MODIFIED:20190114T121727Z
UID:9273-1548360000-1548360000@jumpnjive.gr
SUMMARY:Νέο τμήμα Swing - Lindy Hop & Free Taster
DESCRIPTION:Ξεκινάμε δυναμικά τη νέα σεζόν! Δοκιμαστικό Μάθημα και Νέος κύκλος μαθημάτων Swing – Lindy Hop από την το Σάββατο 22/09 και κάθε Σάββατο στις 12.00! \nΟι εγγραφές για το τμήμα θα ανοίξουν το Σάββατο 08/09 και ώρα 18.00!Ξεκινάμε δυναμικά με τη νέα χρονιά! Δοκιμαστικό Μάθημα και Νέος κύκλος μαθημάτων Swing – Lindy Hop από την Πέμπτη 24/01 και κάθε Πέμπτη στις 20.00! \nΟι εγγραφές για το τμήμα θα ανοίξουν το Σάββατο 12/01 και ώρα 18.00! \nΔήλωσε συμμετοχή για το δοκιμαστικό μάθημα συμπληρώνοντας τα στοιχεία σου στην φόρμα αφού ανοίξουν οι δηλώσεις! \nhttps://goo.gl/forms/wskoHhuautGUkElb2 \nΘα λάβεις email επιβεβαίωσης σύντομα με όλες τις λεπτομέρειες!\nΟι θέσεις είναι περιορισμένες\, θα τηρηθεί σειρά προτεραιότητας. \n*Τα καινούρια τμήματα Αρχαρίων έχουν πάντα μεγάλη συμμετοχή γι’ αυτό μην καθυστερείς την εγγραφή σου!\n**Επειδή το swing χορεύεται σε ζευγάρια προσπαθούμε να διατηρήσουμε καλή ισορροπία μεταξύ leaders (καβαλιέρους) & followers (ντάμες) στα μαθήματα. Αυτό σημαίνει πως αν έχεις κάποιο φίλο που ενδιαφέρεται καλό θα ήταν να έρθετε μαζί. Κατά την διάρκεια του μαθήματος αλλάζουμε συνεχώς ζευγάρι. ***Η εγγραφή σας με καβαλιέρο σας εξασφαλίζει προτεραιότητα!
URL:https://jumpnjive.gr/event/%ce%bd%ce%ad%ce%bf-%cf%84%ce%bc%ce%ae%ce%bc%ce%b1-swing-lindy-hop-free-taster/
LOCATION:Jump & Jive – Athens Swing Team\, Zan moreas 1\, Koukaki\, Athens\, 11741
CATEGORIES:Jump & Jive Events
ATTACH;FMTTYPE=image/png:https://jumpnjive.gr/wp-content/uploads/2018/09/lh-jan-copy.png
ORGANIZER;CN="Jump & Jive - Athens Swing Team":MAILTO:jumpnjive@gmail.com
END:VEVENT
BEGIN:VEVENT
DTSTART;TZID=Europe/Athens:20190126T220000
DTEND;TZID=Europe/Athens:20190127T030000
DTSTAMP:20260424T092213
CREATED:20190114T122532Z
LAST-MODIFIED:20190114T122948Z
UID:9458-1548540000-1548558000@jumpnjive.gr
SUMMARY:Jump\, Swing & Shout at Panormou *Cut Vasilis Pie*
DESCRIPTION:Λίγο πριν βγεί ο Ιανουάριος εμείς κόβουμε την πίτα μας για το 2019!! Ο τυχερός…. κερδίζει την αγάπη μας\, ένα μπλουζάκι JnJ και…. ένα free pass για τα μαθήματα του μήνα Φεβρουαρίου! Έλα να… φάμε βασιλόπιτα και να χορέψουμε μέχρι τελικής πτώσης! #21K9 #βασιλοπιτα #φλουρι#τυχερος #τυχερη #bethere #jnj #jumpnjive \n#cutvasilispie \n\nΦύγαμε για πάρτυ!\nNέος χώρος\, νέο -τέλειο!- παρκέ \,νέα σεζόν και η νέα χρονιά που θα … πλησιάζει! 😉\nΣτις μουσικές η DJ Elena Evangelia\nΣας περιμένουμε να χορεψουμε στο υπέροχο\, νέο Warehouse 35\, ένα bar με άποψη\, ωραίο χώρο για χορό\, vintage αισθητική και καλά προιόντα. \nΤι λέτε λοιπόν?\nΧορεύουμε? 😉 \nΛίγα λόγια για τους Jump n Jive \nΟι Jump & Jive – Athens Swing Dance Team είμαστε μία μεγάλη χορευτική οικογένεια που δημιουργήθηκε με σκοπό τη διάδοση των αυθεντικών Swing χορών\, που αναπτύχθηκαν τις δεκαετίες ’20-’50 στην Αμερική. Η φαμίλια μας απαρτίζεται από μικρούς (από 3\,5 ετών) & μεγάλους χορευτές!!! Ζούμε\, χορεύουμε\, διδάσκουμε και εξελισσόμαστε σε μιαν άλλη εποχή\, στις δεκαετίες από το ’20 ως το ’50! Χορεύουμε από Charleston & Lindy hop\, Balboa & Shag\, μέχρι Rock n Roll & Boogie Woogie!! Έχουμε το σπίτι μας στο Κουκάκι αλλά & στο Π. Φάληρο & παρέχουμε μαθήματα 6 μέρες την εβδομάδα!! Από Δευτέρα ως Σάββατο\, για κάθε ηλικίας swing kids!!! Βρείτε το εβδομαδιαίο πρόγραμμά μας στο… μενού(!) της σελίδάς μας & ακολουθήστε μας για να ενημερώνεστε για τους νέους κύκλους μαθημάτων\, τα σεμινάρια και τα event που οργανώνουμε καθημερινά. 🙂 \nwww.jumpnjive.gr \nΕίσοδος Ελεύθερη\nΣάββατο 26/01 22.00\nΑλέξη Παυλή 35\nΑμπελόκηποι\nΣτάση Πανόρμου\nΤΚ. 11524 \nΥΓ. Η κουζίνα του Warehouse είναι επίσης εξαιρετική και λειτουργεί ως τις 00.00!
URL:https://jumpnjive.gr/event/jump-swing-shout-at-panormou-cut-vasilis-pie/
LOCATION:Warehouse 35\, Alexi Pavli 35\, Athens\, Attica\, 11524\, Greece
CATEGORIES:Jump & Jive Events
ATTACH;FMTTYPE=image/jpeg:https://jumpnjive.gr/wp-content/uploads/2019/01/cut-vasilis-pie.jpg
ORGANIZER;CN="Jump & Jive - Athens Swing Team":MAILTO:jumpnjive@gmail.com
END:VEVENT
END:VCALENDAR