BEGIN:VCALENDAR
VERSION:2.0
PRODID:-//Jump &amp; Jive - Athens Swing Team - ECPv6.6.3//NONSGML v1.0//EN
CALSCALE:GREGORIAN
METHOD:PUBLISH
X-ORIGINAL-URL:https://jumpnjive.gr
X-WR-CALDESC:Jump &amp; Jive - Athens Swing Team - Εκδηλώσεις
REFRESH-INTERVAL;VALUE=DURATION:PT1H
X-Robots-Tag:noindex
X-PUBLISHED-TTL:PT1H
BEGIN:VTIMEZONE
TZID:Europe/Athens
BEGIN:DAYLIGHT
TZOFFSETFROM:+0200
TZOFFSETTO:+0300
TZNAME:EEST
DTSTART:20200329T010000
END:DAYLIGHT
BEGIN:STANDARD
TZOFFSETFROM:+0300
TZOFFSETTO:+0200
TZNAME:EET
DTSTART:20201025T010000
END:STANDARD
END:VTIMEZONE
BEGIN:VEVENT
DTSTART;TZID=Europe/Athens:20200917T200000
DTEND;TZID=Europe/Athens:20200917T210000
DTSTAMP:20260423T011903
CREATED:20200823T160718Z
LAST-MODIFIED:20200915T080439Z
UID:9699-1600372800-1600376400@jumpnjive.gr
SUMMARY:Swing - Lindy Hop | Νέο τμήμα + Free Taster
DESCRIPTION:Έλα και εσύ στη παρέα μας! Δοκιμαστικό Μάθημα και Νέος κύκλος μαθημάτων Swing – Lindy Hop από την Πέμπτη 10/09 και κάθε Πέμπτη στις 20:00!\nΟι εγγραφές για το τμήμα θα ανοίξουν την Kυριακή 30/08 στις 18.00!\nΔήλωσε συμμετοχή συμπληρώνοντας τα στοιχεία σου στην φόρμα αφού ανοίξουν οι δηλώσεις!\nhttps://forms.gle/bCZ31WwusGxjjpsX9\nΘα λάβεις email επιβεβαίωσης σύντομα με όλες τις λεπτομέρειες!\nΟι θέσεις είναι περιορισμένες\, θα τηρηθεί σειρά προτεραιότητας.\n*Τα καινούρια τμήματα Αρχαρίων έχουν πάντα μεγάλη συμμετοχή γι’ αυτό μην καθυστερείς την εγγραφή σου!\n**Επειδή το swing χορεύεται σε ζευγάρια προσπαθούμε να διατηρήσουμε καλή ισορροπία μεταξύ leaders(καβαλιέρους) & followers(ντάμες) στα μαθήματα. Αυτό σημαίνει πως αν έχεις κάποιο φίλο που ενδιαφέρεται καλό θα ήταν να έρθετε μαζί.\n*** Τηρούμε όλους τους κανόνες υγιείνής και σου ζητάμε να κάνεις το ίδιο για την ασφάλεια όλων μας.\n**** Όλα τα μαθήματα θα αναμεταδίδονται live μέσω της πλατφόρμας Zoom. Αν θέλεις να τα παρακολουθήσεις online μπορείς να δηλώσεις συμμετοχή γράφοντάς το στα σχόλια της φόρμας.\n\nΖαν Μωρεάς 1 & Ζαχαρίτσα 49\nΚουκάκι\, Αθήνα.\nτηλ. επικοινωνίας 215 5509 747\n& 6948462754
URL:https://jumpnjive.gr/event/%ce%bd%ce%ad%ce%bf-%cf%84%ce%bc%ce%ae%ce%bc%ce%b1-swing-lindy-hop-free-taster-2/
LOCATION:Jump & Jive – Athens Swing Team\, Zan moreas 1\, Koukaki\, Athens\, 11741
CATEGORIES:Jump & Jive Events
ATTACH;FMTTYPE=image/png:https://jumpnjive.gr/wp-content/uploads/2020/08/lindy-hop-cover.png
ORGANIZER;CN="Jump & Jive - Athens Swing Team":MAILTO:jumpnjive@gmail.com
END:VEVENT
END:VCALENDAR