BEGIN:VCALENDAR
VERSION:2.0
PRODID:-//Jump &amp; Jive - Athens Swing Team - ECPv6.6.3//NONSGML v1.0//EN
CALSCALE:GREGORIAN
METHOD:PUBLISH
X-ORIGINAL-URL:https://jumpnjive.gr
X-WR-CALDESC:Jump &amp; Jive - Athens Swing Team - Εκδηλώσεις
REFRESH-INTERVAL;VALUE=DURATION:PT1H
X-Robots-Tag:noindex
X-PUBLISHED-TTL:PT1H
BEGIN:VTIMEZONE
TZID:Europe/Athens
BEGIN:DAYLIGHT
TZOFFSETFROM:+0200
TZOFFSETTO:+0300
TZNAME:EEST
DTSTART:20210328T010000
END:DAYLIGHT
BEGIN:STANDARD
TZOFFSETFROM:+0300
TZOFFSETTO:+0200
TZNAME:EET
DTSTART:20211031T010000
END:STANDARD
END:VTIMEZONE
BEGIN:VEVENT
DTSTART;TZID=Europe/Athens:20210907T170000
DTEND;TZID=Europe/Athens:20210907T180000
DTSTAMP:20260422T063542
CREATED:20210811T141423Z
LAST-MODIFIED:20210811T141423Z
UID:9769-1631034000-1631037600@jumpnjive.gr
SUMMARY:Teens Νέο τμήμα - Shuffle Beginners
DESCRIPTION:Νέο τμήμα για εφήβους Shuffle Dance!\nΤο μάθημα αυτό απευθύνεται σε όσους έχουν μικρή ή και καθόλου εμπειρία στο χορό.\nΤο Shuffle dance είναι το χορευτικο στυλ το οποίο γεννήθηκε στη club κουλτούρα της Μελβούρνης στα 80s.\nH δημιουργία του αποδίδεται – όπως και του Hip Hop- στους Αφροαμερικανούς και στα πρώιμα είδη χορού\, Jazz\, Tap κτλ.\, από τα οποια ενσωματωθηκαν βήματα\, ενέργεις και κινησεις από τη δική τους χορευτική ιστορία.\nΈγινε πολύ δημοφιλές στο Λονδίνο και στις μέρες μας χορεύεται φανατικά παγκοσμίως.\nΕίναι ένας χορός κατά βάση αυτοσχεδιαστικός\, ο οποίος δίνει έμφαση σε γρήγορα και περίπλοκα βήματα με τα πόδια.\nΕμείς θα ξεκινήσουμε μαθαίνοντας τις βασικές κινήσεις και φιγούρες και θα προσεγγίσουμε τον αυτοσχεδιασμό.\nH μουσική θα ειναι Electro Swing και House!\nMη διστάσεις να έρθεις για ένα δοκιμαστικό μάθημα.\nΔήλωσε συμμετοχή για το δοκιμαστικό μάθημα συμπληρώνοντας τα στοιχεία σου στη φόρμα και θα λάβεις email επιβεβαίωσης σύντομα με όλες τις λεπτομέρειες!\nhttps://forms.gle/7o3FXua9QW5TmTsW8\n*To τμήμα ενδέχεται να μη δημιουργηθεί αν δεν συμπληρωθεί ο απαραίτητος αριθμός συμμετοχών.\n**Τηρούμε όλους τους κανόνες υγιείνής και σου ζητάμε να κάνεις το ίδιο για την ασφάλεια όλων μας.\nΦοράμε μάσκα όσο δεν χορεύουμε\, κρατάμε αποστάσεις και χρησιμοποιούμε συχνά αντισηπτικό.\nΔιδάσκει η Elena Evangelia\nTρίτη – Πέμπτη 17:00-18:00\nΑγγελίδου 19\, Παλαιό Φάληρο\nτηλ. επικοινωνίας 2118000474\n& 6948462754\nΑκολούθησέ μας στο @shuffledanceathens στο instagram
URL:https://jumpnjive.gr/event/teens-%ce%bd%ce%ad%ce%bf-%cf%84%ce%bc%ce%ae%ce%bc%ce%b1-shuffle-beginners/
LOCATION:Newton Sports\, Αγγελίδου 19\, Παλαιό Φάληρο\, Αττική\, 17561\, Ελλάδα
CATEGORIES:Jump & Jive Events
ORGANIZER;CN="Jump & Jive - Athens Swing Team":MAILTO:jumpnjive@gmail.com
END:VEVENT
BEGIN:VEVENT
DTSTART;TZID=Europe/Athens:20210913T200000
DTEND;TZID=Europe/Athens:20210913T210000
DTSTAMP:20260422T063542
CREATED:20210811T140131Z
LAST-MODIFIED:20210902T080734Z
UID:9763-1631563200-1631566800@jumpnjive.gr
SUMMARY:Νέο τμήμα - Shuffle Beginners
DESCRIPTION:Νέο τμήμα αρχαρίων Shuffle!\nΤο μάθημα αυτό απευθύνεται σε όσους έχουν μικρή ή και καθόλου εμπειρία στο χορό.\nΤο Shuffle dance είναι το χορευτικο στυλ το οποίο γεννήθηκε στη club κουλτούρα της Μελβούρνης στα 80s.\nH δημιουργία του αποδίδεται – όπως και του Hip Hop- στους Αφροαμερικανούς και στα πρώιμα είδη χορού\, Jazz\, Tap κτλ.\, από τα οποια ενσωματωθηκαν βήματα\, ενέργεις και κινησεις από τη δική τους χορευτική ιστορία.\nΈγινε πολύ δημοφιλές στο Λονδίνο και στις μέρες μας χορεύεται φανατικά παγκοσμίως.\nΕίναι ένας χορός κατά βάση αυτοσχεδιαστικός\, ο οποίος δίνει έμφαση σε γρήγορα και περίπλοκα βήματα με τα πόδια.\nΕμείς θα ξεκινήσουμε μαθαίνοντας τις βασικές κινήσεις και φιγούρες και θα προσεγγίσουμε τον αυτοσχεδιασμό.\nH μουσική θα ειναι Electro Swing και House!\n\nMη διστάσεις να έρθεις για ένα δοκιμαστικό μάθημα. \nΔήλωσε συμμετοχή για το δοκιμαστικό μάθημα συμπληρώνοντας τα στοιχεία σου στη φόρμα και θα λάβεις email επιβεβαίωσης σύντομα με όλες τις λεπτομέρειες! \n\n\nhttps://forms.gle/5U8Ky85r1ZDFqEnL6 \n\n*To τμήμα ενδέχεται να μη δημιουργηθεί αν δεν συμπληρωθεί ο απαραίτητος αριθμός συμμετοχών.\n**Τηρούμε όλους τους κανόνες υγιείνής και σου ζητάμε να κάνεις το ίδιο για την ασφάλεια όλων μας.\nΦοράμε μάσκα όσο δεν χορεύουμε\, κρατάμε αποστάσεις και χρησιμοποιούμε συχνά αντισηπτικό.\nΔιδάσκει η Elena Evangelia\nΔευτέρες 20.00-21.00\nΖαν Μωρεάς 1\nΚουκάκι\, Αθήνα.\nτηλ. επικοινωνίας 2155509747\n& 6948462754\nΑκολούθησέ μας στο @shuffledanceathens στο instagram.
URL:https://jumpnjive.gr/event/%ce%bd%ce%ad%ce%bf-%cf%84%ce%bc%ce%ae%ce%bc%ce%b1-shuffle-beginners/
LOCATION:Jump & Jive – Athens Swing Team\, Zan moreas 1\, Koukaki\, Athens\, 11741
CATEGORIES:Jump & Jive Events
ATTACH;FMTTYPE=image/jpeg:https://jumpnjive.gr/wp-content/uploads/2021/08/Shuffle-cover-2021-2-scaled.jpg
ORGANIZER;CN="Jump & Jive - Athens Swing Team":MAILTO:jumpnjive@gmail.com
END:VEVENT
BEGIN:VEVENT
DTSTART;TZID=Europe/Athens:20210916T200000
DTEND;TZID=Europe/Athens:20210916T200000
DTSTAMP:20260422T063542
CREATED:20210811T134559Z
LAST-MODIFIED:20210811T134559Z
UID:9756-1631822400-1631822400@jumpnjive.gr
SUMMARY:Νέο τμήμα Αρχαρίων - Lindy Hop Swing
DESCRIPTION:Έλα και εσύ στη παρέα μας! Δοκιμαστικό Μάθημα και Νέος κύκλος μαθημάτων Swing – Lindy Hop από την Πέμπτη 16/09 και κάθε Πέμπτη στις 20:00!\nΟι εγγραφές για το τμήμα θα ανοίξουν τη Δευτέρα 30/08 στις 18.00!\nΔήλωσε συμμετοχή συμπληρώνοντας τα στοιχεία σου στην φόρμα όταν ανοίξουν οι εγγραφές! \n\nhttps://forms.gle/MTLGEJJMSXQCsamR7 \n\nΘα λάβεις email επιβεβαίωσης σύντομα με όλες τις λεπτομέρειες!\nΟι θέσεις είναι περιορισμένες\, θα τηρηθεί σειρά προτεραιότητας. \n\n*Τα καινούρια τμήματα Αρχαρίων έχουν πάντα μεγάλη συμμετοχή γι’ αυτό μην καθυστερείς την εγγραφή σου!\n**Επειδή το swing χορεύεται σε ζευγάρια προσπαθούμε να διατηρήσουμε καλή ισορροπία μεταξύ leaders(καβαλιέρους) & followers(ντάμες) στα μαθήματα. Αυτό σημαίνει πως αν έχεις κάποιο φίλο που ενδιαφέρεται καλό θα ήταν να έρθετε μαζί.\n*** Τηρούμε όλους τους κανόνες υγιείνής και σου ζητάμε να κάνεις το ίδιο για την ασφάλεια όλων μας.\n**** Όλα τα μαθήματα θα αναμεταδίδονται live μέσω της πλατφόρμας Zoom. Αν θέλεις να τα παρακολουθήσεις online μπορείς να δηλώσεις συμμετοχή γράφοντάς το στα σχόλια της φόρμας. \n\nΖαν Μωρεάς 1 & Ζαχαρίτσα 49\nΚουκάκι\, Αθήνα.\nτηλ. επικοινωνίας 215 5509 747\n& 6948462754
URL:https://jumpnjive.gr/event/%ce%bd%ce%ad%ce%bf-%cf%84%ce%bc%ce%ae%ce%bc%ce%b1-%ce%b1%cf%81%cf%87%ce%b1%cf%81%ce%af%cf%89%ce%bd-lindy-hop-swing/
LOCATION:Jump & Jive – Athens Swing Team\, Zan moreas 1\, Koukaki\, Athens\, 11741
CATEGORIES:Jump & Jive Events
ATTACH;FMTTYPE=image/jpeg:https://jumpnjive.gr/wp-content/uploads/2021/08/covers-2021-lh-scaled.jpg
ORGANIZER;CN="Jump & Jive - Athens Swing Team":MAILTO:jumpnjive@gmail.com
END:VEVENT
BEGIN:VEVENT
DTSTART;TZID=Europe/Athens:20210918T110000
DTEND;TZID=Europe/Athens:20210918T120000
DTSTAMP:20260422T063542
CREATED:20210915T124400Z
LAST-MODIFIED:20210915T124400Z
UID:9792-1631962800-1631966400@jumpnjive.gr
SUMMARY:Νέο τμήμα - Shuffle Beginners
DESCRIPTION:Επιστρέφουμε με όρεξη στα μαθήματά μας! Νέο τμήμα αρχαρίων Shuffle!\nΤο μάθημα αυτό απευθύνεται σε όσους έχουν μικρή ή και καθόλου εμπειρία στο χορό. \nΤο Shuffle dance είναι το χορευτικο στυλ το οποίο γεννήθηκε στη club κουλτούρα της Μελβούρνης στα 80s.\nH δημιουργία του αποδίδεται – όπως και του Hip Hop- στους Αφροαμερικανούς και στα πρώιμα είδη χορού\, Jazz\, Tap κτλ.\, από τα οποια ενσωματωθηκαν βήματα\, ενέργεις και κινησεις από τη δική τους χορευτική ιστορία. \nΈγινε πολύ δημοφιλές στο Λονδίνο και στις μέρες μας χορεύεται φανατικά παγκοσμίως.\nΕίναι ένας χορός κατά βάση αυτοσχεδιαστικός\, ο οποίος δίνει έμφαση σε γρήγορα και περίπλοκα βήματα με τα πόδια.\nΕμείς θα ξεκινήσουμε μαθαίνοντας τις βασικές κινήσεις και φιγούρες και θα προσεγγίσουμε τον αυτοσχεδιασμό.\nH μουσική θα ειναι Electro Swing και House! \nMη διστάσεις να έρθεις για ένα δοκιμαστικό μάθημα.\nΔήλωσε συμμετοχή για το δοκιμαστικό μάθημα συμπληρώνοντας τα στοιχεία σου στη φόρμα και θα λάβεις email επιβεβαίωσης σύντομα με όλες τις λεπτομέρειες! \n* To τμήμα ενδέχεται να μη δημιουργηθεί αν δεν συμπληρωθεί ο απαραίτητος αριθμός συμμετοχών.\n** Τηρούμε όλους τους κανόνες υγιείνής και σου ζητάμε να κάνεις το ίδιο για την ασφάλεια όλων μας.\nΦοράμε μάσκα όσο δεν χορεύουμε\, κρατάμε αποστάσεις και χρησιμοποιούμε συχνά αντισηπτικό. \nΔιδάσκει η Elena Evangelia\nΣάββατα 11.00-12.00 Κουκάκι\, Αθήνα. \nτηλ. επικοινωνίας 6948462754 \nΑκολούθησέ μας στο @shuffledanceathens στο instagram.
URL:https://jumpnjive.gr/event/%ce%bd%ce%ad%ce%bf-%cf%84%ce%bc%ce%ae%ce%bc%ce%b1-shuffle-beginners-2/
LOCATION:Jump & Jive – Athens Swing Team\, Zan moreas 1\, Koukaki\, Athens\, 11741
CATEGORIES:Jump & Jive Events
ATTACH;FMTTYPE=image/jpeg:https://jumpnjive.gr/wp-content/uploads/2021/08/Shuffle-cover-2021-2-scaled.jpg
ORGANIZER;CN="Jump & Jive - Athens Swing Team":MAILTO:jumpnjive@gmail.com
END:VEVENT
END:VCALENDAR