BEGIN:VCALENDAR
VERSION:2.0
PRODID:-//Jump &amp; Jive - Athens Swing Team - ECPv6.6.3//NONSGML v1.0//EN
CALSCALE:GREGORIAN
METHOD:PUBLISH
X-WR-CALNAME:Jump &amp; Jive - Athens Swing Team
X-ORIGINAL-URL:https://jumpnjive.gr
X-WR-CALDESC:Jump &amp; Jive - Athens Swing Team - Εκδηλώσεις
REFRESH-INTERVAL;VALUE=DURATION:PT1H
X-Robots-Tag:noindex
X-PUBLISHED-TTL:PT1H
BEGIN:VTIMEZONE
TZID:Europe/Athens
BEGIN:DAYLIGHT
TZOFFSETFROM:+0200
TZOFFSETTO:+0300
TZNAME:EEST
DTSTART:20220327T010000
END:DAYLIGHT
BEGIN:STANDARD
TZOFFSETFROM:+0300
TZOFFSETTO:+0200
TZNAME:EET
DTSTART:20221030T010000
END:STANDARD
END:VTIMEZONE
BEGIN:VEVENT
DTSTART;TZID=Europe/Athens:20220912T190000
DTEND;TZID=Europe/Athens:20220912T200000
DTSTAMP:20260421T115307
CREATED:20210811T140429Z
LAST-MODIFIED:20220912T140715Z
UID:9766-1663009200-1663012800@jumpnjive.gr
SUMMARY:Νέο Τμήμα - Authentic Jazz 101
DESCRIPTION:Το μάθημα αυτό απευθύνεται σε όσους έχουν μικρή ή και καθόλου εμπειρία στο χορό.\nΣτόχος μας\, να κάνουμε τα πρώτα βήματά μας στη jazz & το swing\, ενεργοποιώντας το σώμα και τη διάθεσή μας!\n\nΈλα να μάθουμε τις πιο κλασσικές κινήσεις Jazz που γνωρίζουν όλοι οι Lindy hoppers ανα τον κόσμο\, μέσα από μικρές χορογραφίες και παιχνίδι με τη μουσική και το ρυθμό! To μάθημα αυτό θα σε βοηθήσει να χορέψεις πιο γρήγορα Lindy Hop Swing σε ζευγάρι. \nΤα μαθήματα θα διαρκούν 60 λεπτά και θα γίνονται δια ζώσης στη σχολή μας στο Κουκάκι.\nMη διστάσεις να έρθεις για ένα δοκιμαστικό μάθημα!\nΔήλωσε συμμετοχή για το δοκιμαστικό μάθημα συμπληρώνοντας τα στοιχεία σου στη φόρμα από τις 20 Αυγούστου. \n\n\nhttps://forms.gle/YmM1Z2xzG8RAJz4s5 \n\n\nΘα λάβεις email επιβεβαίωσης σύντομα με όλες τις λεπτομέρειες! \n**Τηρούμε όλους τους κανόνες υγιείνής και σου ζητάμε να κάνεις το ίδιο για την ασφάλεια όλων μας.\nΦοράμε μάσκα όσο δεν χορεύουμε\, κρατάμε αποστάσεις και χρησιμοποιούμε συχνά αντισηπτικό. \n\nΖαν Μωρέας 1\nΚουκάκι\, Αθήνα.\nτηλ. επικοινωνίας 6948462754\n\n— \n\nΛίγα λόγια για το χορό Jazz\nΤο Authentic Jazz ή Solo Jazz είναι ένα είδος χορού με αφροαμερικάνικες ρίζες που αναπτύχθηκε πάνω στη jazz και blues μουσική. Οι απαρχές του βρίσκονται κάπου στο 1800 (cakewalk)\, φτάνοντας στην ακμή του τις δεκαετίες 20΄-40’ (Black Bottom\, Charleston). Στην πορεία επηρέασε και άλλα χορευτικά είδη όπως modern jazz\, hip hop κ.α.\nEίναι ένας πολύ διασκεδαστικός χορός που χορεύεται είτε ελεύθερα\, επιτρέποντας τον αυτοσχεδιασμό\, είτε με κλασικές χορογραφίες όπως το Shim Sham\, το Tranky Doo\, το Big Apple κ.α. Θα σε βοηθήσει να κατανοήσεις καλύτερα το ρυθμό και θα εξελίξει τη μουσικότητα και το στυλ σου\, στοιχεία που θα σε βοηθήσουν χορεύοντας και με το ζευγάρι σου.
URL:https://jumpnjive.gr/event/%ce%bd%ce%ad%ce%bf-%cf%84%ce%bc%ce%ae%ce%bc%ce%b1-%ce%b1%cf%81%cf%87%ce%b1%cf%81%ce%af%cf%89%ce%bd-authentic-jazz-101/
LOCATION:Jump & Jive – Athens Swing Team\, Zan moreas 1\, Koukaki\, Athens\, 11741
CATEGORIES:Jump & Jive Events
ATTACH;FMTTYPE=image/png:https://jumpnjive.gr/wp-content/uploads/2021/08/Jazz-101-Sept-2022.png
ORGANIZER;CN="Jump & Jive - Athens Swing Team":MAILTO:jumpnjive@gmail.com
END:VEVENT
BEGIN:VEVENT
DTSTART;TZID=Europe/Athens:20220913T190000
DTEND;TZID=Europe/Athens:20220913T200000
DTSTAMP:20260421T115307
CREATED:20220720T103043Z
LAST-MODIFIED:20220912T140659Z
UID:10176-1663095600-1663099200@jumpnjive.gr
SUMMARY:Νέο τμήμα - Jazz & Shuffle Kids
DESCRIPTION:Νέο τμήμα για εφήβους Jazz & Shuffle Dance!\nΤο μάθημα αυτό απευθύνεται σε όσους έχουν μικρή ή και καθόλου εμπειρία στο χορό.Το Authentic Jazz ή Solo Jazz είναι ένα είδος χορού με αφροαμερικάνικες ρίζες που αναπτύχθηκε πάνω στη jazz και blues μουσική. Οι απαρχές του βρίσκονται κάπου στο 1800 (cakewalk)\, φτάνοντας στην ακμή του τις δεκαετίες 20΄-40’ (Black Bottom\, Charleston). Στην πορεία επηρέασε και άλλα χορευτικά είδη όπως modern jazz\, hip hop\, house\, shuffle κ.α.\nEίναι ένας πολύ διασκεδαστικός χορός που χορεύεται ελεύθερα επιτρέποντας τον αυτοσχεδιασμό ή και σε χορογραφίες. Ελάτε να μάθουμε εντυπωσιακά βήματα\, πολυρυθμίες και ρυθμικά πατερνς καθώς και την επικοινωνία μέσω του σώματος. \n\nΤο Shuffle dance είναι το χορευτικο στυλ το οποίο γεννήθηκε στη club κουλτούρα της Μελβούρνης στα 80s.\nH δημιουργία του αποδίδεται – όπως και του Hip Hop- στους Αφροαμερικανούς και στα πρώιμα είδη χορού\, Jazz\, Tap κτλ.\, από τα οποια ενσωματωθηκαν βήματα\, ενέργεις και κινησεις από τη δική τους χορευτική ιστορία.\nΈγινε πολύ δημοφιλές στο Λονδίνο και στις μέρες μας χορεύεται φανατικά παγκοσμίως.\nΕίναι ένας χορός κατά βάση αυτοσχεδιαστικός\, ο οποίος δίνει έμφαση σε γρήγορα και περίπλοκα βήματα με τα πόδια.\nΕμείς θα ξεκινήσουμε μαθαίνοντας τις βασικές κινήσεις και φιγούρες και θα προσεγγίσουμε τον αυτοσχεδιασμό.\nH μουσική θα ειναι Electro Swing και House!\n\nMη διστάσεις να έρθεις για ένα δοκιμαστικό μάθημα. \n\n*Τηρούμε όλους τους κανόνες υγιείνής και σου ζητάμε να κάνεις το ίδιο για την ασφάλεια όλων μας.\nΦοράμε μάσκα όσο δεν χορεύουμε\, κρατάμε αποστάσεις και χρησιμοποιούμε συχνά αντισηπτικό.\nΔιδάσκει η Elena Evangelia\nTρίτη – Πέμπτη 19:00-20:00\nΑγγελίδου 19\, Παλαιό Φάληρο\nτηλ. επικοινωνίας\n6948462754\nΑκολούθησέ μας στο @shuffledanceathens στο instagram.
URL:https://jumpnjive.gr/event/%ce%bd%ce%ad%ce%bf-%cf%84%ce%bc%ce%ae%ce%bc%ce%b1-jazz-kids/
LOCATION:Newton Sports\, Αγγελίδου 19\, Παλαιό Φάληρο\, Αττική\, 17561\, Ελλάδα
CATEGORIES:Jump & Jive Events
ATTACH;FMTTYPE=image/png:https://jumpnjive.gr/wp-content/uploads/2022/07/New-Tracks-101-Covers-2.png
ORGANIZER;CN="Jump & Jive - Athens Swing Team":MAILTO:jumpnjive@gmail.com
END:VEVENT
BEGIN:VEVENT
DTSTART;TZID=Europe/Athens:20220917T120000
DTEND;TZID=Europe/Athens:20220917T130000
DTSTAMP:20260421T115307
CREATED:20220720T102530Z
LAST-MODIFIED:20220912T140634Z
UID:10173-1663416000-1663419600@jumpnjive.gr
SUMMARY:Νέο τμήμα Δημιουργικού Χορού και Μπαλέτου
DESCRIPTION:Δημιουργικός Χορός για toddlers και παιδιά!\nΤα παιδικά μας τμήματα λειτουργούν 2 φορές την εβδομάδα και διδάσκονται σε αυτά οι χοροί του κόσμου\, με ιδιαίτερη έμφαση στo αγαπημένο μας Μπαλέτο\, τον αυτοσχεδιασμό και το παιχνίδι!\nΤμήματα:\nCreative Dance Babies\nMommy & Me\nΣάββατο 12.00 – 13.00\nΑπευθύνεται σε αγόρια και κορίτσια από 2\,5 ετών.\nCreative Dance Pre School\nΔημιουργία και Φαντασία (Ballet)\nΔευτέρα 17.00 – 18.00 και Τετάρτη 17.00 – 18.00\nΑπευθύνεται σε αγόρια και κορίτσια από 4 ετών.\n\nΠαιδικό τμήμα Ballet και Contemporary Jazz\nΔευτέρα 18.00 – 19.00 και Τετάρτη 18.00 – 19.00 Κουκάκι.\nΑπευθύνεται σε αγόρια και κορίτσια 7-10 ετών.\nΠερισσότερες λεπτομέρειες για τα παιδικά μας τμήματα και τις άλλες δράσεις μας για παιδιά θα βρεις στο site μας newton.edu.gr.
URL:https://jumpnjive.gr/event/%ce%bd%ce%ad%ce%bf-%cf%84%ce%bc%ce%ae%ce%bc%ce%b1-%ce%b4%ce%b7%ce%bc%ce%b9%ce%bf%cf%85%cf%81%ce%b3%ce%b9%ce%ba%ce%bf%cf%8d-%cf%87%ce%bf%cf%81%ce%bf%cf%8d-%ce%ba%ce%b1%ce%b9-%ce%bc%cf%80%ce%b1%ce%bb/
LOCATION:Jump & Jive – Athens Swing Team\, Zan moreas 1\, Koukaki\, Athens\, 11741
CATEGORIES:Jump & Jive Events
ATTACH;FMTTYPE=image/png:https://jumpnjive.gr/wp-content/uploads/2022/07/Φωκίονως-8.png
ORGANIZER;CN="Jump & Jive - Athens Swing Team":MAILTO:jumpnjive@gmail.com
END:VEVENT
BEGIN:VEVENT
DTSTART;TZID=Europe/Athens:20220917T173000
DTEND;TZID=Europe/Athens:20220917T183000
DTSTAMP:20260421T115307
CREATED:20220718T144154Z
LAST-MODIFIED:20220912T140626Z
UID:10151-1663435800-1663439400@jumpnjive.gr
SUMMARY:Νέο Τμήμα Shag - September 2022
DESCRIPTION:Μάθε να χορεύεις τον πιο ξέφρενο swing χορό! Νέο τμήμα Collegiate Shag το Σάββατο 10/09 και κάθε Σάββατο στις 17:30-18:30!\nΤο μάθημα αυτό απευθύνεται σε όσους έχουν μικρή ή και καθόλου εμπειρία στο χορό.\nΣτόχος μας\, να κάνουμε τα πρώτα βήματά μας στoν χορό Shag\, ενεργοποιώντας το σώμα και τη διάθεσή μας!\nΈλα να μάθουμε τα βήματα του χορού που ξεσήκωνε τους χορευτές από την δεκαετία του ’30 ως τώρα! Έντονο footwork \, kicks\, hops & double bounce\, αυτός ο χορός θα σε κάνει χαρούμενο και θα σου δώσει ιδέες για να εμπλουτίσεις τον χορό σου σε γρήγορη μουσική!\nMη διστάσεις να έρθεις για ένα δοκιμαστικό μάθημα!\nΔήλωσε συμμετοχή συμπληρώνοντας τα στοιχεία σου στην φόρμα και θα λάβεις email επιβεβαίωσης σύντομα με όλες τις λεπτομέρειες!\n* Τηρούμε όλους τους κανόνες υγιείνής και σου ζητάμε να κάνεις το ίδιο για την ασφάλεια όλων μας. Φοράμε μάσκα όσο δεν χορεύουμε\, κρατάμε αποστάσεις και χρησιμοποιούμε συχνά αντισηπτικό.\nΣυμπλήρωσε τη φόρμα online στις 20 Αυγούστου και έλα στην παρέα μας!\nhttps://forms.gle/XAXATtgfZBwu4BmN8\nΟι δηλώσεις συμμετοχής γίνονται σε ζευγάρια. Κατά τη διάρκεια του μαθήματος θα κάνουμε rotation (αλλαγή ζευγαριών).\nΣάββατο 17:30-18:30\nΑπό 10/09\nJump n Jive – Athens Swing Team\nΖαν Μωρεάς 1 & Ζαχαρίτσα\nΚουκάκι\, Αθήνα.\nτηλ. επικοινωνίας\n2155509747\n6948462754\nΛίγα λόγια για το χορό Shag:\nH ιστορία της προέλευσης του χορού Shag έχει πολλά κενά αλλα το σίγουρο είναι πως γεννήθηκε στους δρόμους και τα κλάμπ της κεντρικής Αμερικής απο τις αρχές της δεκαετίας του ’30.\nΞετρελαμένοι με τη swing μουσική φοιτητές\, περιμένοντας στην ουρά για να μπουν στο live κλαμπ\, έπρεπε να ανακαλύψουν ένα χορό ο οποίος θα τους επέτρεπε να χορεύουν σε ζευγάρια ακομα και στριμωγμένοι!\nΈτσι\, ο χορός πήρε το χαρακτηριστικο Collegiate (Collegiate Shag) στο όνομά του (aka φοιτητικό).\nΑυτός ο χορός εμπλούτισε και το Jitterbug και ακόμα χορεύεται παγκοσμοίως με μεγάλη άνθιση τα τελευταια χρόνια!\n…\nΚαι μην ξεχνάς\, είμαστε πάλι στα 20’s γι’ αυτό ντύσου με στιλ\, άκου μουσικές από γραμμόφωνο και χόρεψε Jazz μέχρι το πρωί!
URL:https://jumpnjive.gr/event/%ce%bd%ce%ad%ce%bf-%cf%84%ce%bc%ce%ae%ce%bc%ce%b1-shag-september-2022/
LOCATION:Jump & Jive – Athens Swing Team\, Zan moreas 1\, Koukaki\, Athens\, 11741
CATEGORIES:Jump & Jive Events
ATTACH;FMTTYPE=image/png:https://jumpnjive.gr/wp-content/uploads/2022/07/Dark-Video-Centric-Shop-Individual-Designer-Jewelry-Facebook-Cover-1.png
ORGANIZER;CN="Jump & Jive - Athens Swing Team":MAILTO:jumpnjive@gmail.com
END:VEVENT
BEGIN:VEVENT
DTSTART;TZID=Europe/Athens:20220917T203000
DTEND;TZID=Europe/Athens:20220918T010000
DTSTAMP:20260421T115307
CREATED:20220509T142621Z
LAST-MODIFIED:20220719T055916Z
UID:10088-1663446600-1663462800@jumpnjive.gr
SUMMARY:A Swing Dance Party - Jeepers Creepers Live Outdoors
DESCRIPTION:Σάββατο 17 Σεπτεμβρίου βρισκόμαστε στα μάρμαρα της Διονυσίου Αρεοπαγίτου! \nΔύο βήματα από τη σχολή μας και με φόντο την Ακρόπολη!\nΜε live μουσικές από τους αγαπημένους μας Jeepers Creepers\, θα χορεύουμε αστμάτητα! \nΜη παραλείψετε να ενισχύσετε τους μουσικούς μας! \nJump n Jive & Jeepers Creepers\nOutdoors\nΏρα έναρξης: 21:00\nΣάββατο 17/09\nΔιονυσίου Αρεοπαγίτου 37
URL:https://jumpnjive.gr/event/a-swing-dance-party-jeepers-creepers-live-outdoors/
LOCATION:dionisiou aeropagitou
CATEGORIES:Jump & Jive Events
ATTACH;FMTTYPE=image/jpeg:https://jumpnjive.gr/wp-content/uploads/2022/05/αεροπαγίτου-2022.jpg
END:VEVENT
END:VCALENDAR