BEGIN:VCALENDAR
VERSION:2.0
PRODID:-//Jump &amp; Jive - Athens Swing Team - ECPv6.6.3//NONSGML v1.0//EN
CALSCALE:GREGORIAN
METHOD:PUBLISH
X-ORIGINAL-URL:https://jumpnjive.gr
X-WR-CALDESC:Jump &amp; Jive - Athens Swing Team - Εκδηλώσεις
REFRESH-INTERVAL;VALUE=DURATION:PT1H
X-Robots-Tag:noindex
X-PUBLISHED-TTL:PT1H
BEGIN:VTIMEZONE
TZID:Europe/Athens
BEGIN:DAYLIGHT
TZOFFSETFROM:+0200
TZOFFSETTO:+0300
TZNAME:EEST
DTSTART:20220327T010000
END:DAYLIGHT
BEGIN:STANDARD
TZOFFSETFROM:+0300
TZOFFSETTO:+0200
TZNAME:EET
DTSTART:20221030T010000
END:STANDARD
END:VTIMEZONE
BEGIN:VEVENT
DTSTART;TZID=Europe/Athens:20221202T100000
DTEND;TZID=Europe/Athens:20221204T233000
DTSTAMP:20260421T070528
CREATED:20220719T055731Z
LAST-MODIFIED:20220926T090504Z
UID:10159-1669975200-1670196600@jumpnjive.gr
SUMMARY:Wild West Festival with Nils & Bianca 2022
DESCRIPTION:Wild West Festival is an amazing Swing Dance Festival taking place very close to the sunny city of Athens.\n(Korinthos\, Greece)\nTeachers\nBianca & Nils (IT & SE)\nCharlotte & Joseph (UK)\nElena & Ruben (GR & NOR)\nTaster Teachers\nRivital & Tomer (IL)\nFred Caputo(FR)\nBands\nJeepers Creepers Swing Band\nDjs\nNassos Bobos (GR)\nElena Evangelia (GR)\nTomer Bernard (SE)\n\n…and more to be announced \n\nRegistrations are now open!\nVisit www.wildwestfestival.gr\n\nGet ready for a 3-DAY EXCURSION AT THE RANCH\, A BIG SALOON IN THE WILD WEST! \nNon stop dancing\, winter holidays\, good live music\, great Djs\, competitions and performances\, all in one place! \n\nJoin the crazy Greeks in an unforgettable dancing weekend
URL:https://jumpnjive.gr/event/wwf-2022/
LOCATION:The Ranch\, Sofiko Korinthias\, 200 04
CATEGORIES:Jump & Jive Events
ATTACH;FMTTYPE=image/png:https://jumpnjive.gr/wp-content/uploads/2022/06/Wild-West-Poster-Flyer-2022.png
ORGANIZER;CN="Jump & Jive - Athens Swing Team":MAILTO:jumpnjive@gmail.com
END:VEVENT
END:VCALENDAR