BEGIN:VCALENDAR
VERSION:2.0
PRODID:-//Jump &amp; Jive - Athens Swing Team - ECPv6.6.3//NONSGML v1.0//EN
CALSCALE:GREGORIAN
METHOD:PUBLISH
X-WR-CALNAME:Jump &amp; Jive - Athens Swing Team
X-ORIGINAL-URL:https://jumpnjive.gr
X-WR-CALDESC:Jump &amp; Jive - Athens Swing Team - Εκδηλώσεις
REFRESH-INTERVAL;VALUE=DURATION:PT1H
X-Robots-Tag:noindex
X-PUBLISHED-TTL:PT1H
BEGIN:VTIMEZONE
TZID:Europe/Athens
BEGIN:DAYLIGHT
TZOFFSETFROM:+0200
TZOFFSETTO:+0300
TZNAME:EEST
DTSTART:20230326T010000
END:DAYLIGHT
BEGIN:STANDARD
TZOFFSETFROM:+0300
TZOFFSETTO:+0200
TZNAME:EET
DTSTART:20231029T010000
END:STANDARD
END:VTIMEZONE
BEGIN:VEVENT
DTSTART;TZID=Europe/Athens:20230617T210000
DTEND;TZID=Europe/Athens:20230618T010000
DTSTAMP:20260420T213620
CREATED:20230517T134853Z
LAST-MODIFIED:20230613T085120Z
UID:10265-1687035600-1687050000@jumpnjive.gr
SUMMARY:School's out\, Let's Swing out for Summer 2023! ♬
DESCRIPTION:Graduation Night : ‘School’s Out – Let’s Swing Out’\nΕκθεσιακός χώρος Σεραφείου Εχελιδών 19 & Πειραιώς 144\, Athens\nΗ εκδήλωση ‘School’s Out – Let’s Swing Out’ φιλοξενείται στο Σεράφειο του\nΔήμου Αθηναίων.\nΣας προσκαλούμε σε μια γιορτή για τους Swing χορούς\, με σεβασμό στην κουλτούρα και τις ρίζες της Jazz.\nΗ τελική παράσταση της σχολής μας είναι και φέτος το πιο μεγάλο social dance πάρτυ\, με shows και performances από την ομάδα μας και τους υπερταλαντούχους μαθητές μας!\nΘα σας ταξιδέψουμε σε μια άλλη εποχή! Μαζί μας guests\, ταλαντούχοι φιλοι!\nΟι πόρτες θα ανοίξουν στις 21.00.\n#swingout #schoolsout #boogiemadness #letsparty #serafio #cityofAthens #culture #sports\n–\nΤο Σεράφειο του Δήμου Αθηναίων είναι ένα σύγχρονο κέντρο Αθλητισμού\,\nΠολιτισμού και Καινοτομίαç. Υπηρεσίες αθλητισμού\, δράσεις πολιτισμού και ανοιχτά\nεργαστήρια\, πρωτοβουλίες τεχνολογικής και κοινωνικής καινοτομίας\, στεγάζονται και\nφιλοξενούνται σε ένα σύγχρονο συγκρότημα\, με μια κοινή επιδίωξη: να προσφέρουν\nνέες δυνατότητες\, εκπαίδευση αλλά και ψυχαγωγία και να βελτιώσουν τη ζωή των\nκατοίκων και των επισκεπτών τηç πρωτεύουσας.\nΤο έργο του Σεραφείου υλοποιήθηκε από το Δήμο Αθηναίων στο πλαίσιο του\nΠεριφερειακού Επιχειρησιακού Προγράμματος Αττικής 2014-2020 με τη\nσυγχρηματοδότηση της Ελλάδας και τηç Ευρωπαϊκής Ένωσης (για έργα ΕΣΠΑ 2014-2020). www.serafio.gr.\n#serafio #cityofAthens #culture #sports\n—\n\n[English]\nThe event ‘School’s Out – Let’s Swing Out’ is hosted at Serafio City of Athens\n(Echelidon 19 & Pireos 144).\nWe invite you to a celebration of Swing dancing\, with respect to the culture and roots of Jazz.\nThe final show of our school is this year the biggest social dance party\, with shows and performances from our team and our super talented students!\nWe will take you on a journey to another era! Featured dance guests\, talented friends!\nThe doors will open at 21.00.\n#swingout #schoolsout #boogiemadness #letsparty #serafio #cityofAthens #culture #sports\nSerafio of City of Αthens is a contemporary Sports\, Culture & Innovation Center.\nSports facilities\, cultural activities and open workshops\, along with initiatives of\nsocial and technological innovation\, are housed or hosted in a contemporary\ncomplex\, with a common purpose: to offer new possibilities\, education and\nentertainment\, and enhance the life of the residents and visitors of Athens. www.serafio.gr.\n#serafio #cityofAthens #culture #sports\nΣεράφειο Δήμου Αθηναίων – Serafio City of\nAthens (@serafiocityofathens).
URL:https://jumpnjive.gr/event/schools-out/
LOCATION:serafio\, Εχελιδών 19 & Πειραιώς 144\, Athens\, Αττικής\, 11854\, Ελλάδα
CATEGORIES:Jump & Jive Events
ATTACH;FMTTYPE=image/png:https://jumpnjive.gr/wp-content/uploads/2023/05/Schools-out-23-serafio-website-banner-1500-×-500-px.png
ORGANIZER;CN="Jump & Jive - Athens Swing Team":MAILTO:jumpnjive@gmail.com
END:VEVENT
END:VCALENDAR