BEGIN:VCALENDAR
VERSION:2.0
PRODID:-//Jump &amp; Jive - Athens Swing Team - ECPv6.6.3//NONSGML v1.0//EN
CALSCALE:GREGORIAN
METHOD:PUBLISH
X-WR-CALNAME:Jump &amp; Jive - Athens Swing Team
X-ORIGINAL-URL:https://jumpnjive.gr
X-WR-CALDESC:Jump &amp; Jive - Athens Swing Team - Εκδηλώσεις
REFRESH-INTERVAL;VALUE=DURATION:PT1H
X-Robots-Tag:noindex
X-PUBLISHED-TTL:PT1H
BEGIN:VTIMEZONE
TZID:Europe/Athens
BEGIN:DAYLIGHT
TZOFFSETFROM:+0200
TZOFFSETTO:+0300
TZNAME:EEST
DTSTART:20230326T010000
END:DAYLIGHT
BEGIN:STANDARD
TZOFFSETFROM:+0300
TZOFFSETTO:+0200
TZNAME:EET
DTSTART:20231029T010000
END:STANDARD
END:VTIMEZONE
BEGIN:VEVENT
DTSTART;TZID=Europe/Athens:20230913T183000
DTEND;TZID=Europe/Athens:20230913T193000
DTSTAMP:20260420T170100
CREATED:20210811T134152Z
LAST-MODIFIED:20230905T065004Z
UID:9753-1694629800-1694633400@jumpnjive.gr
SUMMARY:Νέο τμήμα Boogie Woogie 101
DESCRIPTION:Ξεκινάμε με όρεξη τη νέα σεζόν!\nΔοκιμαστικό Μάθημα και Νέος κύκλος μαθημάτων Boogie Woogie τη Τετάρτη 13/09 και κάθε Τετάρτη στις 18:30!\nΑυτός ο κύκλος μαθημάτων απευθύνεται σε όσ@ έχουν μικρή ή καθόλου χορευτική εμπειρία.\nΟι εγγραφές θα ανοίξουν τη Δευτέρα 04/09 στις 18:00!\n\nΔήλωσε συμμετοχή στο δοκιμαστικό μαθήμα συμπληρώνοντας τα στοιχεία σου στην παρακάτω φόρμα \n\n\nhttps://forms.gle/P9jH6fTzjMxi1bSz7 \n\nΘα λάβεις email επιβεβαίωσης σύντομα με όλες τις λεπτομέρειες.\n*Οι θέσεις είναι περιορισμένες\, θα τηρηθεί σειρά προτεραιότητας.\n**Τα καινούρια τμήματα Αρχαρίων έχουν πάντα μεγάλη συμμετοχή γι’ αυτό μην καθυστερείς την εγγραφή σου!\n***Επειδή το swing χορεύεται σε ζευγάρια προσπαθούμε να διατηρήσουμε καλή ισορροπία μεταξύ leaders(καβαλιέρους) & followers(ντάμες) στα μαθήματα. Αυτό σημαίνει πως αν έχεις κάποιο φίλο που ενδιαφέρεται καλό θα ήταν να έρθετε μαζί.\nΖαν Μωρεάς 1 & Ζαχαρίτσα 49\nΚουκάκι\, Αθήνα.\nτηλ. επικοινωνίας\n215 5509 747
URL:https://jumpnjive.gr/event/%ce%bd%ce%ad%ce%bf-%cf%84%ce%bc%ce%ae%ce%bc%ce%b1-%ce%b1%cf%81%cf%87%ce%b1%cf%81%ce%af%cf%89%ce%bd-rnr-boogie-woogie/
LOCATION:Jump & Jive – Athens Swing Team\, Zan moreas 1\, Koukaki\, Athens\, 11741
CATEGORIES:Jump & Jive Events
ATTACH;FMTTYPE=image/png:https://jumpnjive.gr/wp-content/uploads/2021/08/New-Tracks-101-Covers-7.png
ORGANIZER;CN="Jump & Jive - Athens Swing Team":MAILTO:jumpnjive@gmail.com
END:VEVENT
BEGIN:VEVENT
DTSTART;TZID=Europe/Athens:20230915T200000
DTEND;TZID=Europe/Athens:20230915T234500
DTSTAMP:20260420T170100
CREATED:20230517T135402Z
LAST-MODIFIED:20230829T105725Z
UID:10269-1694808000-1694821500@jumpnjive.gr
SUMMARY:A Dance Party - Outdoors
DESCRIPTION:Παρασκευή 15/09 στα μάρμαρα της Διονυσίου Αρεοπαγίτου!\n\n\n\nΔύο βήματα από τη σχολή μας και με φόντο την Ακρόπολη! \n\nΏρα έναρξης: 20:00\nΠαρασκευή 15/09\nΔιονυσίου Αρεοπαγίτου 37
URL:https://jumpnjive.gr/event/a-swing-dance-party-outdoors/
LOCATION:Athens
CATEGORIES:Jump & Jive Events
ATTACH;FMTTYPE=image/jpeg:https://jumpnjive.gr/wp-content/uploads/2022/05/αεροπαγίτου-2022.jpg
ORGANIZER;CN="Jump & Jive - Athens Swing Team":MAILTO:jumpnjive@gmail.com
END:VEVENT
BEGIN:VEVENT
DTSTART;TZID=Europe/Athens:20230916T173000
DTEND;TZID=Europe/Athens:20230916T183000
DTSTAMP:20260420T170100
CREATED:20220111T151446Z
LAST-MODIFIED:20230903T193353Z
UID:9825-1694885400-1694889000@jumpnjive.gr
SUMMARY:Νέο τμήμα Αρχαρίων - Lindy Hop Swing 101
DESCRIPTION:#talkvintagetome\nΞεκινάμε με όρεξη τη νέα σεζόν!\nΝέος κύκλος μαθημάτων Swing – Lindy Hop το Σάββατο 16/09 στις 17.30!\nΟι εγγραφές θα ανοίξουν την Πέμπτη 07/09 στις 20:00!\nΔήλωσε συμμετοχή στο πρώτο δοκιμαστικό μαθήμα συμπληρώνοντας τα στοιχεία σου στην παρακάτω φόρμα από 07/09.\nhttps://forms.gle/5gMx25ZjDVnYFu2UA\nΘα λάβεις email επιβεβαίωσης σύντομα με όλες τις λεπτομέρειες.\nΟι θέσεις είναι περιορισμένες\, θα τηρηθεί σειρά προτεραιότητας.\n*Τα καινούρια τμήματα Αρχαρίων έχουν πάντα μεγάλη συμμετοχή γι’ αυτό μην καθυστερείς την εγγραφή σου!\n**Επειδή το swing χορεύεται σε ζευγάρια προσπαθούμε να διατηρούμε καλή ισορροπία μεταξύ leaders & followers στα μαθήματα. Αυτό σημαίνει πως αν έχεις κάποι@ φίλ@ που ενδιαφέρεται καλό θα ήταν να έρθετε μαζί.\nΖαν Μωρεάς 1 & Ζαχαρίτσα 49\nΚουκάκι\, Αθήνα.\nτηλ. επικοινωνίας 215 5509 747
URL:https://jumpnjive.gr/event/new-lindy-hop-swing/
LOCATION:Jump & Jive – Athens Swing Team\, Zan moreas 1\, Koukaki\, Athens\, 11741
CATEGORIES:Jump & Jive Events
ATTACH;FMTTYPE=image/png:https://jumpnjive.gr/wp-content/uploads/2022/01/New-Tracks-101-Covers-9.png
ORGANIZER;CN="Jump & Jive - Athens Swing Team":MAILTO:jumpnjive@gmail.com
END:VEVENT
BEGIN:VEVENT
DTSTART;TZID=Europe/Athens:20230918T180000
DTEND;TZID=Europe/Athens:20230918T190000
DTSTAMP:20260420T170100
CREATED:20230902T122852Z
LAST-MODIFIED:20230902T123157Z
UID:10360-1695060000-1695063600@jumpnjive.gr
SUMMARY:Νέο Τμήμα Shuffle 101
DESCRIPTION:Νέος κύκλος αρχαρίων Shuffle Dance!\nΟ κύκλος αυτός απευθύνεται σε όσους έχουν μικρή ή και καθόλου εμπειρία στο χορό.\n.\nΤο Shuffle dance είναι το χορευτικο στυλ το οποίο γεννήθηκε στη club κουλτούρα της Μελβούρνης στα 80s.\nH δημιουργία του αποδίδεται – όπως και του Hip Hop- στους Αφροαμερικανούς και στα πρώιμα είδη χορού\, Jazz\, Tap κτλ.\, από τα οποια ενσωματωθηκαν βήματα\, ενέργεις και κινησεις από τη δική τους χορευτική ιστορία.\nΈγινε πολύ δημοφιλές στο Λονδίνο και στις μέρες μας χορεύεται φανατικά παγκοσμίως.\nΕίναι ένας χορός κατά βάση αυτοσχεδιαστικός\, ο οποίος δίνει έμφαση σε γρήγορα και περίπλοκα βήματα με τα πόδια.\nΕμείς θα ξεκινήσουμε μαθαίνοντας τις βασικές κινήσεις και φιγούρες και θα προσεγγίσουμε τον αυτοσχεδιασμό.\n.\nH μουσική θα ειναι Electro Swing και House!\nΟι δηλώσεις συμμετοχής θα ανοίξουν στις .\nΔήλωσε συμμετοχή online\, συμπληρώνοντας τα στοιχεία σου στη φόρμα και θα λάβεις email επιβεβαίωσης με όλες τις λεπτομέρειες!\nhttps://forms.gle/fam5M5uBqjiL71Yw5\n—\nJump n Jive Athens Swing Team\n#talktomevintage\nΖαν Μωρεάς 1\nΚουκάκι\, Αθήνα.\nτηλ. επικοινωνίας 2155509747\nΑκολούθησέ μας και στο @shuffledanceathens στο Ιnstagram.
URL:https://jumpnjive.gr/event/%ce%bd%ce%ad%ce%bf-%cf%84%ce%bc%ce%ae%ce%bc%ce%b1-shuffle-101/
LOCATION:Jump & Jive – Athens Swing Team\, Zan moreas 1\, Koukaki\, Athens\, 11741
CATEGORIES:Jump & Jive Events
ATTACH;FMTTYPE=image/jpeg:https://jumpnjive.gr/wp-content/uploads/2023/07/1-486-scaled.jpg
ORGANIZER;CN="Jump & Jive - Athens Swing Team":MAILTO:jumpnjive@gmail.com
END:VEVENT
END:VCALENDAR