BEGIN:VCALENDAR
VERSION:2.0
PRODID:-//Jump &amp; Jive - Athens Swing Team - ECPv6.6.3//NONSGML v1.0//EN
CALSCALE:GREGORIAN
METHOD:PUBLISH
X-ORIGINAL-URL:https://jumpnjive.gr
X-WR-CALDESC:Jump &amp; Jive - Athens Swing Team - Εκδηλώσεις
REFRESH-INTERVAL;VALUE=DURATION:PT1H
X-Robots-Tag:noindex
X-PUBLISHED-TTL:PT1H
BEGIN:VTIMEZONE
TZID:Europe/Athens
BEGIN:DAYLIGHT
TZOFFSETFROM:+0200
TZOFFSETTO:+0300
TZNAME:EEST
DTSTART:20240331T010000
END:DAYLIGHT
BEGIN:STANDARD
TZOFFSETFROM:+0300
TZOFFSETTO:+0200
TZNAME:EET
DTSTART:20241027T010000
END:STANDARD
END:VTIMEZONE
BEGIN:VEVENT
DTSTART;TZID=Europe/Athens:20240204T110000
DTEND;TZID=Europe/Athens:20240204T160000
DTSTAMP:20260420T100950
CREATED:20240110T075321Z
LAST-MODIFIED:20240110T075508Z
UID:10448-1707044400-1707062400@jumpnjive.gr
SUMMARY:Σεμινάριο Πρώτων Βοηθειών
DESCRIPTION:Κυριακή 04 Φεβρουαρίου 11:00-16:00 – Ζαν Μορεάς 1 \, Αθήνα\, Κουκάκι. \nΤο Πρόγραμμα Περιλαμβάνει:\nΑ. Αναγνωρίζοντας θανατηφόρα προβλήματα\,\nόπως:\nΚαρδιοπνευμονική Αναζωογόνηση\, με\nΑπινίδωση (CPR-AED) για ενήλικα\, παιδί και\nβρέφος.\nΆνοιγμα Αεραγωγών.\nΟξύ Έμφραγμα Μυοκαρδίου\, Εγκεφαλικό\nΕπεισόδιο\, Επιληπτική κρίση\, Λιποθυμικό και\nΠρο λιποθυμικό σοκ.\nΟξεία Έμφραξη Αεραγωγού (χειρισμός για\nενήλικα\, για παιδί και για βρέφος).\nΒ. Θέση Ανάνηψης.\nΓ. Αξιολόγηση απώλειας αισθήσεων.\nΔ. Εγκαύματα.\nΕ. Δηλητηριάσεις.\nΣΤ. Ασφάλεια των Χώρων και Προφύλαξη από\nΠαθογόνα του Αίματος.\nΖ. Παιδιατρικές Πρώτες Βοήθειες. \nΤα επίσημα πρωτόκολλα και οι παροχές:\n\nΗ Εκπαίδευση κρατάει 5 ώρες και υλοποιείται\,\nμε τα τελευταία πρωτόκολλα\, του Παγκόσμιου\nΟργανισμού Υγείας.\nΓια την Καρδιοπνευμονική Αναζωογόνηση\n(BLS)\, τα νέα πρωτόκολλα γνωστοποιήθηκαν το\n2021\, από την ERC.\nH Givelife\, κατέχει Νόμιμο Εκπαιδευτικό\nΚέντρο Πρώτων Βοηθειών\nΔιεθνώς Αναγνωρισμένο από την Emergency First Responce\nΣτον κάθε εκπαιδευόμενο παρέχεται:\nΟνομαστική Βεβαίωση συμμετοχής.\nΜπορεί\nνα καταχωρηθεί και στο Δημόσιο\nΔωρεάν Διαδικτυακό μάθημα πρώτων\nβοηθειών\, αξίας 60 ευρώ το άτομο.\nΜάσκα για την αναπνοή διάσωσης\nΓάντια νιτριλίου
URL:https://jumpnjive.gr/event/%cf%83%ce%b5%ce%bc%ce%b9%ce%bd%ce%ac%cf%81%ce%b9%ce%bf-%cf%80%cf%81%cf%8e%cf%84%cf%89%ce%bd-%ce%b2%ce%bf%ce%b7%ce%b8%ce%b5%ce%b9%cf%8e%ce%bd/
LOCATION:Jump & Jive – Athens Swing Team\, Zan moreas 1\, Koukaki\, Athens\, 11741
CATEGORIES:Jump & Jive Events
ATTACH;FMTTYPE=image/png:https://jumpnjive.gr/wp-content/uploads/2024/01/First-Aid-Workshop-Instagram-Post.png
ORGANIZER;CN="Jump & Jive - Athens Swing Team":MAILTO:jumpnjive@gmail.com
END:VEVENT
BEGIN:VEVENT
DTSTART;TZID=Europe/Athens:20240208T203000
DTEND;TZID=Europe/Athens:20240208T213000
DTSTAMP:20260420T100950
CREATED:20230130T150937Z
LAST-MODIFIED:20240206T124705Z
UID:10474-1707424200-1707427800@jumpnjive.gr
SUMMARY:Lindy Hop 101 | Seniors' Edition
DESCRIPTION:Έχουμε μαθήματα για τα παιδιά μας (από 2\,5 ετών) και αυτή την Πέμπτη ξεκινάμε νέο κύκλο μαθημάτων για… τους γονείς μας (εώς 105 ετών!) 🙂\nΑν θες να μάθεις να χορεύεις\, ποτέ δεν είναι αργά! Το τμήμα απευθύνεται σε αρχάριους μαθητές. Περισσότερες πληροφορίες στο 21 5550 9747.\nΚαλή αρχή!\n.\n.\n.\n#seniors #swingdance #lindyhop #jazzdance #newbeginnings #jnj24 #talkvintagetome
URL:https://jumpnjive.gr/event/lindy-hop-101-seniors-edition/
LOCATION:Jump & Jive – Athens Swing Team\, Zan moreas 1\, Koukaki\, Athens\, 11741
CATEGORIES:Jump & Jive Events
ATTACH;FMTTYPE=image/png:https://jumpnjive.gr/wp-content/uploads/2024/01/New-Tracks-101-Covers-Instagram-Post.png
ORGANIZER;CN="Jump & Jive - Athens Swing Team":MAILTO:jumpnjive@gmail.com
END:VEVENT
BEGIN:VEVENT
DTSTART;TZID=Europe/Athens:20240209T200000
DTEND;TZID=Europe/Athens:20240209T210000
DTSTAMP:20260420T100950
CREATED:20240116T113157Z
LAST-MODIFIED:20240206T124733Z
UID:10452-1707508800-1707512400@jumpnjive.gr
SUMMARY:Νέο τμήμα Αρχαρίων Rhythm n Blues 101!
DESCRIPTION:Ξεκινάμε με όρεξη τη νέα χρονιά! Ανυπομονούμε για το 2024 και για τα νέα τμήματά μας! Ξεκίνα και εσύ κάτι νέο και έλα στον γκρουβάτο κόσμο του Swing!\nΝέος κύκλος μαθημάτων RnB κάθε Παρασκευή στις 20:00! Οι εγγραφές θα ανοίξουν την Δευτέρα 15/01 στις 20:00!\nΑν σου αρέσει η μουσική των 40s-50s \, αν o Ray Charles\, o Fats Domino και ο Sam Cooke σε κάνουν να γκρουβάρεις\, τότε αύτο το τμήμα είναι για σένα!\nΈνας ζευγαρωτός χορός\, με πολύ feel και μία πιο γειωμένη αίσθηση\, θα κάνουν το χορό σου να γρουβάρει!\n”In the early 1950s\, the term “rhythm & blues” was frequently applied to blues records. Writer and producer Robert Palmer defined rhythm & blues as “a catchall term referring to any music that was made by and for black Americans”\nΔήλωσε συμμετοχή στο πρώτο δοκιμαστικό μάθημα συμπληρώνοντας τα στοιχεία σου στην παρακάτω φόρμα από 16/01.\nΘα λάβεις email επιβεβαίωσης σύντομα με όλες τις λεπτομέρειες.\nΟι θέσεις είναι περιορισμένες\, θα τηρηθεί σειρά προτεραιότητας.\n*Τα καινούρια τμήματα Αρχαρίων έχουν πάντα μεγάλη συμμετοχή γι’ αυτό μην καθυστερείς την εγγραφή σου!\n**Επειδή το swing χορεύεται σε ζευγάρια προσπαθούμε να διατηρούμε καλή ισορροπία μεταξύ leaders & followers στα μαθήματα. Αυτό σημαίνει πως αν έχεις κάποι@ φίλ@ που ενδιαφέρεται καλό θα ήταν να έρθετε μαζί.\nΔιδάσκει ο Ανδρέας και η Κατερίνα.\nΖαν Μορεάς 1 & Ζαχαρίτσα 49\nΚουκάκι\, Αθήνα.\nτηλ. επικοινωνίας 215 5509 747
URL:https://jumpnjive.gr/event/rnbbeginners/
LOCATION:Jump & Jive – Athens Swing Team\, Zan moreas 1\, Koukaki\, Athens\, 11741
CATEGORIES:Jump & Jive Events
ATTACH;FMTTYPE=image/png:https://jumpnjive.gr/wp-content/uploads/2024/01/New-Tracks-101-Covers.png
ORGANIZER;CN="Jump & Jive - Athens Swing Team":MAILTO:jumpnjive@gmail.com
END:VEVENT
BEGIN:VEVENT
DTSTART;TZID=Europe/Athens:20240210T184000
DTEND;TZID=Europe/Athens:20240210T200000
DTSTAMP:20260420T100950
CREATED:20240130T123052Z
LAST-MODIFIED:20240130T123245Z
UID:10469-1707590400-1707595200@jumpnjive.gr
SUMMARY:Shag Workshop pt. 1 + 2
DESCRIPTION:Νέος (mini) κύκλος σεμιναρίων Collegiate Shag.\nΣάββατο 10 + 17 Φεβρουαρίου 18:40 – 20:00 με τον Ανδρέα και την Κατερίνα!\nΈλα να μάθουμε τα βήματα του χορού που ξεσήκωνε τους χορευτές από την δεκαετία του ’30 ως τώρα! Έντονο footwork \, kicks\, hops & double bounce\, αυτός ο χορός θα σε κάνει χαρούμενο και θα σου δώσει ιδέες για να εμπλουτίσεις τον χορό σου σε γρήγορη μουσική!\nΟ mini κύκλος Shag θα είναι :\nFun with Basics 10/02\nCrazy Shag Choreography 17/02\nΔήλωσε συμμετοχή συμπληρώνοντας τα στοιχεία σου στην φόρμα και θα λάβεις email επιβεβαίωσης σύντομα με όλες τις λεπτομέρειες!\nhttps://forms.gle/gs2LZdVvuBpBRPuZ9\nΚατά τη διάρκεια του μαθήματος θα κάνουμε rotation (αλλαγή ζευγαριών).\nΛίγα λόγια για το χορό Shag:\nH ιστορία της προέλευσης του χορού Shag έχει πολλά κενά αλλά το σίγουρο είναι πως γεννήθηκε στους δρόμους και τα κλάμπ της κεντρικής Αμερικής από τις αρχές της δεκαετίας του ’30.\nΞετρελαμένοι με τη swing μουσική φοιτητές\, περιμένοντας στην ουρά για να μπουν στο live κλαμπ\, έπρεπε να ανακαλύψουν ένα χορό ο οποίος θα τους επέτρεπε να χορεύουν σε ζευγάρια ακόμα και στριμωγμένοι !\nΈτσι\, ο χορός πήρε το χαρακτηριστικό Collegiate (Collegiate Shag) στο όνομά του (aka φοιτητικό).\nΑυτός ο χορός εμπλούτισε και το Jitterbug και ακόμα χορεύεται παγκοσμίως με μεγάλη άνθιση τα τελευταία χρόνια!\nJump n Jive – Athens Swing Team\nΖαν Μωρεάς 1 & Ζαχαρίτσα\nΚουκάκι \, Αθήνα.\nTηλ. επικοινωνίας\n2155509747
URL:https://jumpnjive.gr/event/shag-workshop-pt-1-2/
LOCATION:Jump & Jive – Athens Swing Team\, Zan moreas 1\, Koukaki\, Athens\, 11741
CATEGORIES:Jump & Jive Events
ATTACH;FMTTYPE=image/jpeg:https://jumpnjive.gr/wp-content/uploads/2024/01/New-Tracks-101-Covers.jpg
ORGANIZER;CN="Jump & Jive - Athens Swing Team":MAILTO:jumpnjive@gmail.com
END:VEVENT
BEGIN:VEVENT
DTSTART;TZID=Europe/Athens:20240212T200000
DTEND;TZID=Europe/Athens:20240212T210000
DTSTAMP:20260420T100950
CREATED:20230830T163725Z
LAST-MODIFIED:20240206T124800Z
UID:10355-1707768000-1707771600@jumpnjive.gr
SUMMARY:Νέο τμήμα Lindy Hop Swing 101
DESCRIPTION:#talkvintagetome\nΞεκινάμε με όρεξη τη νέα χρονιά! Ανυπομονούμε για το 2024 και για τα νέα τμήματά μας! Ξεκίνα και εσύ κάτι νέο και έλα στον γκρουβάτο κόσμο του Swing!\nΝέος κύκλος μαθημάτων Swing – Lindy Hop κάθε Δευτέρα στις 20:00! Οι εγγραφές θα ανοίξουν την Δευτέρα 18/12 στις 20:00!\nΔήλωσε συμμετοχή στο πρώτο δοκιμαστικό μάθημα συμπληρώνοντας τα στοιχεία σου στην παρακάτω φόρμα από 18/12.\nhttps://forms.gle/pXgG899SJrmiCeVV8\nΘα λάβεις email επιβεβαίωσης σύντομα με όλες τις λεπτομέρειες.\nΟι θέσεις είναι περιορισμένες\, θα τηρηθεί σειρά προτεραιότητας.\n*Τα καινούρια τμήματα Αρχαρίων έχουν πάντα μεγάλη συμμετοχή γι’αυτό μην καθυστερείς την εγγραφή σου!\n**Επειδή το swing χορεύεται σε ζευγάρια προσπαθούμε να διατηρούμε καλή ισορροπία μεταξύ leaders & followers στα μαθήματα. Αυτό σημαίνει πως αν έχεις κάποι@ φίλ@ που ενδιαφέρεται καλό θα ήταν να έρθετε μαζί.\nΖαν Μωρεάς 1 & Ζαχαρίτσα 49\nΚουκάκι\, Αθήνα.\nτηλ. επικοινωνίας 215 5509 747
URL:https://jumpnjive.gr/event/%ce%bd%ce%ad%ce%bf-%cf%84%ce%bc%ce%ae%ce%bc%ce%b1-authentic-jazz-101/
LOCATION:Jump & Jive – Athens Swing Team\, Zan moreas 1\, Koukaki\, Athens\, 11741
CATEGORIES:Jump & Jive Events
ATTACH;FMTTYPE=image/png:https://jumpnjive.gr/wp-content/uploads/2023/08/New-Tracks-101-Covers.png
ORGANIZER;CN="Jump & Jive - Athens Swing Team":MAILTO:jumpnjive@gmail.com
END:VEVENT
END:VCALENDAR