BEGIN:VCALENDAR
VERSION:2.0
PRODID:-//Jump &amp; Jive - Athens Swing Team - ECPv6.6.3//NONSGML v1.0//EN
CALSCALE:GREGORIAN
METHOD:PUBLISH
X-ORIGINAL-URL:https://jumpnjive.gr
X-WR-CALDESC:Jump &amp; Jive - Athens Swing Team - Εκδηλώσεις
REFRESH-INTERVAL;VALUE=DURATION:PT1H
X-Robots-Tag:noindex
X-PUBLISHED-TTL:PT1H
BEGIN:VTIMEZONE
TZID:Europe/Athens
BEGIN:DAYLIGHT
TZOFFSETFROM:+0200
TZOFFSETTO:+0300
TZNAME:EEST
DTSTART:20240331T010000
END:DAYLIGHT
BEGIN:STANDARD
TZOFFSETFROM:+0300
TZOFFSETTO:+0200
TZNAME:EET
DTSTART:20241027T010000
END:STANDARD
END:VTIMEZONE
BEGIN:VEVENT
DTSTART;TZID=Europe/Athens:20240301T220000
DTEND;TZID=Europe/Athens:20240302T020000
DTSTAMP:20260420T085012
CREATED:20220530T144757Z
LAST-MODIFIED:20240219T154149Z
UID:10093-1709330400-1709344800@jumpnjive.gr
SUMMARY:A Boogie VS Swing Dance Night | Αποκριάτικο
DESCRIPTION:Απόκριες? Την Παρασκευή 01 Μαρτίου έρχεται Partara ξανά στο πιο underground χορευτικό στέκι της πόλης. \n.\n.\n.\nΕίσοδος ελεύθερη.\nΣας περιμένουμε!\n\nJump n Jive\nAthens Swing Team\nTalk Vintage to Me.\n\nΠαρασκευή 01/03 από τις 22:00\nBlue Fox\, Ασκληπιού 91\, Εξάρχεια
URL:https://jumpnjive.gr/event/https-www-facebook-com-events-1636513293394166/
LOCATION:Blue Fox Bar\, Asklhpiou 91\, Athens\, Attica\, 11472\, Greece
CATEGORIES:Jump & Jive Events
ATTACH;FMTTYPE=image/png:https://jumpnjive.gr/wp-content/uploads/2022/05/Event-Covers-2021-2022-1.png
ORGANIZER;CN="Jump & Jive - Athens Swing Team":MAILTO:jumpnjive@gmail.com
END:VEVENT
BEGIN:VEVENT
DTSTART;TZID=Europe/Athens:20240309T130000
DTEND;TZID=Europe/Athens:20240309T143000
DTSTAMP:20260420T085012
CREATED:20240219T153037Z
LAST-MODIFIED:20240303T130807Z
UID:10481-1709989200-1709994600@jumpnjive.gr
SUMMARY:Egle in Athens Solo Jazz Masterclass
DESCRIPTION:Solo Jazz Power σε ενα σεμινάριο full των Jazz Steps!\nΕίμαστε τρομερά ενθουσιασμέν@! Μη χάσεις την ευκαιρία να πάρεις το μάθημά της το Σάββατο 09/03 στις 13:00.\n Λεβελ : Μπορείς να μάθεις εύκολα ακολουθίες βημάτων και ρυθμικά μοτίβα και σου αρέσει το τσαλεντζ στο Solo Jazz!\n Διάρκεια : 1\,5 ώρα\n Κόστος σεμιναρίου :\n15 ευρώ για τα μέλη των JnJ\n20 ευρώ για τα μη μέλη\nΔήλωσε συμμετοχή συμπληρώνοντας τη φόρμα εδώ:\nhttps://forms.gle/sRNfYChw2qnEVqLSA\nΜη το χάσεις\, έλα να jazz-αρουμε μαζι!\nΣάββατο 09/03 \,13:00-14:30\nΖαν Μωρεάς 1 \, Κουκάκι
URL:https://jumpnjive.gr/event/tops-wilda-tranky-do-workshop/
LOCATION:Jump & Jive – Athens Swing Team\, Zan moreas 1\, Koukaki\, Athens\, 11741
CATEGORIES:Jump & Jive Events
ATTACH;FMTTYPE=image/png:https://jumpnjive.gr/wp-content/uploads/2024/02/Brown-Vintage-Illustrative-Beer-Festival-Oktoberfest-Facebook-Event-Cover.png
ORGANIZER;CN="Jump & Jive - Athens Swing Team":MAILTO:jumpnjive@gmail.com
END:VEVENT
BEGIN:VEVENT
DTSTART;TZID=Europe/Athens:20240316T210000
DTEND;TZID=Europe/Athens:20240317T020000
DTSTAMP:20260420T085012
CREATED:20240303T132613Z
LAST-MODIFIED:20240303T132613Z
UID:10496-1710622800-1710640800@jumpnjive.gr
SUMMARY:Α Swing Dance Party - with Live RnB | The Jumpin' Bones!
DESCRIPTION:Τo Σάββατο 16/03 κατεβαίνουμε Κυψέλη για χορό με live Jazz μουσικάρες!\nΜαζί μας οι :\nJumpin’ Bones!!!\nΦουλ σετ για χορό από τους καλύτερους!\nΜουσικές -οφ στειτζ- από τoν DJ Boogla\, swinging jazz\, jump blues\, rnb\, rnr … και όλα αυτά στη μουσική σκηνή του Orfea Cafe Bar!\n.\n.\nΤι λέτε λοιπόν;\nΧορεύουμε;\n.\n.\n#letsdance #jumpnjive #livemusic\n\nAbout Jumpin Bones\nLinks\nhttp://www.thejumpinbones.com (Official Website)\nhttps://www.facebook.com/TheJumpinBones/ (Facebook)\nhttps://www.instagram.com/thejumpinbones/ (Instagram)\nVideos\nhttps://youtu.be/t2oFHLPfIEo\nhttps://youtu.be/C33CqLiABKs\nhttps://youtu.be/xrgsLQoGuNQ\nhttps://youtu.be/iE5Hk5mKmGQ\nhttps://youtu.be/5lKzm4WEdMs\nΣάββατο 16/03\nΏρα έναρξης 21.00\nΣυμμετοχή: 6 ευρώ\nOrfeas Cafe Bar Restaurant Fokionos Negri 25\, Αθήνα\nwww.jumpnjive.gr\nOrfeas Live\nCafe Bar Restaurant\nΦωκίωνος Νέγρη 25\nΑθήνα\, Κυψέλη\nΤηλέφωνο για κρατήσεις 2108668544 6939-187511\nhttps://www.facebook.com/orfeas.cafe/
URL:https://jumpnjive.gr/event/%ce%b1-swing-dance-party-with-live-rnb-the-jumpin-bones/
LOCATION:Orfeas Bar\, Φωκίωνος Νέγρη 25\, Αθήνα\, 11257\, Ελλάδα
CATEGORIES:Jump & Jive Events
ATTACH;FMTTYPE=image/png:https://jumpnjive.gr/wp-content/uploads/2024/03/Event-Covers-2021-2022-3.png
ORGANIZER;CN="Jump & Jive - Athens Swing Team":MAILTO:jumpnjive@gmail.com
END:VEVENT
BEGIN:VEVENT
DTSTART;TZID=Europe/Athens:20240327T080000
DTEND;TZID=Europe/Athens:20240330T200000
DTSTAMP:20260420T085012
CREATED:20240321T150333Z
LAST-MODIFIED:20240321T150442Z
UID:10506-1711526400-1711828800@jumpnjive.gr
SUMMARY:Ruben in Athens | Workshops & Party
DESCRIPTION:Έρχεται ο Ruben στην Αθηνά!\nΤην Τετάρτη 27 και το Σάββατο 30 Μαρτίου\, φιλοξενούμε στη σχολή μας τον αγαπημένο μας Viking και χορεύουμε μαζί του σε σεμινάρια Lindy Hop\, BW και Aerials!\nΤην Παρασκευή παρτάρα welcoming στο Blue Fox με Dj Lil’ Champ (aka Nassos Bobos)!\n****EDIT****\nΟΙ ΕΓΓΡΑΦΕΣ ΘΑ ΑΝΟΙΞΟΥΝ ΤΗΝ ΠΕΜΠΤΗ ΣΤΙΣ 20.00.\nΕΥΧΑΡΙΣΤΟΥΜΕ ΓΙΑ ΤΗΝ ΚΑΤΑΝΟΗΣΗ ΣΑΣ.\n***********\nΑκολούθησε το λινκ για τη φόρμα και δήλωσε συμμετοχή με το ζευγάρι σου:\nhttps://forms.gle/mJiYoyp45NoyrDYw8\nΠρόγραμμα Τετάρτης 27/03 :\n20:30 – 21:30 Aerials (Partner Required)\n21:30 – 22:30 Lindy Hop Int/Advanced\nΠρόγραμμα Σαββάτου 30/03 :\n16:30 – 17:30 Boogie Woogie Intermediate\n18:30 – 20:00 Mini Aerials (Partner Required)\nΚόστος :\n1 μάθημα : 20 ευρώ\n2 μαθήματα : 30 ευρώ\n3 μαθήματα : 40 ευρώ\n4 μαθήματα : 50 ευρώ\nΌροι συμμετοχής στα Aerials Workshops:\n✶ Aerials : Improvers Up level ✶\n~ Θα πρέπει να έχετε χορευτική εμπειρία από ένα εξάμηνο και πάνω.\n~ Θα πρέπει να δηλώσετε ως ζευγάρι (leader-follower).\nΣτα σεμινάρια των Aerials δεν θα γίνονται εναλλαγές στα ζευγάρια. Θα πρέπει να αισθάνεστε άνετα με το σώμα σας και τ@ παρτενέρ σας.\nJump n Jive – Athens Swing Team\nΖαν Μωρεάς 1 & Ζαχαρίτσα\nΚουκάκι\, Αθήνα.\nΤηλ. επικοινωνίας\n215 5509 747\n#σεμιναρια #social #αχαστο
URL:https://jumpnjive.gr/event/ruben-in-athens-workshops-party/
LOCATION:Jump & Jive – Athens Swing Team\, Zan moreas 1\, Koukaki\, Athens\, 11741
CATEGORIES:Jump & Jive Events
ATTACH;FMTTYPE=image/png:https://jumpnjive.gr/wp-content/uploads/2024/03/Brown-Vintage-Illustrative-Beer-Festival-Oktoberfest-Facebook-Event-Cover-1.png
ORGANIZER;CN="Jump & Jive - Athens Swing Team":MAILTO:jumpnjive@gmail.com
END:VEVENT
BEGIN:VEVENT
DTSTART;TZID=Europe/Athens:20240330T130000
DTEND;TZID=Europe/Athens:20240330T140000
DTSTAMP:20260420T085012
CREATED:20240311T190820Z
LAST-MODIFIED:20240311T190820Z
UID:10500-1711803600-1711807200@jumpnjive.gr
SUMMARY:Νέος Κύκλος Authentic Jazz 101
DESCRIPTION:Νέο τμήμα αρχαρίων Solo Jazz – Swing.\nΤο μάθημα αυτό απευθύνεται σε όσους έχουν μικρή ή και καθόλου εμπειρία στο χορό.\nΣτόχος μας\, να κάνουμε τα πρώτα βήματά μας στη jazz & το charleston\, ενεργοποιώντας το σώμα και τη διάθεσή μας! \nΈλα να μάθουμε τις πιο κλασσικές κινήσεις Jazz που γνωρίζουν όλοι οι Lindy hoppers ανα τον κόσμο\, μέσα από μικρές χορογραφίες και παιχνίδι με τη μουσική και το ρυθμό! To μάθημα αυτό θα σε βοηθήσει να χορέψεις πιο γρήγορα Lindy Hop Swing σε ζευγάρι. \nMη διστάσεις να έρθεις για ένα δοκιμαστικό μάθημα!\nΗ συνδρομή είναι μηνιαία και κοστίζει 40 ευρώ.\nΔήλωσε συμμετοχή για το δοκιμαστικό μάθημα συμπληρώνοντας τα στοιχεία σου στην φόρμα και θα λάβεις email επιβεβαίωσης σύντομα με όλες τις λεπτομέρειες! \nΔιδάσκει η Elena Evangelia\nΣάββατο 13:00-14:00\nJump n Jive – Athens Swing Team\nΖαν Μωρεάς 1 & Ζαχαρίτσα\nΚουκάκι\, Αθήνα. \nτηλ. επικοινωνίας \n2155509747 \n—\nΛίγα λόγια για το χορό Jazz \nΤο Authentic Jazz ή Solo Jazz είναι ένα είδος χορού με αφροαμερικάνικες ρίζες που αναπτύχθηκε πάνω στη jazz και blues μουσική. Οι απαρχές του βρίσκονται κάπου στο 1800 (cakewalk)\, φτάνοντας στην ακμή του τις δεκαετίες 20΄-40’ (Black Bottom\, Charleston). Στην πορεία επηρέασε και άλλα χορευτικά είδη όπως modern jazz\, hip hop κ.α.\nEίναι ένας πολύ διασκεδαστικός χορός που χορεύεται είτε ελεύθερα\, επιτρέποντας τον αυτοσχεδιασμό\, είτε με κλασικές χορογραφίες όπως το Shim Sham\, το Tranky Doo\, το Big Apple κ.α. Θα σε βοηθήσει να κατανοήσεις καλύτερα το ρυθμό και θα εξελίξει τη μουσικότητα και το στυλ σου\, στοιχεία που θα σε βοηθήσουν χορεύοντας και με το ζευγάρι σου.
URL:https://jumpnjive.gr/event/%ce%bd%ce%ad%ce%bf%cf%82-%ce%ba%cf%8d%ce%ba%ce%bb%ce%bf%cf%82-authentic-jazz-101/
LOCATION:Jump & Jive – Athens Swing Team\, Zan moreas 1\, Koukaki\, Athens\, 11741
CATEGORIES:Jump & Jive Events
ATTACH;FMTTYPE=image/png:https://jumpnjive.gr/wp-content/uploads/2024/03/New-Tracks-101-Covers-2.png
ORGANIZER;CN="Jump & Jive - Athens Swing Team":MAILTO:jumpnjive@gmail.com
END:VEVENT
END:VCALENDAR