BEGIN:VCALENDAR
VERSION:2.0
PRODID:-//Jump &amp; Jive - Athens Swing Team - ECPv6.6.3//NONSGML v1.0//EN
CALSCALE:GREGORIAN
METHOD:PUBLISH
X-WR-CALNAME:Jump &amp; Jive - Athens Swing Team
X-ORIGINAL-URL:https://jumpnjive.gr
X-WR-CALDESC:Jump &amp; Jive - Athens Swing Team - Εκδηλώσεις
REFRESH-INTERVAL;VALUE=DURATION:PT1H
X-Robots-Tag:noindex
X-PUBLISHED-TTL:PT1H
BEGIN:VTIMEZONE
TZID:Europe/Athens
BEGIN:DAYLIGHT
TZOFFSETFROM:+0200
TZOFFSETTO:+0300
TZNAME:EEST
DTSTART:20240331T010000
END:DAYLIGHT
BEGIN:STANDARD
TZOFFSETFROM:+0300
TZOFFSETTO:+0200
TZNAME:EET
DTSTART:20241027T010000
END:STANDARD
END:VTIMEZONE
BEGIN:VEVENT
DTSTART;TZID=Europe/Athens:20240413T183000
DTEND;TZID=Europe/Athens:20240413T200000
DTSTAMP:20260420T070347
CREATED:20240410T052320Z
LAST-MODIFIED:20240410T052320Z
UID:10514-1713033000-1713038400@jumpnjive.gr
SUMMARY:Musicality - Scatting 2
DESCRIPTION:Εργαστήρι Μουσικής & Κίνησης\nPart 2 : More Scatting\nWhat is Jazz? https://www.youtube.com/watch?v=4Z7iZecm5qg\nΘέλεις να καταλάβεις καλύτερα τη σχέση της μουσικής και του χορού σου και να αποκτήσεις εργαλεία για να μπορείς να εκφραστείς μέσα από τη μουσική?\nΒλέποντας το στόμα ως μουσικό όργανο θα παράξουμε ρυθμούς και μέσα από fun ασκήσεις θα εξερευνήσουμε την κίνηση χρησιμοποιώντας το τραγούδι. Aka scating.\nΓιατί η μουσική δημιουργούσε το χορό.\nΒλέπε :\nMacarena – Los del Rio (1995) https://www.youtube.com/shorts/cJqYP0Ha1Nk\nThe “Twist” – Chubby Checker (1960) https://www.youtube.com/watch?v=E1o3cbLYoIY\nBlack Bottom (1926) https://www.youtube.com/watch?v=jTR6xBeC2xA\nΓι’ αυτό έλα και εσύ στο εργαστήρι μας και εξοπλίσου με τα απαραίτητα εφόδια μουσικότητας στη Jazz.\nΔιδάσκει ο Αντρέας Αναγνώστου.\n–\nTo σεμινάριο είναι ανοιχτό σε όλα τα επίπεδα και είναι κατάλληλο για όλ@ \n✶ Διάρκεια:\n1 ώρα & 30 λεπτά (18:40-20:10)\n✶ Κόστος συμμετοχής: 15 ευρώ/άτομο.\nΔήλωσε συμμετοχή συμπληρώνοντας τη φόρμα:\nhttps://forms.gle/HfgSh43gJ9pgWBuW7\nΣάββατο 13/04\nΖαν Μoρεάς 1\, Κoυκάκι.
URL:https://jumpnjive.gr/event/musicality-scatting-2/
LOCATION:Jump & Jive – Athens Swing Team\, Zan moreas 1\, Koukaki\, Athens\, 11741
CATEGORIES:Jump & Jive Events
ATTACH;FMTTYPE=image/png:https://jumpnjive.gr/wp-content/uploads/2024/04/Orfeas-Cover-Fb-1.png
ORGANIZER;CN="Jump & Jive - Athens Swing Team":MAILTO:jumpnjive@gmail.com
END:VEVENT
BEGIN:VEVENT
DTSTART;TZID=Europe/Athens:20240420T213000
DTEND;TZID=Europe/Athens:20240421T023000
DTSTAMP:20260420T070347
CREATED:20240415T142948Z
LAST-MODIFIED:20240415T142948Z
UID:10517-1713648600-1713666600@jumpnjive.gr
SUMMARY:Dance That Jazz - Live Jam 'Εργαστήρι Jazz Αυτοσχεδιασμού'
DESCRIPTION:Αυτό το event θα είναι #αχαστο! Τα μουσικά σύνολο του Jazz Impro Workshop του Ανδρέα Παπαγιαννακόπουλου μαζί με τους Jump n Jive κατεβαίνουν στο στέκι μας στην Κυψέλη για μια φανταστική βραδιά!.Φουλ σετ για χορό και ανοιχτή σκηνή για Jam! Φέρτε μαζί\, σαξόφωνα\, κλακετοπάπουτσα και τα Jazz-οσκιλ σας! Θα είναι μαι βραδιά που θα σας μείνει αξέχαστη!\nοφ στειτζ Set από DJ Booglas…και όλα αυτά στη μουσική σκηνή του Orfea Bar!..Τι λέτε λοιπόν;Χορεύουμε;..#talkvintagetome #jumpnjive #livemusic\nΣάββατο 20/04Ώρα έναρξης: 21.30Συμμετοχή: 6 ευρώ\nOrfeas Live Cafe Bar RestaurantΦωκίωνος Νέγρη 25Αθήνα\, Κυψέλη
URL:https://jumpnjive.gr/event/dance-that-jazz-live-jam-%ce%b5%cf%81%ce%b3%ce%b1%cf%83%cf%84%ce%ae%cf%81%ce%b9-jazz-%ce%b1%cf%85%cf%84%ce%bf%cf%83%cf%87%ce%b5%ce%b4%ce%b9%ce%b1%cf%83%ce%bc%ce%bf%cf%8d/
LOCATION:Athens
CATEGORIES:Jump & Jive Events
ATTACH;FMTTYPE=image/png:https://jumpnjive.gr/wp-content/uploads/2024/04/Orfeas-Cover-Fb.png
END:VEVENT
END:VCALENDAR