BEGIN:VCALENDAR
VERSION:2.0
PRODID:-//Jump &amp; Jive - Athens Swing Team - ECPv6.6.3//NONSGML v1.0//EN
CALSCALE:GREGORIAN
METHOD:PUBLISH
X-WR-CALNAME:Jump &amp; Jive - Athens Swing Team
X-ORIGINAL-URL:https://jumpnjive.gr
X-WR-CALDESC:Jump &amp; Jive - Athens Swing Team - Εκδηλώσεις
REFRESH-INTERVAL;VALUE=DURATION:PT1H
X-Robots-Tag:noindex
X-PUBLISHED-TTL:PT1H
BEGIN:VTIMEZONE
TZID:Europe/Athens
BEGIN:DAYLIGHT
TZOFFSETFROM:+0200
TZOFFSETTO:+0300
TZNAME:EEST
DTSTART:20240331T010000
END:DAYLIGHT
BEGIN:STANDARD
TZOFFSETFROM:+0300
TZOFFSETTO:+0200
TZNAME:EET
DTSTART:20241027T010000
END:STANDARD
END:VTIMEZONE
BEGIN:VEVENT
DTSTART;TZID=Europe/Athens:20240614T200000
DTEND;TZID=Europe/Athens:20240614T210000
DTSTAMP:20260420T034837
CREATED:20240611T062104Z
LAST-MODIFIED:20240611T062104Z
UID:10533-1718395200-1718398800@jumpnjive.gr
SUMMARY:Σεμινάριο Shag με την Κατερίνα και τον Ανδρέα
DESCRIPTION:Το λέβελ θα είναι Open και τα βήματα γρήγορα και εθιστικά! Μη το χάσεις!\nΠαρασκευή 14 Ιουνίου 20:00-21:00Open Level\nΣυμμετοχή: 10 ευρώ για τα μέλη των JnJ 15 για τα εξωτερικά μέλη\nΔήλωσε συμμετοχή τώρα συμπληρώνοντας τη φόρμα:https://forms.gle/rjErSrQ9e12R6mhu5\nΚατά τη διάρκεια του μαθήματος θα κάνουμε rotation (αλλαγή ζευγαριών).\n|\nΛίγα λόγια για το χορό Shag:H ιστορία της προέλευσης του χορού Shag έχει πολλά κενά αλλά το σίγουρο είναι πως γεννήθηκε στους δρόμους και τα κλάμπ της κεντρικής Αμερικής από τις αρχές της δεκαετίας του ’30.Ξετρελαμένοι με τη swing μουσική φοιτητές\, περιμένοντας στην ουρά για να μπουν στο live κλαμπ\, έπρεπε να ανακαλύψουν ένα χορό ο οποίος θα τους επέτρεπε να χορεύουν σε ζευγάρια ακόμα και στριμωγμένοι !Έτσι\, ο χορός πήρε το χαρακτηριστικό Collegiate (Collegiate Shag) στο όνομά του (aka φοιτητικό).Αυτός ο χορός εμπλούτισε και το Jitterbug και ακόμα χορεύεται παγκοσμίως με μεγάλη άνθιση τα τελευταία χρόνια!\n|\nJump n Jive – Athens Swing TeamΖαν Μωρεάς 1 & ΖαχαρίτσαΚουκάκι \, Αθήνα.Tηλ. επικοινωνίας2155509747
URL:https://jumpnjive.gr/event/%cf%83%ce%b5%ce%bc%ce%b9%ce%bd%ce%ac%cf%81%ce%b9%ce%bf-shag-%ce%bc%ce%b5-%cf%84%ce%b7%ce%bd-%ce%ba%ce%b1%cf%84%ce%b5%cf%81%ce%af%ce%bd%ce%b1-%ce%ba%ce%b1%ce%b9-%cf%84%ce%bf%ce%bd-%ce%b1%ce%bd%ce%b4/
LOCATION:Jump & Jive – Athens Swing Team\, Zan moreas 1\, Koukaki\, Athens\, 11741
CATEGORIES:Jump & Jive Events
ATTACH;FMTTYPE=image/jpeg:https://jumpnjive.gr/wp-content/uploads/2024/06/New-Tracks-101-Covers-1.jpg
ORGANIZER;CN="Jump & Jive - Athens Swing Team":MAILTO:jumpnjive@gmail.com
END:VEVENT
BEGIN:VEVENT
DTSTART;TZID=Europe/Athens:20240621T200000
DTEND;TZID=Europe/Athens:20240621T210000
DTSTAMP:20260420T034837
CREATED:20240611T061931Z
LAST-MODIFIED:20240611T061931Z
UID:10530-1719000000-1719003600@jumpnjive.gr
SUMMARY:The Big Apple Workshop
DESCRIPTION:Part 1 : 21 ΙουνίουΠάμε για το πρώτο μέρους της χορογραφίας ‘The Big Apple’!Ανυπομονούμε να μάθουμε μαζί τη πιο τέλεια Jazz χορογραφία.Δείτε το οριτζιναλ κλιπ από Whitey’s Lindy Hoppers:https://www.youtube.com/watch?v=H1K5M5xluZs\nΑπαραίτητη η δήλωση συμμετοχής Κράτησή θέσης μέσω Paypal ή IRIS.Κόστος : 12 ευρώ\nΣυμπλήρωσε τη φόρμα και θα λάβεις email επιβεβαίωσης!https://forms.gle/ygBMTrKaRc8BCAPa9\nWorkshop Level :Δε χρειάζεται να έχεις κάνει ξανά τη χορογραφία ή να είσαι μέλος της σχολής μας για να συμμετέχεις. Όμως καλό θα ήταν να είσαι εξοικειωμέν@ με κάποια από τα πιο κοινά Jazz βήματα :– Half Break– Apple Jacks– Fall off the Log– Suzie Q\nAν θέλεις\, μπορείς να ρίξεις μια ματιά στα online mini tutorials που έχουμε ανεβάσει για τα παραπάνω:\nhttps://www.youtube.com/watch?v=iF2d0lP4m-0…\nLike + Subscribe – ξες εσύ \n#online #tutorials\nΦιλικά\,JnJ Team.\nΖαν Μωρέας 1\,11741\, Κουκάκι.Tηλέφωνο επικοινωνίας:6948462754\nυγ. Ιδέα για ταινιάκι! Να δεις το ντοκιμαντέρ της Judy Pritchett ‘The Big Apple’!H ταινία αποτυπώνει την ”τρέλα” του χορού Big Apple στην Αμερική των 30’s. Περιέχει σπάνιο υλικό από τους χορούς εκείνης της εποχής\, jazz\, charleston\, break away lindy etc. Σκηνοθετεί και είναι υπεύθυνη παραγωγής η Judy Pritchett\, η σύντροφος του Frankie Manning..#workshop #tutorials #thebigapple #bigapple #dance #swing #jazz #swingdance #μαθηματαswing #μαθεναχορευειςswing
URL:https://jumpnjive.gr/event/the-big-apple-workshop/
LOCATION:Jump & Jive – Athens Swing Team\, Zan moreas 1\, Koukaki\, Athens\, 11741
CATEGORIES:Jump & Jive Events
ATTACH;FMTTYPE=image/png:https://jumpnjive.gr/wp-content/uploads/2024/06/New-Tracks-101-Covers-7.png
ORGANIZER;CN="Jump & Jive - Athens Swing Team":MAILTO:jumpnjive@gmail.com
END:VEVENT
BEGIN:VEVENT
DTSTART;TZID=Europe/Athens:20240629T200000
DTEND;TZID=Europe/Athens:20240630T000000
DTSTAMP:20260420T034837
CREATED:20240611T062752Z
LAST-MODIFIED:20240627T091128Z
UID:10540-1719691200-1719705600@jumpnjive.gr
SUMMARY:Graduation Night : 'School’s Out - Let’s Swing Out’
DESCRIPTION:Graduation Night : ‘School’s Out – Let’s Swing Out’\nLive Band : Swing To BopAthens \n\nΣας προσκαλούμε σε μια γιορτή για τους Swing χορούς\, με σεβασμό στην κουλτούρα και τις ρίζες της Jazz.Η τελική παράσταση της σχολής μας είναι και φέτος το πιο μεγάλο social dance πάρτυ\, με shows και performances από την ομάδα μας και τους υπερταλαντούχους μαθητές μας!Θα σας ταξιδέψουμε σε μια άλλη εποχή! Μαζί μας guests\, ταλαντούχοι φιλοι!\n#swingout #schoolsout #lindyhop #boogiemadness #letsparty
URL:https://jumpnjive.gr/event/graduation-night-schools-out-lets-swing-out/
LOCATION:dionisiou aeropagitou
CATEGORIES:Jump & Jive Events
ATTACH;FMTTYPE=image/png:https://jumpnjive.gr/wp-content/uploads/2024/06/Schools-out-Swing-out-for-Summer.png
ORGANIZER;CN="Jump & Jive - Athens Swing Team":MAILTO:jumpnjive@gmail.com
END:VEVENT
END:VCALENDAR