BEGIN:VCALENDAR
VERSION:2.0
PRODID:-//Jump &amp; Jive - Athens Swing Team - ECPv6.6.3//NONSGML v1.0//EN
CALSCALE:GREGORIAN
METHOD:PUBLISH
X-WR-CALNAME:Jump &amp; Jive - Athens Swing Team
X-ORIGINAL-URL:https://jumpnjive.gr
X-WR-CALDESC:Jump &amp; Jive - Athens Swing Team - Εκδηλώσεις
REFRESH-INTERVAL;VALUE=DURATION:PT1H
X-Robots-Tag:noindex
X-PUBLISHED-TTL:PT1H
BEGIN:VTIMEZONE
TZID:Europe/Athens
BEGIN:DAYLIGHT
TZOFFSETFROM:+0200
TZOFFSETTO:+0300
TZNAME:EEST
DTSTART:20240331T010000
END:DAYLIGHT
BEGIN:STANDARD
TZOFFSETFROM:+0300
TZOFFSETTO:+0200
TZNAME:EET
DTSTART:20241027T010000
END:STANDARD
END:VTIMEZONE
BEGIN:VEVENT
DTSTART;TZID=Europe/Athens:20240908T193000
DTEND;TZID=Europe/Athens:20240908T203000
DTSTAMP:20260419T231053
CREATED:20240805T112119Z
LAST-MODIFIED:20240805T112119Z
UID:10578-1725823800-1725827400@jumpnjive.gr
SUMMARY:Vintage Night at Χοροστασιον
DESCRIPTION:Ανοίγουμε τη σεζον στο αγαπημένο μας Χοροστάσιον!Δίπλα από το μετρό Πανεπιστήμιο\, στο κέντρο της Αθήνας.Θα μας βρειτε εκεί να swingοροκάρουμε στην ταράτσα την Κυριακή 08 Σεπτ από τις 19:30.\nΗ πρώτη ώρα θα είναι σε ‘beginner friendly’ tempos.Φήμες λένε πως κατά τη διάρκεια της βραδιάς θα υπάρχουν χορευτικές εκπλήξεις .Είσοδος Ελέυθερη.ΧοροστασιονΣκουλενίου 2Β\, Πλατεία Κλαυθμώνος..Jump n JiveTalk Vintage To Me
URL:https://jumpnjive.gr/event/vintage-night-at-%cf%87%ce%bf%cf%81%ce%bf%cf%83%cf%84%ce%b1%cf%83%ce%b9%ce%bf%ce%bd/
LOCATION:Jump & Jive – Athens Swing Team\, Zan moreas 1\, Koukaki\, Athens\, 11741
CATEGORIES:Jump & Jive Events
ATTACH;FMTTYPE=image/png:https://jumpnjive.gr/wp-content/uploads/2024/08/party-2024-Ανάρτηση-Instagram.png
ORGANIZER;CN="Jump & Jive - Athens Swing Team":MAILTO:jumpnjive@gmail.com
END:VEVENT
BEGIN:VEVENT
DTSTART;TZID=Europe/Athens:20240928T130000
DTEND;TZID=Europe/Athens:20240930T010000
DTSTAMP:20260419T231053
CREATED:20240913T085839Z
LAST-MODIFIED:20240913T085839Z
UID:10628-1727528400-1727658000@jumpnjive.gr
SUMMARY:1st International Shuffle Workshop - Lauren from Paris\,France in Athens
DESCRIPTION:Το πρώτο διήμερο Workshop Shuffle είναι γεγονός!Έρχεται η φοβερή χορεύτρια Shuffle Lauren Ricc από το Παρίσι για πρώτη φορά στην Αθήνα!Μη χάσετε την ευκαιρία να πάρετε το πρώτο International Σεμινάριο Shuffle στην Ελλάδα.\nΤι θα έχει το διήμερο?Σεμινάρια για όλα τα Level :\nΣάββατο13:00-14:30 Beg/InterΚυριακή11:30-13:00 Inter/Adv Choreo13:20-14:20 Freestyle (Open to all levels)\n1 class 25 euro2 classes 45 euroAll classes 55 euro\nΔήλωσε συμμετοχή στη φόρμαhttps://forms.gle/UqJJc5UjkBAFtB1J8για να λάβεις άμεσα επιβεβαίωση της θέσης σου.\nΠαρτάρα στην ταρατσα του Χοροστασίου με Dj Crystal στα decks την Κυριακή από τις 21:00!Eίσοδος ελεύθερη.Θα γίνει χαμός!\n* Οι θέσεις είναι περιορισμένες\, θα τηρηθεί σειρά προτεραιότητας.* To σεμινάριο ενδέχεται να μη δημιουργηθεί αν δεν συμπληρωθεί ο απαραίτητος αριθμός συμμετοχών.\nΤι είναι το Shuffle?Το Shuffle είναι το χορευτικό στυλ το οποίο γεννήθηκε στη club κουλτούρα της Μελβούρνης στα 80s.H δημιουργία του αποδίδεται – όπως και του Hip Hop- στους Αφροαμερικανούς και στα πρώιμα είδη χορού\, Jazz\, Tap κτλ.\, από τα οποία ενσωματωθηκαν βήματα\, ενέργεις και κινησεις από τη δική τους χορευτική ιστορία. Έγινε πολύ δημοφιλές στο Λονδίνο και στις μέρες μας χορεύεται φανατικά παγκοσμίως.\nΕίναι ένας χορός κατά βάση αυτοσχεδιαστικός\, ο οποίος δίνει έμφαση σε γρήγορα και περίπλοκα βήματα με τα πόδια. H μουσική θα ειναι Electro Swing και House!#shuffledance #workshops\nΖαν Μωρεάς 1Κουκάκι\, Αθήνα.τηλ. επικοινωνίας 6948462754Ακολούθησέ μας στο @shuffledanceathens στο instagram.
URL:https://jumpnjive.gr/event/1st-international-shuffle-workshop-lauren-from-parisfrance-in-athens/
LOCATION:Jump & Jive – Athens Swing Team\, Zan moreas 1\, Koukaki\, Athens\, 11741
CATEGORIES:Jump & Jive Events
ATTACH;FMTTYPE=image/png:https://jumpnjive.gr/wp-content/uploads/2024/09/Shuffle-Dance-Intensive-Instagram-Post-1920-x-1080-px.png
ORGANIZER;CN="Jump & Jive - Athens Swing Team":MAILTO:jumpnjive@gmail.com
END:VEVENT
BEGIN:VEVENT
DTSTART;TZID=Europe/Athens:20240929T220000
DTEND;TZID=Europe/Athens:20240930T020000
DTSTAMP:20260419T231053
CREATED:20231129T212344Z
LAST-MODIFIED:20240731T142557Z
UID:10434-1727647200-1727661600@jumpnjive.gr
SUMMARY:Shuffle Dance Party at Horostasion with Lau from Paris
DESCRIPTION:Στα πλαίσια του διήμερου σεμιναρίου με τη Lau από το Παρίσι \, παρτάρουμε στην αγαπημένη μας ταράστα στο Xorostasion.\nΤο Shuffle Dance Party είναι γεγονός.\nΜουσικάρες από house\, electro αλλά και 80-90λες.\nΥποσχόμαστε Jam circles\, battles και φουλ running men \nΣας περιμένουμε!\nDj Set : ΤΒΑ\nΧοροστάσιον\nΚυριακή 29 Σεπτεμβρίου στο rooftop!\nΕίσοδος ελεύθερη
URL:https://jumpnjive.gr/event/shuffle-dance-party-at-horostasion/
LOCATION:Horostasion\, Skouleniou 2Β\, Athens\, Αττικής\, 10561\, Ελλάδα
CATEGORIES:Jump & Jive Events
ATTACH;FMTTYPE=image/png:https://jumpnjive.gr/wp-content/uploads/2023/11/5.png
ORGANIZER;CN="Jump & Jive - Athens Swing Team":MAILTO:jumpnjive@gmail.com
END:VEVENT
END:VCALENDAR