BEGIN:VCALENDAR
VERSION:2.0
PRODID:-//Jump &amp; Jive - Athens Swing Team - ECPv6.6.3//NONSGML v1.0//EN
CALSCALE:GREGORIAN
METHOD:PUBLISH
X-ORIGINAL-URL:https://jumpnjive.gr
X-WR-CALDESC:Jump &amp; Jive - Athens Swing Team - Εκδηλώσεις
REFRESH-INTERVAL;VALUE=DURATION:PT1H
X-Robots-Tag:noindex
X-PUBLISHED-TTL:PT1H
BEGIN:VTIMEZONE
TZID:Europe/Athens
BEGIN:DAYLIGHT
TZOFFSETFROM:+0200
TZOFFSETTO:+0300
TZNAME:EEST
DTSTART:20240331T010000
END:DAYLIGHT
BEGIN:STANDARD
TZOFFSETFROM:+0300
TZOFFSETTO:+0200
TZNAME:EET
DTSTART:20241027T010000
END:STANDARD
END:VTIMEZONE
BEGIN:VEVENT
DTSTART;TZID=Europe/Athens:20241102T153000
DTEND;TZID=Europe/Athens:20241102T170000
DTSTAMP:20260419T202123
CREATED:20241024T150915Z
LAST-MODIFIED:20241024T150915Z
UID:10646-1730561400-1730566800@jumpnjive.gr
SUMMARY:Lindy Hop Intensive Beginners
DESCRIPTION:Έλα στο Intensive σεμινάριο αρχαρίων και μάθε τα βασικά βήματα που μας αρέσει να χορεύουμε μέσα σε μόλις 1\,5 ώρα!Σάββατο 02.11.202415.30 -17.00\nΔήλωσε συμμετοχή στο σεμινάριο συμπληρώνοντας τα στοιχεία σου στην παρακάτω φόρμα !\nhttps://forms.gle/onTeQ8hBoTTPqfMb9\nΚόστος συμμετοχής: 20 ευρώ για τα μέλη των JnJ 25 για τα εξωτερικά μέληΚατά τη διάρκεια του μαθήματος θα κάνουμε rotation (αλλαγή ζευγαριών).\nΘα λάβεις email επιβεβαίωσης σύντομα με όλες τις λεπτομέρειες.Οι θέσεις είναι περιορισμένες\, θα τηρηθεί σειρά προτεραιότητας.\n*Τα σεμινάρια αρχαρίων έχουν πάντα μεγάλη συμμετοχή γι’ αυτό μην καθυστερείς την εγγραφή σου!\n**Επειδή το swing χορεύεται σε ζευγάρια προσπαθούμε να διατηρούμε καλή ισορροπία μεταξύ leaders & followers στα μαθήματα. Αυτό σημαίνει πως αν έχεις κάποι@ φίλ@ που ενδιαφέρεται καλό θα ήταν να έρθετε μαζί.\nΖαν Μωρεάς 1 & Ζαχαρίτσα 49Κουκάκι\, Αθήνα.Tηλ. επικοινωνίας2155509747
URL:https://jumpnjive.gr/event/lindy-hop-intensive-beginners/
LOCATION:Jump & Jive – Athens Swing Team\, Zan moreas 1\, Koukaki\, Athens\, 11741
CATEGORIES:Jump & Jive Events
ATTACH;FMTTYPE=image/jpeg:https://jumpnjive.gr/wp-content/uploads/2024/10/Copy-of-lindy-hop-mail.jpg
ORGANIZER;CN="Jump & Jive - Athens Swing Team":MAILTO:jumpnjive@gmail.com
END:VEVENT
BEGIN:VEVENT
DTSTART;TZID=Europe/Athens:20241107T180000
DTEND;TZID=Europe/Athens:20241110T233000
DTSTAMP:20260419T202123
CREATED:20240611T063030Z
LAST-MODIFIED:20240611T063030Z
UID:10544-1731002400-1731281400@jumpnjive.gr
SUMMARY:Wild West Festival 2024
DESCRIPTION:Wild West Festival is an international Swing & Jazz Dance Festival taking place very close to the sunny city of Athens.Registrations will open on the 1st of May!Visit www.wildwestfestival.gr
URL:https://jumpnjive.gr/event/wild-west-festival-2024/
LOCATION:The Ranch\, Sofiko Korinthias\, 200 04
CATEGORIES:Jump & Jive Events
ATTACH;FMTTYPE=image/png:https://jumpnjive.gr/wp-content/uploads/2024/06/A1-WWF-Flyer-Ανάρτηση-Instagram.png
ORGANIZER;CN="Wild West Xmas Festival":MAILTO:jnjwildwest@gmail.com
END:VEVENT
BEGIN:VEVENT
DTSTART;TZID=Europe/Athens:20241115T220000
DTEND;TZID=Europe/Athens:20241116T030000
DTSTAMP:20260419T202123
CREATED:20240401T150840Z
LAST-MODIFIED:20241106T110922Z
UID:10511-1731708000-1731726000@jumpnjive.gr
SUMMARY:Good rocking Tonight | A Swing VS Boogie Night at Blue Fox
DESCRIPTION:Την Παρασκευή 15 Nοεμβρίου έρχεται Partara στο πιο underground χορευτικό στέκι της πόλης.Dj Elias &  Dj Elena Evangelia#bethere\n.\nΕίσοδος ελεύθερη.\nΣας περιμένουμε!\n\nJump n Jive\nAthens Swing Team\nTalk Vintage to Me.\n\nBlue Fox\, Ασκληπιού 91\, Εξάρχεια
URL:https://jumpnjive.gr/event/a-swing-vs-boogie-night-dj-booglas-at-blue-fox/
LOCATION:Blue Fox Bar\, Asklhpiou 91\, Athens\, Attica\, 11472\, Greece
CATEGORIES:Jump & Jive Events
ATTACH;FMTTYPE=image/png:https://jumpnjive.gr/wp-content/uploads/2024/11/party-2024-Ανάρτηση-Instagram-1.png
ORGANIZER;CN="Jump & Jive - Athens Swing Team":MAILTO:jumpnjive@gmail.com
END:VEVENT
BEGIN:VEVENT
DTSTART;TZID=Europe/Athens:20241123T183000
DTEND;TZID=Europe/Athens:20241123T200000
DTSTAMP:20260419T202123
CREATED:20241106T110756Z
LAST-MODIFIED:20241106T110756Z
UID:10652-1732386600-1732392000@jumpnjive.gr
SUMMARY:Waacking Workshop with Eirini Damianidou
DESCRIPTION:Λος Άντζελες\, τέλη δεκαετίας 70.\nFlicks\, Drills και τρελές πόζες\, fem ή και όχι\, με στυλ πολύ στυλ και disco beats! \nΣεμινάριο WAACKING στη σχολή μας από τη μοναδική Ειρήνη Δαμιανίδου! \nΑυτό το σεμινάριο θα σε βοηθήσει να βελτιώσεις τον συντονισμό στα χέρια σου και το πάνω μέρος του σωματός σου καθώς και θα σου δώσει υλικό\, έμπνευση και ιδέες για να εμπλουτίσεις το χορό σου.\nΤο σεμινάριο απευθύνεται σε όσους έχουν μικρή ή καθόλου εμπειρία στο waack. \nΔήλωσε συμμετοχή τώρα συμπληρώνοντας τη φόρμα: \nhttps://forms.gle/hE5ftA3fDFkShWWc6 \nDate: 23/11\nTime: 18:30-20:00\nDamage: 15 ευρώ\nPlace: Jump n Jive – Ζαν Μωρεάς 1 – Αθήνα – Κουκάκι \n*Οι θέσεις είναι περιορισμένες\, θα τηρηθεί σειρά προτεραιότητας.\n.\n.\n.\nΛίγα λόγια για την Ειρήνη  🙂 \nΕίμαι η Ειρήνη Δαμιανίδου\, ασχολούμαι με τον χορό από πολύ μικρή ηλικία έχοντας περάσει από μπαλέτο\, σύγχρονο\, Latin\, hip hop.\nΤα τελευταία χρόνια ασχολούμαι επαγγελματικά με τα street styles. Ειδικεύομαι στο waacking\, ένα στιλ που χαρακτηρίζεται από την ελευθερία και την παρουσίαση της προσωπικότητας του χορευτή!\nΟ χορός για μένα είναι ζωή\, έκφραση\, τέχνη\, επικοινωνία. Το moto μου Love\, Peace & Unity.\n.\n.\n.\n.\n. \n#waackingworkshop #waackinggreece #wackingathens #street #discovibes #waacker #waacking #danceevent #jumpnjive
URL:https://jumpnjive.gr/event/waacking-workshop-with-eirini-damianidou/
LOCATION:Jump & Jive – Athens Swing Team\, Zan moreas 1\, Koukaki\, Athens\, 11741
CATEGORIES:Jump & Jive Events
ATTACH;FMTTYPE=image/png:https://jumpnjive.gr/wp-content/uploads/2024/11/workshop-Ανάρτηση-Instagram-6.png
ORGANIZER;CN="Jump & Jive - Athens Swing Team":MAILTO:jumpnjive@gmail.com
END:VEVENT
END:VCALENDAR