BEGIN:VCALENDAR
VERSION:2.0
PRODID:-//Jump &amp; Jive - Athens Swing Team - ECPv6.6.3//NONSGML v1.0//EN
CALSCALE:GREGORIAN
METHOD:PUBLISH
X-ORIGINAL-URL:https://jumpnjive.gr
X-WR-CALDESC:Jump &amp; Jive - Athens Swing Team - Εκδηλώσεις
REFRESH-INTERVAL;VALUE=DURATION:PT1H
X-Robots-Tag:noindex
X-PUBLISHED-TTL:PT1H
BEGIN:VTIMEZONE
TZID:Europe/Athens
BEGIN:DAYLIGHT
TZOFFSETFROM:+0200
TZOFFSETTO:+0300
TZNAME:EEST
DTSTART:20240331T010000
END:DAYLIGHT
BEGIN:STANDARD
TZOFFSETFROM:+0300
TZOFFSETTO:+0200
TZNAME:EET
DTSTART:20241027T010000
END:STANDARD
END:VTIMEZONE
BEGIN:VEVENT
DTSTART;TZID=Europe/Athens:20241206T210000
DTEND;TZID=Europe/Athens:20241206T220000
DTSTAMP:20260419T185506
CREATED:20241127T143628Z
LAST-MODIFIED:20241203T225237Z
UID:10662-1733518800-1733522400@jumpnjive.gr
SUMMARY:Nέο τμήμα Shuffle!
DESCRIPTION:Από αυτή την Παρασκευή ξεκίνα κάτι νέο που θα σου φτιάξει \n\nτη διάθεση\nτη φυσική κατάσταση\nτα moves των Χριστουγεννιάτικων (και όχι μόνο!) πάρτιςΈνα για το δωρεάν δοκιμαστικό σου την Παρασκευή στις 21:00.\nΣυμπλήρωσε τη φόρμα και έλα στην παρέα μας! \nΔιδάσκει η Έλλη Σπίγγου\n@shuffledanceathens
URL:https://jumpnjive.gr/event/n%ce%ad%ce%bf-%cf%84%ce%bc%ce%ae%ce%bc%ce%b1-shuffle/
LOCATION:Athens
CATEGORIES:Jump & Jive Events
ATTACH;FMTTYPE=image/png:https://jumpnjive.gr/wp-content/uploads/2024/08/9.png
END:VEVENT
BEGIN:VEVENT
DTSTART;VALUE=DATE:20241214
DTEND;VALUE=DATE:20241216
DTSTAMP:20260419T185506
CREATED:20241203T230157Z
LAST-MODIFIED:20241205T160300Z
UID:10670-1734134400-1734307199@jumpnjive.gr
SUMMARY:Burlesque & Solo Jazz Weekend
DESCRIPTION:  \nΕτοιμαστείτε για το πιο χορευτικό και διασκεδαστικό Σαββατοκύριακο του Δεκεμβρίου!\nΣτις 14 και 15 Δεκεμβρίου\, σας περιμένουμε στο Κουκάκι για ένα μοναδικό διήμερο σεμινάριο χορού με την υπογραφή της αγαπημένης μας Ολίνας από τη Θεσσαλονίκη και της κορυφαίας solo jazz χορεύτριας από τη Λιθουανία\, Egle Regelskis!\nΧορός\, κίνηση και ενέργεια σε δύο ξεχωριστά είδη: Burlesque και Solo Jazz. Μη χάσετε την ευκαιρία να δοκιμάσετε ή να εξελίξετε τις χορευτικές σας δεξιότητες παρέα με δύο σπουδαίες δασκάλες!\nΠάρτι Έναρξης:\nΤο event ξεκινάει δυναμικά με ένα pre-party την Παρασκευή 13 Δεκεμβρίου το βράδυ στο Blue Fox\, στα Εξάρχεια! Ελάτε να γνωριστούμε\, να χορέψουμε και να ζεσταθούμε για το διήμερο που ακολουθεί. \n\nΠρόγραμμα Σεμιναρίων:\nΣάββατο 14 Δεκεμβρίου\n18:00–19:00: Burlesque Dance Off\n19:00–20:00: Solo Jazz\n\nΚυριακή 15 Δεκεμβρίου\n12:00–13:00: Classic Burlesque with Props\n13:00–14:00: Christmas Blues \nΚόστος : \n1 ώρα σεμιναρίου : 15 ευρώ\n4 (όλες οι) ώρες σεμιναρίων : 40 ευρώ \n\nBurlesque Dance Off\nΙntensive Burlesque intro.\nΕξερευνούμε την κινησιολογία και διάφορους ρυθμούς\, μέσα από μία σειρά μίνι routines που θα ξεκλειδώσουν το κορμί και θα μας δώσουν μία γεύση από πολλά διαφορετικά είδη Burlesque όπως flapper\, blues \, cabaret\, floorwork\, showgirl\, exotic. Ετοιμαστείτε να ιδρώσουμε με sassy τρόπο και να κουνηθούμε αισθησιακά! ( Άνετα ρούχα ή γυμναστηριακά-κολάν- φόρμες- καλσόν- σορτς- πετσέτα  με παπούτσια χορού ή κάποιο άνετο τακούνι ή αθλητικά)\n\n\nClassic Burlesque with Props\nΤο κλασσικό performance με επιρροες chorus line περιεχει tease και revealing με βεντάλιες. Μία χορογραφία γεμάτη με διαφορες τεχνικές όπως facial expressions\, props\, stage confidence\, reveal and conceal. ( Φερτε ενα πουκάμισο με κουμπιά ή ένα τοπ που να ξεκουμπώνει και να ανοίγει εντελώς από μπροστά\, χορευτικό παπούτσι και μία απλή βεντάλια)\n\nChristmas Blues\nΤο σόλο blues χαρακτηρίζεται ώς the proud sister of burlesque. Sensual Blues solo Χριστουγεννιάτικη χορογραφία by Elvis.
URL:https://jumpnjive.gr/event/burlesque-solo-jazz-weekend/
LOCATION:Jump & Jive – Athens Swing Team\, Zan moreas 1\, Koukaki\, Athens\, 11741
CATEGORIES:Jump & Jive Events
ATTACH;FMTTYPE=image/jpeg:https://jumpnjive.gr/wp-content/uploads/2024/12/burlesque-weekend.jpg
ORGANIZER;CN="Jump & Jive - Athens Swing Team":MAILTO:jumpnjive@gmail.com
END:VEVENT
BEGIN:VEVENT
DTSTART;VALUE=DATE:20241220
DTEND;VALUE=DATE:20241221
DTSTAMP:20260419T185506
CREATED:20241203T225858Z
LAST-MODIFIED:20241203T230431Z
UID:10668-1734652800-1734739199@jumpnjive.gr
SUMMARY:Christmas Scholarship for our members
DESCRIPTION:Γιορτάζουμε τα Χριστούγεννα και τη νέα χρονιά που θα μας έρθει και σας κάνουμε δώρο μαθήματα χορού!Δήλωσε συμμετοχή στη παρακάτω φόρμα για να λάβεις μέρος στη κλήρωση μιας μηνιαίας συνδρομής.Ο νικητής θα λάβει ένα μήνα δωρεάν μαθημάτων στο τμήμα της επιλογής του.\nDetails :\nΗ υποτροφία αφορά ένα μήνα ημερολογιακά και για ένα τμήμα.\nΠρουπόθεση να συμμετέχει ήδη σε τουλάχιστον ένα τμήμα για το μήνα Δεκέμβριο και να μην υπάρχει κάποια οικονομική εκκρεμότητα στη σχολή.\nΑν δεν έχει συμπληρωθεί η παρακάτω φόρμα δεν μπορεί να λάβει μέρος στη κλήρωση.\nΗ κλήρωση θα πραγματοποιηθεί στο Χριστουγεννιάτικο πάρτυ μας!Μη το χάσεις είναι στις 20 Δεκεμβρίου στον Ορφέα με liv-αρα από τους Jumpin Bones!!!\nΟ νικητής θα ενημερωθεί και ηλεκτρονικά.\nJump & Jive Athens Swing TeamΖαν Μωρεάς 1 & Ζαχαρίτσα 49Κουκάκι\, Αθήνα.τηλ. επικοινωνίας 215 5509 747\nhttps://forms.gle/2DjVLxLNySpKCCgdA
URL:https://jumpnjive.gr/event/christmas-scholarship/
LOCATION:Jump & Jive – Athens Swing Team\, Zan moreas 1\, Koukaki\, Athens\, 11741
CATEGORIES:Jump & Jive Events
ORGANIZER;CN="Jump & Jive - Athens Swing Team":MAILTO:jumpnjive@gmail.com
END:VEVENT
END:VCALENDAR