BEGIN:VCALENDAR
VERSION:2.0
PRODID:-//Jump &amp; Jive - Athens Swing Team - ECPv6.6.3//NONSGML v1.0//EN
CALSCALE:GREGORIAN
METHOD:PUBLISH
X-WR-CALNAME:Jump &amp; Jive - Athens Swing Team
X-ORIGINAL-URL:https://jumpnjive.gr
X-WR-CALDESC:Jump &amp; Jive - Athens Swing Team - Εκδηλώσεις
REFRESH-INTERVAL;VALUE=DURATION:PT1H
X-Robots-Tag:noindex
X-PUBLISHED-TTL:PT1H
BEGIN:VTIMEZONE
TZID:Europe/Athens
BEGIN:DAYLIGHT
TZOFFSETFROM:+0200
TZOFFSETTO:+0300
TZNAME:EEST
DTSTART:20250330T010000
END:DAYLIGHT
BEGIN:STANDARD
TZOFFSETFROM:+0300
TZOFFSETTO:+0200
TZNAME:EET
DTSTART:20251026T010000
END:STANDARD
END:VTIMEZONE
BEGIN:VEVENT
DTSTART;TZID=Europe/Athens:20250111T170000
DTEND;TZID=Europe/Athens:20250111T183000
DTSTAMP:20260419T172735
CREATED:20240219T153228Z
LAST-MODIFIED:20250107T131504Z
UID:10484-1736614800-1736620200@jumpnjive.gr
SUMMARY:Shuffle January 2025 Intensive - Beginner level
DESCRIPTION:Νέος κύκλος αρχαρίων Shuffle Dance!\nΟ κύκλος αυτός απευθύνεται σε όσους έχουν μικρή ή και καθόλου εμπειρία στο χορό. Μετά την ολοκλήρωση αυτού του κύκλου σεμιναρίων θα μπορείς να ενταχθείς στο τμήμα Shuffle κάθε Παρασκευή στις 21:00 ή το Σάββατο στις 12:00 (παρακολουθώντας και τα δύο σεμινάρια)! \nΤο Shuffle dance είναι το χορευτικο στυλ το οποίο γεννήθηκε στη club κουλτούρα της Μελβούρνης στα 80s.\nH δημιουργία του αποδίδεται – όπως και του Hip Hop- στους Αφροαμερικανούς και στα πρώιμα είδη χορού\, Jazz\, Tap κτλ.\, από τα οποια ενσωματωθηκαν βήματα\, ενέργεις και κινησεις από τη δική τους χορευτική ιστορία.\nΈγινε πολύ δημοφιλές στο Λονδίνο και στις μέρες μας χορεύεται φανατικά παγκοσμίως.\nΕίναι ένας χορός κατά βάση αυτοσχεδιαστικός\, ο οποίος δίνει έμφαση σε γρήγορα και περίπλοκα βήματα με τα πόδια. \nΕμείς θα ξεκινήσουμε μαθαίνοντας τις βασικές κινήσεις και φιγούρες και θα προσεγγίσουμε τον αυτοσχεδιασμό.\nH μουσική θα ειναι Electro Swing και House! \nΔήλωσε συμμετοχή online\, συμπληρώνοντας τα στοιχεία σου στη φόρμα και θα λάβεις email επιβεβαίωσης με όλες τις λεπτομέρειες! \nΤα μαθήματα θα πραγματοποιηθούν τα Σάββατα : \n11/01 17.15- 18.30\n18/01 17.15- 18.30 \nΠακέτο προπληρωμής μαθημάτων: 30 ευρώ\nDrop-in (με κράτηση θέσης) : 20 ευρώ/μάθημα \nΖαν Μωρεάς 1\nΚουκάκι\, Αθήνα.\nτηλ. επικοινωνίας 6948462754\nΑκολούθησέ μας στο @shuffledanceathens στο instagram.
URL:https://jumpnjive.gr/event/shuffle-intensive-workshop-beginners-level/
LOCATION:Jump & Jive – Athens Swing Team\, Zan moreas 1\, Koukaki\, Athens\, 11741
CATEGORIES:Jump & Jive Events
ATTACH;FMTTYPE=image/jpeg:https://jumpnjive.gr/wp-content/uploads/2023/07/1-486-scaled.jpg
ORGANIZER;CN="Jump & Jive - Athens Swing Team":MAILTO:jumpnjive@gmail.com
END:VEVENT
BEGIN:VEVENT
DTSTART;TZID=Europe/Athens:20250118T183000
DTEND;TZID=Europe/Athens:20250118T220000
DTSTAMP:20260419T172735
CREATED:20241024T153523Z
LAST-MODIFIED:20250108T204400Z
UID:10649-1737225000-1737237600@jumpnjive.gr
SUMMARY:Practice & Movie
DESCRIPTION:Το Σάββατο 18 Ιανουαρίου μαζευόμαστε στη σχολή για practice σέσιον και αμέσως μετά βλέπουμε παρέα groovy ταινιάκι.\nΘα έχουμε φρέσκα ποπ κορν για ολ@!Εσύ μπορείς να φέρεις κάτι να πιούμε\, ψιψιψόνια και ίσως ένα σκαμπό/μαξιλαράκι για να κάτσεις.\n\nΣάββατο 18:30Προβολή ταινίας 20:00 \n#movienight #letsdance #παρεα
URL:https://jumpnjive.gr/event/practice-movie/
LOCATION:Jump & Jive – Athens Swing Team\, Zan moreas 1\, Koukaki\, Athens\, 11741
CATEGORIES:Jump & Jive Events
ATTACH;FMTTYPE=image/png:https://jumpnjive.gr/wp-content/uploads/2024/10/events-insta-fb-covers-2024-6.png
ORGANIZER;CN="Jump & Jive - Athens Swing Team":MAILTO:jumpnjive@gmail.com
END:VEVENT
END:VCALENDAR