BEGIN:VCALENDAR
VERSION:2.0
PRODID:-//Jump &amp; Jive - Athens Swing Team - ECPv6.6.3//NONSGML v1.0//EN
CALSCALE:GREGORIAN
METHOD:PUBLISH
X-WR-CALNAME:Jump &amp; Jive - Athens Swing Team
X-ORIGINAL-URL:https://jumpnjive.gr
X-WR-CALDESC:Jump &amp; Jive - Athens Swing Team - Εκδηλώσεις
REFRESH-INTERVAL;VALUE=DURATION:PT1H
X-Robots-Tag:noindex
X-PUBLISHED-TTL:PT1H
BEGIN:VTIMEZONE
TZID:Europe/Athens
BEGIN:DAYLIGHT
TZOFFSETFROM:+0200
TZOFFSETTO:+0300
TZNAME:EEST
DTSTART:20250330T010000
END:DAYLIGHT
BEGIN:STANDARD
TZOFFSETFROM:+0300
TZOFFSETTO:+0200
TZNAME:EET
DTSTART:20251026T010000
END:STANDARD
END:VTIMEZONE
BEGIN:VEVENT
DTSTART;TZID=Europe/Athens:20250201T200000
DTEND;TZID=Europe/Athens:20250202T000000
DTSTAMP:20260419T160215
CREATED:20241203T230351Z
LAST-MODIFIED:20250116T093620Z
UID:10673-1738440000-1738454400@jumpnjive.gr
SUMMARY:Maxi + Κοπή Πίτας + Dance Party - Dimitris Papadopoulos Live
DESCRIPTION:Ο Αργεντίνος Maxi στην Αθήνα με αγαπημέν@ μας φίλ@ μουσικούς και κοπή πίτας!Ήρθε η ώρα για :\n???? Live μουσικάρες από τον εκπληκτικό κουαρτέτο του Δημήτρη Παπαδόπουλου???? Κοπή Πίτας του 2025 (ο νικητής κερδίζει Party Pass για το Wild West Festival 2025!)???? Show από τον Maxi & την Έλενα.???? Χορό μέχρι τελικής πτώσης!\n.Φουλ σετ για χορό!+ οφ στειτζ Set από DJ Elias + DJ Elena Evangelia…και όλα αυτά στη μουσική σκηνή του Orfea Cafe Bar!..Τι λέτε λοιπόν;Χορεύουμε;..#letsdance #jumpnjive #livemusic #talkvintagetome\n\nΣάββατο 01/02Ώρα έναρξης: 20.00Συμμετοχή: 6 ευρώ\nOrfeas Live Cafe Bar RestaurantΦωκίωνος Νέγρη 25Αθήνα\, ΚυψέληΤηλέφωνο για κρατήσεις 2108668544\, 6939187511https://www.facebook.com/orfeas.cafe/
URL:https://jumpnjive.gr/event/christmas-dance-party-the-jumpin-bones-live/
LOCATION:Orfeas Bar\, Φωκίωνος Νέγρη 25\, Αθήνα\, 11257\, Ελλάδα
CATEGORIES:Jump & Jive Events
ATTACH;FMTTYPE=image/png:https://jumpnjive.gr/wp-content/uploads/2024/12/events-insta-fb-covers-2024-7.png
ORGANIZER;CN="Jump & Jive - Athens Swing Team":MAILTO:jumpnjive@gmail.com
END:VEVENT
BEGIN:VEVENT
DTSTART;TZID=Europe/Athens:20250207T220000
DTEND;TZID=Europe/Athens:20250208T023000
DTSTAMP:20260419T160215
CREATED:20241203T225647Z
LAST-MODIFIED:20250116T080237Z
UID:10665-1738965600-1738981800@jumpnjive.gr
SUMMARY:Good Rocking Tonight - Blue Fox Party
DESCRIPTION:Την Παρασκευή 07 Ιανουαρίου έρχεται Partara στο πιο underground χορευτικό στέκι της πόλης.Dj Elias\n#bethere...Είσοδος ελεύθερη.Σας περιμένουμε!Jump n JiveAthens Swing TeamTalk Vintage to Me.Blue Fox\, Ασκληπιού 91\, Εξάρχεια
URL:https://jumpnjive.gr/event/good-rocking-tonight-blue-fox-party/
LOCATION:Blue Fox Bar\, Asklhpiou 91\, Athens\, Attica\, 11472\, Greece
CATEGORIES:Jump & Jive Events
ATTACH;FMTTYPE=image/png:https://jumpnjive.gr/wp-content/uploads/2024/12/party-2024-Ανάρτηση-Instagram-3-1.png
ORGANIZER;CN="Jump & Jive - Athens Swing Team":MAILTO:jumpnjive@gmail.com
END:VEVENT
BEGIN:VEVENT
DTSTART;TZID=Europe/Athens:20250215T173000
DTEND;TZID=Europe/Athens:20250215T190000
DTSTAMP:20260419T160215
CREATED:20250204T074549Z
LAST-MODIFIED:20250213T135320Z
UID:10697-1739640600-1739646000@jumpnjive.gr
SUMMARY:Waacking with Jo
DESCRIPTION:Let’s Waack!\nΤο Σαββατο 15 Φεβρουαρίου φιλοξενούμε στη σχολη μας τη Jo! #αχαστο\nΑυτό το σεμινάριο θα σε βοηθήσει να βελτιώσεις τον συντονισμό στα χέρια σου και το πάνω μέρος του σωματός σου καθώς και θα σου δώσει υλικό\, έμπνευση και ιδέες για να εμπλουτίσεις το χορό σου.\nΤο σεμινάριο απευθύνεται σε όσους έχουν μικρή ή καθόλου εμπειρία στο waack. \nΛίγα λόγια για τη Jo 🙂\nΗ Γεωργία Παναγοπούλου (aka Τζο) είναι 24 ετών και είναι απόφοιτος του τμήματος Επικοινωνίας\, Μέσων και Πολιτισμού του Παντείου Πανεπιστημίου. Η ακαδημαϊκή της εξειδίκευση αφορά τις πολιτισμικές σπουδές. Η ενασχόληση της με το συγκεκριμένο κλάδο συνδέεται άρρηκτα με τη χρόνια αγάπη και πρακτική της στα street και club είδη χορού (hip hop\, waacking\, popping\, locking\, waving\, house\, street choreography). Ασχολείται με το χορό από δώδεκα ετών\, με κύρια ενασχόληση το street choreography\, ενώ τα τελευταία χρόνια ασχολείται με τον αυτοσχεδιασμό στο Waacking και στο Hip hop. Δραστηριοποιείται ως δασκάλα χορού τα τελευταία τρία χρόνια και συνεχώς συμμετέχει σε διαγωνισμούς (battles) στη Θεσσαλονίκη\, στην Αθήνα και στο εξωτερικό (Waacking Project 54\, Red Bull Dance Your Style\, Φεστιβάλ Αθηνών και Επιδαύρου “All Styles Battle”\, Follow the Waack). \n\n\n\n\n\n\n\n\n\n\n\n\n\n\n\n????\n\n\n\n\n\nDate: 15/02\nTime: 17:30-19:00\n???? Damage: 20 ευρώ | Mέλη JnJ : 15 ευρώ \nPlace: Jump n Jive – Ζαν Μωρεάς 1 – Αθήνα – Κουκάκι \n*Οι θέσεις είναι περιορισμένες\, θα τηρηθεί σειρά προτεραιότητας. \n#σεμιναρια #waacking #αχαστο #waackingworkshop #waackinggreece #wackingathens #street #discovibes #waacker #waacking #danceevent #jumpnjive \n Συμπλήρωσε τη φόρμα για να δηλώσεις συμμετοχή :
URL:https://jumpnjive.gr/event/waacking-with-jo/
LOCATION:Jump & Jive – Athens Swing Team\, Zan moreas 1\, Koukaki\, Athens\, 11741
CATEGORIES:Jump & Jive Events
ATTACH;FMTTYPE=image/png:https://jumpnjive.gr/wp-content/uploads/2025/02/events-insta-fb-covers-2024-9.png
ORGANIZER;CN="Jump & Jive - Athens Swing Team":MAILTO:jumpnjive@gmail.com
END:VEVENT
END:VCALENDAR