BEGIN:VCALENDAR
VERSION:2.0
PRODID:-//Jump &amp; Jive - Athens Swing Team - ECPv6.6.3//NONSGML v1.0//EN
CALSCALE:GREGORIAN
METHOD:PUBLISH
X-WR-CALNAME:Jump &amp; Jive - Athens Swing Team
X-ORIGINAL-URL:https://jumpnjive.gr
X-WR-CALDESC:Jump &amp; Jive - Athens Swing Team - Εκδηλώσεις
REFRESH-INTERVAL;VALUE=DURATION:PT1H
X-Robots-Tag:noindex
X-PUBLISHED-TTL:PT1H
BEGIN:VTIMEZONE
TZID:Europe/Athens
BEGIN:DAYLIGHT
TZOFFSETFROM:+0200
TZOFFSETTO:+0300
TZNAME:EEST
DTSTART:20180325T010000
END:DAYLIGHT
BEGIN:STANDARD
TZOFFSETFROM:+0300
TZOFFSETTO:+0200
TZNAME:EET
DTSTART:20181028T010000
END:STANDARD
END:VTIMEZONE
BEGIN:VEVENT
DTSTART;TZID=Europe/Athens:20180209T201500
DTEND;TZID=Europe/Athens:20180209T213000
DTSTAMP:20260425T044335
CREATED:20180206T111352Z
LAST-MODIFIED:20180206T111352Z
UID:8802-1518207300-1518211800@jumpnjive.gr
SUMMARY:Workshop Flamenco- Learn the Basics ΙΙ with Lili Spanidi
DESCRIPTION:Σεμινάριο Flamenco με τη Λίλη Σπανίδη!!!\nΈλα να γνωρίσεις τον μαγικό κόσμο του Flamenco!\nΤο Φλαμένκο εκτός από τέχνη και τρόπος έκφρασης είναι τρόπος ζωής!!! \nΌροι συμμετοχής:\n~ Το σεμινάριο θα είναι μία εισαγωγή στις βασικές αρχές του Flamenco.\n~ To επίπεδο είναι κατάλληλο για όλους.\n~ Η συμμετοχή γίνεται συμπληρώνοντας τη φόρμα\nhttps://goo.gl/forms/QL1GnUJGXyIagd7v1 \n*Δηλώσεις συμμετοχής έως 7/02.\n\nΚόστος σεμιναρίου:\n– 8 ευρώ για τα μέλη των Jump & Jive.\n– 10 ευρώ για τα μη μέλη της ομάδας. \nΔιάρκεια: 1 ώρα και 15′ (20:15-21:30) \nΟι θέσεις είναι περιορισμένες\, θα τηρηθεί σειρά προτεραιότητας. \nH Λιλή Σπανίδη είναι καθηγήτρια μπαλέτου\, μοντέρνου\, τζαζ και flamenco χορού. Είναι κάτοχος των διπλωμάτων του ISTD (Jazz Awards και Sociedad de baile español). Έχει παρακολουθήσει σεμινάρια χορού στο Λονδίνο. Τέλος έχει συνεργαστεί ως χορεύτρια με επαγγελματικές ομάδες όπως Πρόσκαιρη Σύνθεση και ISTD Greek Company. \nΠαρασκευή 9/02\nΖαν Μωρεάς 1\, Κoυκάκι.\n(Δίπλα στο μετρό Συγγρού-Φιξ)
URL:https://jumpnjive.gr/event/workshop-flamenco-learn-basics-%ce%b9%ce%b9-lili-spanidi/
LOCATION:Athens
CATEGORIES:Jump & Jive Events
ORGANIZER;CN="Jump & Jive - Athens Swing Team":MAILTO:jumpnjive@gmail.com
END:VEVENT
END:VCALENDAR