BEGIN:VCALENDAR
VERSION:2.0
PRODID:-//Jump &amp; Jive - Athens Swing Team - ECPv6.6.3//NONSGML v1.0//EN
CALSCALE:GREGORIAN
METHOD:PUBLISH
X-ORIGINAL-URL:https://jumpnjive.gr
X-WR-CALDESC:Jump &amp; Jive - Athens Swing Team - Εκδηλώσεις
REFRESH-INTERVAL;VALUE=DURATION:PT1H
X-Robots-Tag:noindex
X-PUBLISHED-TTL:PT1H
BEGIN:VTIMEZONE
TZID:Europe/Athens
BEGIN:DAYLIGHT
TZOFFSETFROM:+0200
TZOFFSETTO:+0300
TZNAME:EEST
DTSTART:20180325T010000
END:DAYLIGHT
BEGIN:STANDARD
TZOFFSETFROM:+0300
TZOFFSETTO:+0200
TZNAME:EET
DTSTART:20181028T010000
END:STANDARD
END:VTIMEZONE
BEGIN:VEVENT
DTSTART;TZID=Europe/Athens:20180216T220000
DTEND;TZID=Europe/Athens:20180217T040000
DTSTAMP:20260425T044513
CREATED:20180206T112131Z
LAST-MODIFIED:20180206T112131Z
UID:8806-1518818400-1518840000@jumpnjive.gr
SUMMARY:Good Rocking Tonight - Swing & Roll Dance Party at Blue FOx
DESCRIPTION:Σας περιμένουμε στο αγαπημένο μας Blue Fox για πολύ Swing\, R’n’R\, Blues & Rockabilly!!!\nAπό τις 22.00!\nH πρώτη ώρα θα είναι beginner’s hour (22.00 – 23.00) \, που σημαίνει\, μουσικές σε αργό τέμπο για φουλ εξάσκηση από νέους και παλαιότερους χορευτές! \n#ηφασηειναι #beginnershour #jumpnjive \nJoin us\,\nBlue Fox Bar\nAsklhpiou 91\nΕίσοδος Ελεύθερη
URL:https://jumpnjive.gr/event/good-rocking-tonight-swing-roll-dance-party-blue-fox/
LOCATION:Athens
CATEGORIES:Jump & Jive Events
ATTACH;FMTTYPE=image/jpeg:https://jumpnjive.gr/wp-content/uploads/2018/02/27657434_1160578017410864_7619311710863865079_n-1-1.jpg
ORGANIZER;CN="Jump & Jive - Athens Swing Team":MAILTO:jumpnjive@gmail.com
END:VEVENT
END:VCALENDAR