BEGIN:VCALENDAR
VERSION:2.0
PRODID:-//Jump &amp; Jive - Athens Swing Team - ECPv6.6.3//NONSGML v1.0//EN
CALSCALE:GREGORIAN
METHOD:PUBLISH
X-ORIGINAL-URL:https://jumpnjive.gr
X-WR-CALDESC:Jump &amp; Jive - Athens Swing Team - Εκδηλώσεις
REFRESH-INTERVAL;VALUE=DURATION:PT1H
X-Robots-Tag:noindex
X-PUBLISHED-TTL:PT1H
BEGIN:VTIMEZONE
TZID:Europe/Athens
BEGIN:DAYLIGHT
TZOFFSETFROM:+0200
TZOFFSETTO:+0300
TZNAME:EEST
DTSTART:20180325T010000
END:DAYLIGHT
BEGIN:STANDARD
TZOFFSETFROM:+0300
TZOFFSETTO:+0200
TZNAME:EET
DTSTART:20181028T010000
END:STANDARD
END:VTIMEZONE
BEGIN:VEVENT
DTSTART;TZID=Europe/Athens:20180225T133000
DTEND;TZID=Europe/Athens:20180225T143000
DTSTAMP:20260425T044641
CREATED:20180206T112918Z
LAST-MODIFIED:20180206T112918Z
UID:8821-1519565400-1519569000@jumpnjive.gr
SUMMARY:Musicality Workshop - Daniil & Maria in Athens!
DESCRIPTION:Let’s work on our… Musicality! \n‘At this workshop we will find diffrent voices in the music\, will think about the structure\, and will try to understand how to use that knowlege: how to put figures in the music\, to play with solo instrument or rhthm section\, how to be another instrument in the music. ‘ \nΔηλώστε συμμετοχή συμπληρώνοντας την φόρμα\nhttps://goo.gl/forms/f304MROD08TKXD6R2 \nΤο επίπεδο είναι ανοιχτό και είμαστε σίγουροι ότι θα κάνει καλό σε όλους να το παρακολουθησουν\, παλιούς και νέους χορευτές 🙂 \nΌροι συμμετοχής:\n~ Κατάλληλο για όλους!\n\nΚόστος σεμιναρίου: 15 ευρώ.\nΔιάρκεια: 1 ώρα (13.30-14.30)\nΟι θέσεις είναι περιορισμένες\, θα τηρηθεί σειρά προτεραιότητας. \nΚυριακή 25/02 \, 13.30-14.30\, Αρχιτεκτονική\, Γκάζι. \n— \nΠοιος δεν τους είδε στην εκπληκτική χορογραφία τους στο RTSF τον περασμένο Φλεβάρη? Είδατε το performance τους στο LSU και δεν.. σοκαριστήκατε? Τι να σχολιάσουμε πρώτο?\nΤις απίστευτες αλλαγές στις δυναμικές ή τις διαφορετικές ποιότητες στον χόρό τους? Την αβίαστη κίνηση τους στις πολύ δυσκολές αλλά εκτελεσμένες με απλότητα & περίσσια χάρη φιγούρες? \nΑυτόν τον Μάρτη ετοιμαστείτε για ένα διήμερο με πολύ πολύ Jazz και πολύ Lindy hop από τον Daniil Nikulin και την Maria Philippova από την Ρωσία! Αμέτρητες φορές νικητές σε όποιο διαγωνισμό και αν συμμετέχουν\, solo ή partner.\nΞεκινώντας με Boogie Woogie το 2012\, επικεντρώθηκαν στο Lindy Hop από το 2013\, το οποίο αποδείχθηκε πιο ταιριαστό γι’ αυτούς. Στις μέρες μας ο Daniil και η Maria είναι γνωστοί παγκοσμίως στην κοινότητα των swing χορών\, και διδάσκουν σε όλη την Ευρώπη. Εμπνέονται με μεράκι από παλιές και σύγχρονες χορογραφίκες μεθόδους. \n«Η δική μας κεντρική ιδεά είναι πως χορεύουμε για να εκφράσουμε τα συναισθήματα μας και αντίληφθούμε την μουσική μέσα από το χορό. Έτσι για να είμαστε σε θέση να εκφράσουμε τον εαυτό μας περισσότερο ή λιγότερο πλήρως\, θα πρέπει να έχουμε ένα πολύ ευέλικτο και έντονα δημιουργικό μέσο : την τεχνική μας ως ζευγάρι.\nΈτσι δίνουμε βάση πολύ στην τεχνική και τη θεωρία\, αλλά ξέρουμε πως δεν είναι αυτός ο κύριος στόχος. Στόχος μας είναι η ελευθερία έκφρασης μέσω της επαφής με το ζευγάρι. Πέντε λέξεις να περιγράψουν τη φιλοσοφία μας: συνειδητοποίηση\, γνώσεις\, τεχνική\, μουσικότητα\, ανθρωπότητα.» \nΕνδεικτικά:\nRussian Champions in Boogie Woogie (2015) and Lindy Hop (2016).\nWinners of Showcase Competition in Lindy Shock 2016\, Budapest.\nWinners of Lindy Hop Strictly Competiton and Green Dragon Choreography Competition in Dragon Swing 2016\, Krakow. \nΓια περισσότερες λεπτομέρεις δείτε την σελίδα τους:\nhttps://www.daniilandmaria.com/ και το επίσημο fb page:\nDaniil Nikulin & Maria Filippova \n#ηφασηειναι #workshop #lindyhop #jazz #charleston #solo \nΛίγα λόγια για τους Jump & Jive:\nΟι Jump & Jive – Athens Swing & Roll Team είμαστε μία μεγάλη χορευτική οικογένεια που δημιουργήθηκε με σκοπό τη διάδοση των αυθεντικών Swing χορών\, που αναπτύχθηκαν τις δεκαετίες ’20-’50 στην Αμερική. Η φαμίλια μας απαρτίζεται από μικρούς (από 3\,5 ετών) & μεγάλους χορευτές!!! Ζούμε\, χορεύουμε\, διδάσκουμε και εξελισσόμαστε σε μιαν άλλη εποχή\, στις δεκαετίες από το ’20 ως το ’50! Χορεύουμε από Charleston & Lindy hop μέχρι Rock n Roll & Boogie Woogie!! Η Έλενα\, ο Τόλης\, η Κατερίνα και ο Δήμος\, μας καθοδηγούν σε βήματα\, μαθήματα\, party\, events & συναυλίες!!! Έχουμε το σπίτι μας στο Κουκάκι αλλά & στο Π. Φάληρο & παρέχουμε μαθήματα 6 μέρες την εβδομάδα!! Από Δευτέρα ως Σάββατο\, για κάθε ηλικίας swing kids!!! Βρείτε το εβδομαδιαίο πρόγραμμά μας στο… μενού(!) της σελίδάς μας & ακολουθήστε μας για να ενημερώνεστε για τους νέους κύκλους μαθημάτων\, τα σεμινάρια και τα event που οργανώνουμε καθημερινά. 🙂
URL:https://jumpnjive.gr/event/musicality-workshop-daniil-maria-athens/
LOCATION:Athens
CATEGORIES:Jump & Jive Events
ATTACH;FMTTYPE=image/jpeg:https://jumpnjive.gr/wp-content/uploads/2018/02/26231362_1146240025511330_755183218013562230_n-1.jpg
ORGANIZER;CN="Jump & Jive - Athens Swing Team":MAILTO:jumpnjive@gmail.com
END:VEVENT
BEGIN:VEVENT
DTSTART;TZID=Europe/Athens:20180225T203000
DTEND;TZID=Europe/Athens:20180226T030000
DTSTAMP:20260425T044641
CREATED:20180206T113154Z
LAST-MODIFIED:20180206T113154Z
UID:8824-1519590600-1519614000@jumpnjive.gr
SUMMARY:The Party - Daniil & Maria in Athens - Speakeasies Swing Band
DESCRIPTION:Το μεγάλο πάρτυ του διημέρου θα διεξαχθεί την Κυριακή 25/02 στον μεγάλο και φιλόξενο χώρο της Αρχιτεκτονικής στο Γκάζι!\nΜαζί μας\, οι The Speakeasies Swing Band\, ένα από τα πιο καταξιωμένα σχήματα και ίσως το μουσικό σχήμα με την καλύτερη swing-o groova στην Ευρώπη! \nΘα συνοδέψουν μια αξέχαστη βραδιά γεμάτη με Performances και Shows από τον Daniil & τη Maria\, το Chorus Line της σχολής μας καθώς και guest performances tba! \nGuest Dj και ερχόμενος εξ Αμερικής\, ο εκπληκτικός δάσκαλος\, χορογράφος και χορευτής Ben White που θα βρίσκεται μαζί μας για τη βραδιά! O Ben έχει σαρώσει τους διαγωνισμούς σε όλα τα festival παγκοσμίως τα τελευταία χρόνια και ζει ζωή .. νομά του swing\, γυρίζοντας τον κόσμο κάθε εβδομάδα\, παραδίνοντας μαθήματα και παίζοντας μουσικές στα πιο μεγάλα φεστιβάλ!!! \nΠΡΟΣΟΧΗ! Ο αριθμός των εισητηρίων προπώλησης είναι περιορισμένος!\nΠροπώληση εισιτηρίων μόνο στο χώρο μας στο Κουκάκι εως και 10 Φεβρουαρίου! \nΤιμές: \n8 ευρώ : προπώληση για όσους παρακολουθήσουν τα μάθηματα του διημέρου\n10 ευρώ : προπώληση\n12 ευρώ : γενική είσοδος την βραδιά του event. \n25/02/2018\nΑριτεκτονική Live\nΕΛΑΣΙΔΩΝ 6 ΓΚΑΖΙ(ΑΠΟ ΠΕΙΡΑΙΩΣ 116)\nΤΗΛ.210-9014428
URL:https://jumpnjive.gr/event/party-daniil-maria-athens-speakeasies-swing-band/
LOCATION:Athens
CATEGORIES:Jump & Jive Events
ATTACH;FMTTYPE=image/jpeg:https://jumpnjive.gr/wp-content/uploads/2018/02/26730747_1145170992284900_3589764046627347957_n-1.jpg
ORGANIZER;CN="Jump & Jive - Athens Swing Team":MAILTO:jumpnjive@gmail.com
END:VEVENT
END:VCALENDAR