BEGIN:VCALENDAR
VERSION:2.0
PRODID:-//Jump &amp; Jive - Athens Swing Team - ECPv6.6.3//NONSGML v1.0//EN
CALSCALE:GREGORIAN
METHOD:PUBLISH
X-WR-CALNAME:Jump &amp; Jive - Athens Swing Team
X-ORIGINAL-URL:https://jumpnjive.gr
X-WR-CALDESC:Jump &amp; Jive - Athens Swing Team - Εκδηλώσεις
REFRESH-INTERVAL;VALUE=DURATION:PT1H
X-Robots-Tag:noindex
X-PUBLISHED-TTL:PT1H
BEGIN:VTIMEZONE
TZID:Europe/Athens
BEGIN:DAYLIGHT
TZOFFSETFROM:+0200
TZOFFSETTO:+0300
TZNAME:EEST
DTSTART:20180325T010000
END:DAYLIGHT
BEGIN:STANDARD
TZOFFSETFROM:+0300
TZOFFSETTO:+0200
TZNAME:EET
DTSTART:20181028T010000
END:STANDARD
END:VTIMEZONE
BEGIN:VEVENT
DTSTART;TZID=Europe/Athens:20180913T190000
DTEND;TZID=Europe/Athens:20180917T200000
DTSTAMP:20260424T170159
CREATED:20180909T081833Z
LAST-MODIFIED:20180909T081833Z
UID:9296-1536865200-1537214400@jumpnjive.gr
SUMMARY:Ruben & Ingvild in Athens - Boogie Woogie & Aerial Workshops
DESCRIPTION:Είμαστε πολύ χαρούμενοι που θα φιλοξενήσουμε ένα εκπληκτικό ζευγάρι χορευτών και δασκάλων από την Νορβηγία\, τον Ρούμπεν και την Ίνγκβιλντ!! Την Πέμπτη 13/09 και την Δευτέρα 17 Σεπτεμβρίου μία μέρα πριν και μετά το Athens Lindy Exchange 2018 θα βρίσκονται στη σχολή μας με σκοπό μας βάλουν στον δικό τους χορευτικό κόσμο με 2 ακόμη σεμινάρια!! \nΠέμπτη 13/09\n19:00-20:00 Aerials \nΔευτέρα 17/09\n19.00-20.00 Boogie Woogie Intermediate \nΗ Νορβηγία\, και συγκεκριμένα το Μπέργκεν\, έχει τη μεγαλύτερη σκηνή Boogie Woogie με τους καλύτερους χορευτές του κόσμου να προέρχονται ή να έχουν περάσει από εκεί!\nΔεν θα ήταν υπερβολή να πούμε πως ο Ρούμπεν είναι υπέυθυνος γι αυτό!\nΜη χάσετε την ευκαιρία να μαθητεύσετε κοντά τους και να χορέψετε μαζί τους! \nΟι δηλώσεις συμμετοχής γίνονται σε ζευγάρια. Οι θέσεις είναι περιορισμένες\, θα τηρηθεί σειρά προτεραιότητας. \nΔηλώνετε συμμετοχή συμπληρώνοντας την φόρμα \nhttps://goo.gl/forms/65HxWTlZjyEobDVf2 \n—\nRuben & Ingvild \nThey will come just for you\, all the way from Norway!\nThey are amazing dancers\, awesome guys and inspiring teachers!!\nWe are are very excited to have them here!! \nMeet Ruben & Ingvild!!!\nRuben Gared\nRuben started swing dancing eight years ago. Boogie Woogie was\nthe dance that caught his attention first\, but he very soon\ndiscovered Lindy Hop as well. In 2013 he started teaching\nin Bergen\, where the social boogie scene is very strong.\nAfter he began competing internationally a few years ago\,\nhe has accomplished various achievements (listed underneath).\nRuben has a passion for teaching\, competing and especially social dancing.\nThe highlight of the week is the Friday social dance in Bergen\,\nwhere the floor is packed. He and his partner Ingvild embrace\nthe joy\, fun and spontaneity in swing dancing\, and love to\nconnect and play around with the “here and now” on the social floor.\nHe has accomplished various achievements.\nSemifinals in the Lindy Hop Strictly Competition week 2 of\nHerrang 2018\, and 2nd place in the Solo Jazz Competition\nat Copenhagen Lindy Exchange 2018 to mention a few.\nIngvild Jørstad\nIngvild started dancing Boogie Woogie in 2015\, and was\nalready hooked after the first taster class. She loved the\ncommunication between the teachers and the students\,\nthe music\, and all the happy faces one could see on the\ndance floor. After one year she started teaching\, this is\nalso when she started dancing Lindy Hop. Ingvild wants\nher students to feel all the joy\, frustration and happiness\ndancing brings. Last year she started to compete with her\ndance partner Ruben. They made it to the semifinals in\nthe Lindy Hop Strictly Competition at Herräng Week 2\,\nin 2017 and 2018\, and they made it to the final in the\nBoogie Strictly Competition at Boogie Feet’s in 2017. \nTheir amazing energy will inspire you to dance ’til the morning! \nYoutube links: \nhttps://www.youtube.com/watch?v=Jiw672dQduM&frags=pl%2Cwn\nhttps://www.youtube.com/watch?v=wqCALoaBFvY&frags=pl%2Cwn \n— \nΚόστος συμμετοχής:\n15 ευρώ/ώρα \n13 & 17 Σεπτεμβρίου 2018\nJump & Jive – Athens Swing Team\nΖαν Μωρεάς 1\nΚουκάκι\, Αθήνα.
URL:https://jumpnjive.gr/event/ruben-ingvild-in-athens-boogie-woogie-aerial-workshops/
LOCATION:Jump & Jive – Athens Swing Team\, Zan moreas 1\, Koukaki\, Athens\, 11741
CATEGORIES:Jump & Jive Events
ATTACH;FMTTYPE=image/jpeg:https://jumpnjive.gr/wp-content/uploads/2018/09/workshops-in-athens2.jpg
ORGANIZER;CN="Athens Lindy Exchange":MAILTO:athenslindyexchange@gmail.com
END:VEVENT
BEGIN:VEVENT
DTSTART;TZID=Europe/Athens:20180914T220000
DTEND;TZID=Europe/Athens:20180915T030000
DTSTAMP:20260424T170159
CREATED:20180903T194257Z
LAST-MODIFIED:20180909T081502Z
UID:9267-1536962400-1536980400@jumpnjive.gr
SUMMARY:The Party #Ale2018 - at Polis
DESCRIPTION:It’s Friday night and we just can’t wait!!!\nFriday’s party is going to be amazing!\n⋆\n⋆\n⋆\nJust imagine!:\n✳ The amazingly swinging Sera Bellos Sextet live just for you! Two vocalists that will blow your mind\, the awesome drummer \, a trompet\, a sax\, the crazy base.. all just for your swing outs!\n✳ The teachers’ presentation! 11 international teachers are going to perform for your… eyes on the dance floor of POLIS ART CAFE at the center of Athens!\n✳ The perfect floor and weather for your outdoors dancing\, surrounded by exceptional neoclassical architecture!\n✳ The competitions!! Jack & Jill Competition is waiting for your registration to win full passes for great international festivals! (more tba very soon about registration and prices!)\n✳ Our Performance team … performing of course!\n✳ The crazy Dj’s\, swinging hard!!! Dj Saulė\, Arnas\, Crazyfinger Dj \nWe are sure\, you’re not want to miss this!!! \nLet’s …swing out under the stars!! 🙂 🙂 🙂\n#ale2018 #theparty #letsparty #cannotwait #itsgoingtobe…. #… \n-Pre-sale Single ticket: 10 euros\n-Single Ticket at the door: 12 euros \nYou can get a pre-sale single ticket from our studio\, every week day from 03/09 until 11/09\, hours: 18.00-21.00. \nJump n Jive\nAthens swing Team\nZan Moreas 1\, 11741 Athens\nTel: 0030 2155509747\nEmail: jumpnjive.gr@gmail.com
URL:https://jumpnjive.gr/event/the-party-ale2018-at-polis/
LOCATION:Polis Art Cafe\, ΠΕΣΜΑΖΟΓΛΟΥ 5\, Αθήνα\, 105 64\, Greece
CATEGORIES:Jump & Jive Events
ATTACH;FMTTYPE=image/jpeg:https://jumpnjive.gr/wp-content/uploads/2018/09/ale-party.jpg
ORGANIZER;CN="Jump & Jive - Athens Swing Team":MAILTO:jumpnjive@gmail.com
END:VEVENT
BEGIN:VEVENT
DTSTART;TZID=Europe/Athens:20180915T100000
DTEND;TZID=Europe/Athens:20180915T130000
DTSTAMP:20260424T170159
CREATED:20180909T081636Z
LAST-MODIFIED:20180909T081636Z
UID:9294-1537005600-1537016400@jumpnjive.gr
SUMMARY:Guided Urban Tour - Athens by Day
DESCRIPTION:A t h e n s C i t y T o u r \nFull of contradictions\, chaotic and seducing at the same time\, the city of Athens bears thousands years of history. A changing city\, still surviving under various circumstances thoughout time\, that left many footprints in its neighbourhoods and confirmed the Mediterranean temperament of its inhabitants. Ancient and roman ruins\, coexist with byzantine and muslim elements as well as with neoclassical and inter-war landmarks. The current profile of the city of Athens\, is formed by the dynamic influence of its people\, especially regarding the neighbourhoods of Exarheia\, Psyrri and Koukaki\, where you can find many local shops full of handicrafts\, hipsters’ spots\, interesting bars\, artistic expression and of course swing music! \nSchedule\n10.00 meeting point at Korai Square (metro Panepistimio-red line) ( https://goo.gl/maps/XYxy5obKdSk )\n10.15 walk from panepistimiou street to aiolou\n10.45 snak/coffee stop at the first big confectionery of the city .\n11.15 walk though Varvakeios market and Psyrri neighbourhood\n12.00 let’s dance ”shim sham” at Monastiraki square!\n12.15 strolling in Plaka\n12.45 arrival at Acropolis metro station \nYou can call us at 0030 6944999199 if you would like to join us at a different spot/hour. \nps. Don’t forget to bring your hat and sunscreen!!!\n#Ale2018 #awesome #tour #urban #city #athens #explore
URL:https://jumpnjive.gr/event/guided-urban-tour-athens-by-day/
LOCATION:Athens\, 11741\, Greece
CATEGORIES:Jump & Jive Events
ATTACH;FMTTYPE=image/jpeg:https://jumpnjive.gr/wp-content/uploads/2018/09/morning3.jpg
ORGANIZER;CN="Athens Lindy Exchange":MAILTO:athenslindyexchange@gmail.com
END:VEVENT
END:VCALENDAR