BEGIN:VCALENDAR
VERSION:2.0
PRODID:-//Jump &amp; Jive - Athens Swing Team - ECPv6.6.3//NONSGML v1.0//EN
CALSCALE:GREGORIAN
METHOD:PUBLISH
X-ORIGINAL-URL:https://jumpnjive.gr
X-WR-CALDESC:Jump &amp; Jive - Athens Swing Team - Εκδηλώσεις
REFRESH-INTERVAL;VALUE=DURATION:PT1H
X-Robots-Tag:noindex
X-PUBLISHED-TTL:PT1H
BEGIN:VTIMEZONE
TZID:Europe/Athens
BEGIN:DAYLIGHT
TZOFFSETFROM:+0200
TZOFFSETTO:+0300
TZNAME:EEST
DTSTART:20180325T010000
END:DAYLIGHT
BEGIN:STANDARD
TZOFFSETFROM:+0300
TZOFFSETTO:+0200
TZNAME:EET
DTSTART:20181028T010000
END:STANDARD
END:VTIMEZONE
BEGIN:VEVENT
DTSTART;TZID=Europe/Athens:20181002T211500
DTEND;TZID=Europe/Athens:20181002T224500
DTSTAMP:20260424T152517
CREATED:20181001T222713Z
LAST-MODIFIED:20181001T222713Z
UID:9331-1538514900-1538520300@jumpnjive.gr
SUMMARY:Νέο τμήμα Aerials! FLY RIGHT with Dimos & Athina. Beginner's
DESCRIPTION:✶ Aerials Beginner level (Τρίτη 21:15-22:45) ✶ \nΑπό την Τρίτη 02/10 και κάθε Τρίτη θα πετάμε στις 21:15!\nΔήλωσε τώρα συμμετοχή για τον νέο κύκλο μαθημάτων συμπληρώνοντας τα στοιχεία σου στην φόρμα. \nhttps://goo.gl/forms/B968qdTW9OHQ7lPI3 \nΘα λάβεις email επιβεβαίωσης σύντομα με όλες τις λεπτομέρειες!\nΟι θέσεις είναι περιορισμένες\, θα τηρηθεί σειρά προτεραιότητας. \nΣε αυτό το μάθημα θα δουλέψουμε σε ζευγάρια. Θα μάθετε να κάνετε βασικές εναέριες κινήσεις\,\nlifts\, dips & jumps!!\nΤι πρέπει να έχετε μαζί:\n~Ένα παρτενέρ! Η εγγραφή γίνεται σε ζευγάρια. Κατά τη διάρκεια αυτών των μαθημάτων δεν θα εναλλάσσονται τα ζευγάρια.\n~Άνετα ρούχα και αθλητικά παπούτσια. H προπόνηση για τα Aerials είναι αρκετά απαιτητική\, καλό θα ήταν να κρατάτε ρούχα για να αλλάξετε\, πετσέτα και νερό. \nΌροι συμμετοχής:\n~ Θα πρέπει να δηλώσετε ως ζευγάρι (leader-follower).\nΣτα μαθήματα των Aerials δεν θα γίνονται εναλλαγές στα ζευγάρια. Θα πρέπει να αισθάνεστε άνετα με το σώμα σας και τον/την παρτενέρ σας.\n~ Να έχετε παρακολουθήσει μαθήματα χορού τουλάχιστον 1 χρόνο.\nΧρησιμοποιούμε τις Aerial κινήσεις κατά τη διάρκεια του χορού μας\, κυρίως σε jam circle (διαδοχικός χορός ζευγαριών σε κύκλο). \nΖαν Μωρεάς 1 & Ζαχαρίτσα\nΚουκάκι\, Αθήνα.\nτηλ. επικοινωνίας 215 5509 747\n& 6948462754
URL:https://jumpnjive.gr/event/%ce%bd%ce%ad%ce%bf-%cf%84%ce%bc%ce%ae%ce%bc%ce%b1-aerials-fly-right-with-dimos-athina-beginners/
LOCATION:Jump & Jive – Athens Swing Team\, Zan moreas 1\, Koukaki\, Athens\, 11741
CATEGORIES:Jump & Jive Events
ORGANIZER;CN="Jump & Jive - Athens Swing Team":MAILTO:jumpnjive@gmail.com
END:VEVENT
END:VCALENDAR