BEGIN:VCALENDAR
VERSION:2.0
PRODID:-//Jump &amp; Jive - Athens Swing Team - ECPv6.6.3//NONSGML v1.0//EN
CALSCALE:GREGORIAN
METHOD:PUBLISH
X-ORIGINAL-URL:https://jumpnjive.gr
X-WR-CALDESC:Jump &amp; Jive - Athens Swing Team - Εκδηλώσεις
REFRESH-INTERVAL;VALUE=DURATION:PT1H
X-Robots-Tag:noindex
X-PUBLISHED-TTL:PT1H
BEGIN:VTIMEZONE
TZID:Europe/Athens
BEGIN:DAYLIGHT
TZOFFSETFROM:+0200
TZOFFSETTO:+0300
TZNAME:EEST
DTSTART:20180325T010000
END:DAYLIGHT
BEGIN:STANDARD
TZOFFSETFROM:+0300
TZOFFSETTO:+0200
TZNAME:EET
DTSTART:20181028T010000
END:STANDARD
END:VTIMEZONE
BEGIN:VEVENT
DTSTART;TZID=Europe/Athens:20181004T190000
DTEND;TZID=Europe/Athens:20181004T200000
DTSTAMP:20260424T153917
CREATED:20181001T223005Z
LAST-MODIFIED:20181001T223005Z
UID:9337-1538679600-1538683200@jumpnjive.gr
SUMMARY:Jazz Classic Routines Free Taster! Open Level Track
DESCRIPTION:Authentic Jazz Dance – Free Taster την Πέμπτη 04/10 στις 19.00!\nΈλα να μάθουμε τις πιο κλασσικές χορογραφίες Jazz που γνωρίζουν όλοι οι Lindy hoppers ανα τον κόσμο!\nΤο μάθημα θα γίνεται ίδια μέρα και ώρα\, κάθε Πέμπτη στις 19.00! Διδάσκουν οι Κατερίνα Τόλια & Έλενα Ευαγγελία. \nΔήλωσε συμμετοχή για το δοκιμαστικό μάθημα συμπληρώνοντας τα στοιχεία σου στην φόρμα: \nhttps://goo.gl/forms/fPllqyfPPF3gICVW2 \nΘα λάβεις email επιβεβαίωσης σύντομα με όλες τις λεπτομέρειες!\nΟι θέσεις είναι περιορισμένες\, θα τηρηθεί σειρά προτεραιότητας. \nΤο Authentic Jazz ή Solo Jazz είναι ένα είδος χορού με αφροαμερικάνικες ρίζες που αναπτύχθηκε πάνω στη jazz και blues μουσική. Οι απαρχές του βρίσκονται κάπου στο 1800 (cakewalk)\, φτάνοντας στην ακμή του τις δεκαετίες 20΄-40’ (Black Bottom\, Charleston). Στην πορεία επηρέασε και άλλα χορευτικά είδη όπως modern jazz\, hip hop κ.α.\nΤο Authentic Jazz είναι ένας πολύ διασκεδαστικός χορός που χορεύεται είτε ελεύθερα\, επιτρέποντας τον αυτοσχεδιασμό\, είτε με κλασικές χορογραφίες όπως το Shim Sham\, το Tranky Doo\, το Big Apple κ.α. Θα σε βοηθήσει να κατανοήσεις καλύτερα το ρυθμό και εξελίσσει τη μουσικότητα και το στυλ σου\, στοιχεία που θα σε βοηθήσουν χορεύοντας και με το ζευγάρι σου. \nΖαν Μωρεάς 1 & Ζαχαρίτσα\nΚουκάκι\, Αθήνα.\nτηλ. επικοινωνίας 215 5509 747\n& 6948462754
URL:https://jumpnjive.gr/event/jazz-classic-routines-free-taster-open-level-track/
LOCATION:Jump & Jive – Athens Swing Team\, Zan moreas 1\, Koukaki\, Athens\, 11741
CATEGORIES:Jump & Jive Events
ORGANIZER;CN="Jump & Jive - Athens Swing Team":MAILTO:jumpnjive@gmail.com
END:VEVENT
END:VCALENDAR