BEGIN:VCALENDAR
VERSION:2.0
PRODID:-//Jump &amp; Jive - Athens Swing Team - ECPv6.6.3//NONSGML v1.0//EN
CALSCALE:GREGORIAN
METHOD:PUBLISH
X-WR-CALNAME:Jump &amp; Jive - Athens Swing Team
X-ORIGINAL-URL:https://jumpnjive.gr
X-WR-CALDESC:Jump &amp; Jive - Athens Swing Team - Εκδηλώσεις
REFRESH-INTERVAL;VALUE=DURATION:PT1H
X-Robots-Tag:noindex
X-PUBLISHED-TTL:PT1H
BEGIN:VTIMEZONE
TZID:Europe/Athens
BEGIN:DAYLIGHT
TZOFFSETFROM:+0200
TZOFFSETTO:+0300
TZNAME:EEST
DTSTART:20180325T010000
END:DAYLIGHT
BEGIN:STANDARD
TZOFFSETFROM:+0300
TZOFFSETTO:+0200
TZNAME:EET
DTSTART:20181028T010000
END:STANDARD
END:VTIMEZONE
BEGIN:VEVENT
DTSTART;TZID=Europe/Athens:20181222T220000
DTEND;TZID=Europe/Athens:20181223T220000
DTSTAMP:20260424T122152
CREATED:20181217T112134Z
LAST-MODIFIED:20181217T112510Z
UID:9435-1545516000-1545602400@jumpnjive.gr
SUMMARY:Let the Swing times Roll! - Christmas Dance Party 2018
DESCRIPTION:Σας προσκαλούμε στο άκρως Χριστουγεννιάτικο Event μας τη προ-προ-προπαραμονή Χριστουγέννων! \nΕκείνη τη βραδιά όπως και κάθε χρόνο\, γράφουμε τις ευχές μας για το 2019 και μπαίνουμε στην κλήρωση για να κερδίσουμε δώρα από εμάς για .. όλους! \nΦήμες λένε πως τα τμήματα Jazz\, το Performance team καθώς και το Chorus Line μας ”Sailor Jerries”\, θα δώσουν show που θα σας μείνουν αξέχαστα!! \nΥγ. Κάτι ακούσαμε και για κάποιο άλλο τμήμα της σχολής… Jingle Bells Jingle Bells… \nΠολλά δώρα\, ευχές και εκπλήξεις\,\nperfomances και άλλα που θα ανακοινωθούν σύντομα! \nΤι λέτε?.. .. Χορεύουμε? \nΣας περιμένουμε από τις 22.00 για πολύ Swing & RnR!!\nΣτις μουσικές επιλογές η Elena Evangelia με swinging jazz\, jump blues\, r&b\, RnR & Blues. \n#jumpnjive #christmas #xmas #time #is #here \nΟι Jump & Jive – Athens Swing Team είμαστε μία μεγάλη χορευτική οικογένεια που δημιουργήθηκε με σκοπό τη διάδοση των αυθεντικών Swing χορών\, που αναπτύχθηκαν τις δεκαετίες ’20-’50 στην Αμερική\nΗ φαμίλια μας απαρτίζεται από μικρούς (από 3\,5 ετών) & μεγάλους χορευτές!!! Ζούμε\, χορεύουμε\, διδάσκουμε και εξελισσόμαστε σε μιαν άλλη εποχή\, στις δεκαετίες από το ’20 ως το ’50!\nΧορεύουμε από Charleston \, Balboa\, Shag & Lindy hop μέχρι Rock n Roll & Boogie Woogie!! Έχουμε το σπίτι μας στο Κουκάκι αλλά & στο Π. Φάληρο & παρέχουμε μαθήματα 6 μέρες την εβδομάδα!! Από Δευτέρα ως Σάββατο\, για κάθε ηλικίας swing kids!!! Βρείτε το εβδομαδιαίο πρόγραμμά μας στο… μενού(!) της σελίδάς μας & ακολουθήστε μας για να ενημερώνεστε για τους νέους κύκλους μαθημάτων\, τα σεμινάρια και τα event που οργανώνουμε καθημερινά. 🙂 \nJoin us\, \nCover by Amazing Stefania Kapsaski ♥\nΕίσοδος: 5 Ευρώ με συμμετοχή στην κλήρωση.
URL:https://jumpnjive.gr/event/let-the-swing-times-roll-christmas-dance-party-2018/
LOCATION:Polis Art Cafe\, ΠΕΣΜΑΖΟΓΛΟΥ 5\, Αθήνα\, 105 64\, Greece
CATEGORIES:Jump & Jive Events
ATTACH;FMTTYPE=image/jpeg:https://jumpnjive.gr/wp-content/uploads/2018/12/47680564_1392051150930215_7285260944953835520_o.jpg
ORGANIZER;CN="Jump & Jive - Athens Swing Team":MAILTO:jumpnjive@gmail.com
END:VEVENT
END:VCALENDAR