BEGIN:VCALENDAR
VERSION:2.0
PRODID:-//Jump &amp; Jive - Athens Swing Team - ECPv6.6.3//NONSGML v1.0//EN
CALSCALE:GREGORIAN
METHOD:PUBLISH
X-WR-CALNAME:Jump &amp; Jive - Athens Swing Team
X-ORIGINAL-URL:https://jumpnjive.gr
X-WR-CALDESC:Jump &amp; Jive - Athens Swing Team - Εκδηλώσεις
REFRESH-INTERVAL;VALUE=DURATION:PT1H
X-Robots-Tag:noindex
X-PUBLISHED-TTL:PT1H
BEGIN:VTIMEZONE
TZID:Europe/Athens
BEGIN:DAYLIGHT
TZOFFSETFROM:+0200
TZOFFSETTO:+0300
TZNAME:EEST
DTSTART:20190331T010000
END:DAYLIGHT
BEGIN:STANDARD
TZOFFSETFROM:+0300
TZOFFSETTO:+0200
TZNAME:EET
DTSTART:20191027T010000
END:STANDARD
END:VTIMEZONE
BEGIN:VEVENT
DTSTART;TZID=Europe/Athens:20190104T080000
DTEND;TZID=Europe/Athens:20190104T170000
DTSTAMP:20260424T105025
CREATED:20181217T114937Z
LAST-MODIFIED:20181217T115005Z
UID:9442-1546588800-1546621200@jumpnjive.gr
SUMMARY:New Year's Good Rocking Tonight - Swing & RnR Dance Party
DESCRIPTION:Good Rockin Tonight στο Blue Fox!!!!\nΤρελή εορταστική Παρασκευή με τον νέο χρόνο στο αγαπημένο μας… μπλε Blue Fox για πολύ Swing\, R’n’R\, Blues & Rockabilly!!! \nΣας περιμένουμε από τις 22.00! \nH πρώτη ώρα θα είναι beginner’s hour (22.00 – 23.00) \, που σημαίνει\, μουσικές σε αργό τέμπο για φουλ εξάσκηση από νέους και παλαιότερους χορευτές! \n#beginnershour #jumpnjive #δεγινεταιαλλιως \nvideo credits: Thanos Fotakopoulos \nΘα εκτιμηθεί ιδιαίτερα το κάπνισμα εκτός του μαγαζιού 😉 #thankyou\n#dancedancedance \nJoin us\,\nJump n Jive – Athens Swing Team\nBlue Fox Bar\nAsklhpiou 91\nΕίσοδος Ελεύθερη
URL:https://jumpnjive.gr/event/new-years-good-rocking-tonight-swing-rnr-dance-party/
LOCATION:Blue Fox Bar\, Asklhpiou 91\, Athens\, Attica\, 11472\, Greece
CATEGORIES:Jump & Jive Events
ORGANIZER;CN="Jump & Jive - Athens Swing Team":MAILTO:jumpnjive@gmail.com
END:VEVENT
END:VCALENDAR