BEGIN:VCALENDAR
VERSION:2.0
PRODID:-//Jump &amp; Jive - Athens Swing Team - ECPv6.6.3//NONSGML v1.0//EN
CALSCALE:GREGORIAN
METHOD:PUBLISH
X-ORIGINAL-URL:https://jumpnjive.gr
X-WR-CALDESC:Jump &amp; Jive - Athens Swing Team - Εκδηλώσεις
REFRESH-INTERVAL;VALUE=DURATION:PT1H
X-Robots-Tag:noindex
X-PUBLISHED-TTL:PT1H
BEGIN:VTIMEZONE
TZID:Europe/Athens
BEGIN:DAYLIGHT
TZOFFSETFROM:+0200
TZOFFSETTO:+0300
TZNAME:EEST
DTSTART:20190331T010000
END:DAYLIGHT
BEGIN:STANDARD
TZOFFSETFROM:+0300
TZOFFSETTO:+0200
TZNAME:EET
DTSTART:20191027T010000
END:STANDARD
END:VTIMEZONE
BEGIN:VEVENT
DTSTART;TZID=Europe/Athens:20190329T220000
DTEND;TZID=Europe/Athens:20190330T030000
DTSTAMP:20260424T080326
CREATED:20181001T223517Z
LAST-MODIFIED:20190327T153724Z
UID:9346-1553896800-1553914800@jumpnjive.gr
SUMMARY:Good Rocking Tonight @Blue Fox
DESCRIPTION:Good Rocking Tonight στο Blue Fox!!!!\nΤρελή χορευτική Παρασκευή  στο αγαπημένο μας… μπλε Blue Fox για πολύ Swing\, R’n’R\, Blues & Rockabilly!!! \nΣας περιμένουμε από τις 22.00! \nH πρώτη ώρα θα είναι beginner’s hour (22.00 – 23.00) \, που σημαίνει\, μουσικές σε αργό τέμπο για φουλ εξάσκηση από νέους και παλαιότερους χορευτές! \n#beginnershour #jumpnjive #δεγινεταιαλλιως \nΘα εκτιμηθεί ιδιαίτερα το κάπνισμα εκτός του μαγαζιού 😉 #thankyou\n#dancedancedance \nJoin us\,\nJump n Jive – Athens Swing Team\nBlue Fox Bar\nAsklipiou 91\nΕίσοδος Ελεύθερη
URL:https://jumpnjive.gr/event/good-rocking-tonight-blue-fox/
LOCATION:Blue Fox Bar\, Asklhpiou 91\, Athens\, Attica\, 11472\, Greece
CATEGORIES:Jump & Jive Events
ORGANIZER;CN="Jump & Jive - Athens Swing Team":MAILTO:jumpnjive@gmail.com
END:VEVENT
END:VCALENDAR