BEGIN:VCALENDAR
VERSION:2.0
PRODID:-//Jump &amp; Jive - Athens Swing Team - ECPv6.6.3//NONSGML v1.0//EN
CALSCALE:GREGORIAN
METHOD:PUBLISH
X-WR-CALNAME:Jump &amp; Jive - Athens Swing Team
X-ORIGINAL-URL:https://jumpnjive.gr
X-WR-CALDESC:Jump &amp; Jive - Athens Swing Team - Εκδηλώσεις
REFRESH-INTERVAL;VALUE=DURATION:PT1H
X-Robots-Tag:noindex
X-PUBLISHED-TTL:PT1H
BEGIN:VTIMEZONE
TZID:Europe/Athens
BEGIN:DAYLIGHT
TZOFFSETFROM:+0200
TZOFFSETTO:+0300
TZNAME:EEST
DTSTART:20190331T010000
END:DAYLIGHT
BEGIN:STANDARD
TZOFFSETFROM:+0300
TZOFFSETTO:+0200
TZNAME:EET
DTSTART:20191027T010000
END:STANDARD
END:VTIMEZONE
BEGIN:VEVENT
DTSTART;TZID=Europe/Athens:20190412T080000
DTEND;TZID=Europe/Athens:20190414T220000
DTSTAMP:20260424T062544
CREATED:20190114T122133Z
LAST-MODIFIED:20190114T122133Z
UID:9452-1555056000-1555279200@jumpnjive.gr
SUMMARY:Dimitri & Alexsia in Athens!! Lindy\, Boogie & Aerials Workshops
DESCRIPTION:Οι Dimitri & Alexsia έρχονται για να κλέψουν τις εντυπώσεις!!Ποιος δεν τους ξεχώρισε στο πρώτο Athens Lindy Exchange? Το performance τους στον τελικό του Camp Hollywood (LA\, California) τους έφερε 2ους παγκοσμίως το 2018! Τι να σχολιάσουμε πρώτο?\nΤις απίστευτες αλλαγές στις δυναμικές ή τις διαφορετικές ποιότητες στον χόρό τους? Τα αβίαστα aerials\, το απίστευτα γρήγορο footwork και τα τρομερά skills τους στις πολύ δυσκολές αλλά εκτελεσμένες με απλότητα & άνεση φιγούρες? \nΑυτόν τον Απρίλη ετοιμαστείτε για ένα διήμερο με πολύ Lindy hop\, πολύ Boogie Woogie και πολλά Aerials από τον Dimitri Mitra Masotti & την Alexsia Ghezzo! Αμέτρητες φορές νικητές σε όποιο διαγωνισμό και αν συμμετέχουν\, Lindy hop & Boogie Woogie! \nIntroducing Dimitri Mitra Masotti & Alexsia Ghezzo!!\nWe first met them teaching and performing in Rock That Swing 2018!\nThey are amazing dancers\, great instructors and Boogie Woogie champions! But have you seen them dancing the Lindy hop??? You’ll be amazed!!\nThey come from our neighbouring country\, Italy! \nDimitri & Alexsia!\nThey started to dance when they’re just children\, with Rock and Roll and then kept on dancing with Boogie Woogie competitions.\nJust one year and a half ago they decided to dance together as a couple getting a lot of great results in Wrrc and Festival scene\, they are growing also in Lindy Hop\, studying in several festivals and competing in these ones!\nDon’t miss the chance to dance with them! \nΕνδεικτικά:\n2nd Place in Camp Hollywood 2018\nhttps://bit.ly/2LzxeDU \n3rd Place in Savoy Cup 2019\nhttps://youtu.be/fVBzaU-ivSA?t=145 \nTeacher performance in RTSF 2018\nhttps://www.youtube.com/watch?v=uofRXHWnA14 \n— \nΟι εγγραφές -με early bird discounts- θα ανοίξουν με την νέα χρονιά γι’ αυτο… Stay tuned!!! 🙂 \n#ηφασηειναι #workshop #lindyhop #boogiewoogie #aerials \n— \nΛίγα λόγια για τους Jump n Jive : \nJump n Jive Athens Swing Team (GR) \nΟι Jump & Jive – Athens Swing Team είμαστε μία μεγάλη χορευτική οικογένεια που δημιουργήθηκε το 2012 με σκοπό τη διάδοση των αυθεντικών Swing χορών\, που αναπτύχθηκαν τις δεκαετίες ’20-’50 στην Αμερική.\nΗ ομάδα μας απαρτίζεται από μικρούς (από 3\,5 ετών) & μεγάλους χορευτές! Ζούμε\, χορεύουμε\, διδάσκουμε και εξελισσόμαστε σε μιαν άλλη εποχή\, στις δεκαετίες από το ’20 ως το ’50! Χορεύουμε από Charleston\, Balboa & Lindy hop μέχρι Rock n Roll & Boogie Woogie!\nΈχουμε το σπίτι μας στο Κουκάκι αλλά & στο Π. Φάληρο & παρέχουμε μαθήματα 6 μέρες την εβδομάδα! Από Δευτέρα ως Σάββατο\, για κάθε ηλικίας “swing kids”!\nΘα μας συναντήσετε σε φεστιβάλ χορού στην Ελλάδα και το εξωτερικό και σε όποια δράση προωθεί τη jazz κουλτούρα στη χώρα μας (βλ. Django Fest\, Retro Festival\, Athens Lindy Exchange κ.α.)\nΕίμαστε διοργανωτές του φεστιβάλ ‘Athens Lindy Exchange’ \, ένα φεστιβάλ ‘ανταλλαγής ’ κουλτούρας που προωθεί τους jazz/swing χορούς της Αθήνας στην χορευτική κοινότητα παγκοσμίως από το 2018. Το Festival ολοκληρώθηκε για πρώτη φορά με τρομερή επιτυχία\, 11 καλεσμένους δάσκαλους χορού και πολλούς συμμετέχοντες\, από Λιθουανία\, Ιταλία\, Νορβηγία\, Ρωσία\, Τσεχία κα.\nΒρείτε το εβδομαδιαίο πρόγραμμά μας στο website μας και ακολουθήστε μας για να ενημερώνεστε για τις εμφανίσεις μας\, τους νέους κύκλους μαθημάτων\, τα σεμινάρια και τα event που διοργανώνουμε καθημερινά.\nWebsite: http://jumpnjive.gr\nOfficial Facebook Page: https://www.facebook.com/JumpJiveAthensSwingTeam\nYoutube Channel: https://www.youtube.com/channel/UCTm42i09TipFe6l5C_BcMDw
URL:https://jumpnjive.gr/event/dimitri-alexsia-in-athens-lindy-boogie-aerials-workshops/
LOCATION:Jump & Jive – Athens Swing Team\, Zan moreas 1\, Koukaki\, Athens\, 11741
CATEGORIES:Jump & Jive Events
ATTACH;FMTTYPE=image/jpeg:https://jumpnjive.gr/wp-content/uploads/2019/01/dimitri-alexsia-•-2018jump-jive-athens-swing-team.jpg
ORGANIZER;CN="Jump & Jive - Athens Swing Team":MAILTO:jumpnjive@gmail.com
END:VEVENT
END:VCALENDAR