BEGIN:VCALENDAR
VERSION:2.0
PRODID:-//Jump &amp; Jive - Athens Swing Team - ECPv6.6.3//NONSGML v1.0//EN
CALSCALE:GREGORIAN
METHOD:PUBLISH
X-ORIGINAL-URL:https://jumpnjive.gr
X-WR-CALDESC:Jump &amp; Jive - Athens Swing Team - Εκδηλώσεις
REFRESH-INTERVAL;VALUE=DURATION:PT1H
X-Robots-Tag:noindex
X-PUBLISHED-TTL:PT1H
BEGIN:VTIMEZONE
TZID:Europe/Athens
BEGIN:DAYLIGHT
TZOFFSETFROM:+0200
TZOFFSETTO:+0300
TZNAME:EEST
DTSTART:20190331T010000
END:DAYLIGHT
BEGIN:STANDARD
TZOFFSETFROM:+0300
TZOFFSETTO:+0200
TZNAME:EET
DTSTART:20191027T010000
END:STANDARD
END:VTIMEZONE
BEGIN:VEVENT
DTSTART;TZID=Europe/Athens:20190621T200000
DTEND;TZID=Europe/Athens:20190622T200000
DTSTAMP:20260424T032550
CREATED:20190502T142216Z
LAST-MODIFIED:20190619T222711Z
UID:9487-1561147200-1561233600@jumpnjive.gr
SUMMARY:School's out\, Swing out for Summer! Παράσταση 2019 ♬
DESCRIPTION:Η τελική παράσταση της σχολής μας είναι φέτος το πιο μεγάλο πάρτυ με shows και performances από όλο το team μας και τους υπερταλαντούχους μαθητές μας!! 😉 \nΕλάτε να ολοκληρώσουμε και αυτή σεζόν και να καμαρώσουμε όλους τους μαθητές μας σε μια γιορτή για το Swing\, τη Jazz & το Rock n Roll! \nΜαζί μας guests\, ταλαντούχοι φιλοι! \nΘα σας ταξιδέψουμε σε μια άλλη εποχή! Από το 1930 ως το.. 1950! Θα ακολουθήσει social party μέχρι το πρωι! \nΣας περιμένουμε με χαρά \, μικρούς και μεγάλους για μια βραδιά με πολύ χορό\, από μας και από όλους εσάς!! \nDj Set : Elena Evangelia \nΟι πόρτες θα ανοίξουν στις 21.00.\n#swingout #forsummer #summerbreak #schoolsout #annualshow #lindylove #boogiemadness #letsparty \nΕίσοδος: 5 ευρώ\n21 Ιουνίου 2019\nPolis Art Cafe\nΠεσμαζόγλου 5 & Σταδίου\, 10564 (Στοά του Βιβλίου)
URL:https://jumpnjive.gr/event/schools-out-swing-out-for-summer-%cf%80%ce%b1%cf%81%ce%ac%cf%83%cf%84%ce%b1%cf%83%ce%b7-2019-%e2%99%ac/
LOCATION:Polis Art Cafe\, ΠΕΣΜΑΖΟΓΛΟΥ 5\, Αθήνα\, 105 64\, Greece
CATEGORIES:Jump & Jive Events
ATTACH;FMTTYPE=image/jpeg:https://jumpnjive.gr/wp-content/uploads/2018/10/36317600_1253435484791783_2613516457501261824_n-e1646043808536.jpg
ORGANIZER;CN="Jump & Jive - Athens Swing Team":MAILTO:jumpnjive@gmail.com
END:VEVENT
END:VCALENDAR