BEGIN:VCALENDAR
VERSION:2.0
PRODID:-//Jump &amp; Jive - Athens Swing Team - ECPv6.6.3//NONSGML v1.0//EN
CALSCALE:GREGORIAN
METHOD:PUBLISH
X-ORIGINAL-URL:https://jumpnjive.gr
X-WR-CALDESC:Jump &amp; Jive - Athens Swing Team - Εκδηλώσεις
REFRESH-INTERVAL;VALUE=DURATION:PT1H
X-Robots-Tag:noindex
X-PUBLISHED-TTL:PT1H
BEGIN:VTIMEZONE
TZID:Europe/Athens
BEGIN:DAYLIGHT
TZOFFSETFROM:+0200
TZOFFSETTO:+0300
TZNAME:EEST
DTSTART:20190331T010000
END:DAYLIGHT
BEGIN:STANDARD
TZOFFSETFROM:+0300
TZOFFSETTO:+0200
TZNAME:EET
DTSTART:20191027T010000
END:STANDARD
END:VTIMEZONE
BEGIN:VEVENT
DTSTART;TZID=Europe/Athens:20190630T113000
DTEND;TZID=Europe/Athens:20190630T233000
DTSTAMP:20260424T032605
CREATED:20190617T144047Z
LAST-MODIFIED:20190617T144327Z
UID:9495-1561894200-1561937400@jumpnjive.gr
SUMMARY:Beach Hop ✦ The Swing & Roll Beach Party/Εκδρομή ✦ Summer Time B
DESCRIPTION:Πάμε Εκδρομή!!!\nΤην Κυριακή 30 Ιουνίου παίρνουμε αντηλιακό\, πετσέτα & μαγιό και αναχωρούμε το πρωί με το πουλμανάκι για την φανταστική παραλία της Ψάθας και το υπέροχο Summer Time Beach Bar!!\nΟλοήμερη εκδρομή με … μπάνιο φυσικά και \n~ Rock n Roll\, Swing\, Hawaiian & Caribbean μουσικές\,\n~ Πολύ Χορό στο τεράστιο ξύλινο πάτωμα του μπαρ\,\n~ Κοκτέιλ από νωρίς\,\n~ Snack & ειδικές προσφορές για τους συμμετέχοντες! \nΜε το τέλος του Ιουνίου παρτάρουμε στη θάλασσα με παιχνίδια\, χορό και μουσικές που αγαπάμε! Τέλεια παραλία\, σουπερ Κοκτέιλ και χορός από το πρωί ως το βράδυ! \nΤο πουλμανάκι μας θα ξεκινήσει από τον σταθμό Συγγρού Φιξ στις 11.30 το πρωι της Κυριακής 30 Ιουνίου και θα επιστρέψει στις 23.30 την ίδια μέρα! \nΚόστος συμμετοχής στο πούλμαν: 11 ευρώ.\nΔηλώστε συμμετοχή συμπληρώνοντας τη φόρμα:\nhttps://forms.gle/HKgWRU92HTQQJG5C9 \nΟι θέσεις είναι περιορισμένες\, θα τηρηθεί σειρά πρoτεραιότητας! #παμεεκδρομη #beachparty #beachhop #vol5 #letsswim #swing #lindyhop #boogiewoogie #blues #ohyeah \nH εκδρομή είναι ανοιχτή σε όλους\, χορευτές\, μέλη ή μη! \n** Με την συμμετοχή σας στην εκδρομή με το πούλμαν θα παραλάβετε και εκπτωτικό Menu Voucher (για τον καφέ\, το φαγητό και το ποτό σας)\, το οποίο θα σας δωθεί μέσα στο λεωφορείο και θα το χρησιμοποιήσετε κατα την πληρωμή σας στο Bar. \nBeach Hop Swing & Roll Party: Κυριακή 30.06 11.30-23.30\nΚόστος συμμετοχής πούλμαν : 11 ευρώ/άτομο.\nContact us : jumpnjive.gr@gmail.com \nΔηλώστε συμμετοχή για το πούλμαν αναγράφοντας το ονοματεπώνυμό σας και το email σας.\nΗ καταβολή των χρημάτων θα πρέπει να γίνει μέχρι και τη Παρασκευή 28/06 στην γραμματεία της σχολής μας για να διασφαλιστεί η θέση σας. Δε θα πραγματοποιηθούν πληρωμές την ημέρα της εκδρομής. \nΣας περιμένουμε για μία αξέχαστη ολοήμερη χορευτική εκδρομή!!! \n#ηφασηειναι #παμεπαραλια
URL:https://jumpnjive.gr/event/beach-hop-%e2%9c%a6-the-swing-roll-beach-party-%ce%b5%ce%ba%ce%b4%cf%81%ce%bf%ce%bc%ce%ae-%e2%9c%a6-summer-time-b/
LOCATION:Summer Time Beach Bar\, https://goo.gl/maps/TgcpfN3DnRB2
CATEGORIES:Jump & Jive Events
ATTACH;FMTTYPE=image/jpeg:https://jumpnjive.gr/wp-content/uploads/2019/06/Venice-Beach-Los-Angeles-in-the-1930s-11.jpg
ORGANIZER;CN="Jump & Jive - Athens Swing Team":MAILTO:jumpnjive@gmail.com
END:VEVENT
END:VCALENDAR