BEGIN:VCALENDAR
VERSION:2.0
PRODID:-//Jump &amp; Jive - Athens Swing Team - ECPv6.6.3//NONSGML v1.0//EN
CALSCALE:GREGORIAN
METHOD:PUBLISH
X-WR-CALNAME:Jump &amp; Jive - Athens Swing Team
X-ORIGINAL-URL:https://jumpnjive.gr
X-WR-CALDESC:Jump &amp; Jive - Athens Swing Team - Εκδηλώσεις
REFRESH-INTERVAL;VALUE=DURATION:PT1H
X-Robots-Tag:noindex
X-PUBLISHED-TTL:PT1H
BEGIN:VTIMEZONE
TZID:Europe/Athens
BEGIN:DAYLIGHT
TZOFFSETFROM:+0200
TZOFFSETTO:+0300
TZNAME:EEST
DTSTART:20190331T010000
END:DAYLIGHT
BEGIN:STANDARD
TZOFFSETFROM:+0300
TZOFFSETTO:+0200
TZNAME:EET
DTSTART:20191027T010000
END:STANDARD
END:VTIMEZONE
BEGIN:VEVENT
DTSTART;TZID=Europe/Athens:20191005T080000
DTEND;TZID=Europe/Athens:20191130T170000
DTSTAMP:20260423T212607
CREATED:20190926T203418Z
LAST-MODIFIED:20190926T203418Z
UID:9544-1570262400-1575133200@jumpnjive.gr
SUMMARY:Νέος κύκλος μαθημάτων Aerials made Easy! with Dimos & Athina.
DESCRIPTION:✶ 2μηνος κύκλος Aerials – Beginner level ✶ \nΑπό το Σάββατο 05/10 ξεκινάμε το νέο\, δίμηνο κύκλο μαθημάτων Aerials! \nΔήλωσε τώρα συμμετοχή συμπληρώνοντας τα στοιχεία σου στην φόρμα αφού ανοίξουν οι αιτήσεις. Οι αιτήσεις συμμετοχής θα ανοίξουν τη Δευτέρα 16/9 στις 18:00 στο παρακάτω λινκ.\nhttps://forms.gle/eyuPxLN9B8ziUQXr5 \nΘα λάβεις email επιβεβαίωσης σύντομα με όλες τις λεπτομέρειες! \nΟι θέσεις είναι περιορισμένες\, θα τηρηθεί σειρά προτεραιότητας. \nΣε αυτό το μάθημα θα δουλέψουμε σε ζευγάρια. Θα μάθετε να κάνετε βασικές εναέριες κινήσεις\,\nlifts\, dips & jumps!! \nΤι πρέπει να έχετε μαζί:\n~Ένα παρτενέρ! Η εγγραφή γίνεται σε ζευγάρια.\nΚατά τη διάρκεια αυτών των μαθημάτων δεν θα εναλλάσσονται τα ζευγάρια.\n~Άνετα ρούχα και αθλητικά παπούτσια. H προπόνηση για τα Aerials είναι αρκετά απαιτητική\, καλό θα ήταν να κρατάτε ρούχα για να αλλάξετε\, πετσέτα και νερό. \nΌροι συμμετοχής:\n~ Θα πρέπει να δηλώσετε ως ζευγάρι (leader-follower).\nΣτα μαθήματα των Aerials δε θα γίνονται εναλλαγές στα ζευγάρια. Θα πρέπει να αισθάνεστε άνετα με το σώμα σας και τον/την παρτενέρ σας.\n~ Να έχετε παρακολουθήσει μαθήματα χορού τουλάχιστον 1 χρόνο.\nΧρησιμοποιούμε τις Aerial κινήσεις κατά τη διάρκεια του χορού μας\, κυρίως σε jam circle (διαδοχικός χορός ζευγαριών σε κύκλο). \nΖαν Μωρεάς 1 & Ζαχαρίτσα 49\nΚουκάκι\, Αθήνα.\nτηλ. επικοινωνίας 215 5509 747
URL:https://jumpnjive.gr/event/%ce%bd%ce%ad%ce%bf%cf%82-%ce%ba%cf%8d%ce%ba%ce%bb%ce%bf%cf%82-%ce%bc%ce%b1%ce%b8%ce%b7%ce%bc%ce%ac%cf%84%cf%89%ce%bd-aerials-made-easy-with-dimos-athina/
LOCATION:Athens
CATEGORIES:Jump & Jive Events
END:VEVENT
BEGIN:VEVENT
DTSTART;TZID=Europe/Athens:20191005T140000
DTEND;TZID=Europe/Athens:20191005T150000
DTSTAMP:20260423T212607
CREATED:20190926T203147Z
LAST-MODIFIED:20190926T203459Z
UID:9537-1570284000-1570287600@jumpnjive.gr
SUMMARY:Vintage Chorus Line - Δοκιμαστικό μάθημα & Νέος Κύκλος μαθημάτων
DESCRIPTION:Join our Chorus Line Track!! Aπό τo Σάββατο 05/10 και κάθε Σάββατο στις 14.00! \nΜπες στο Chorus Line και δοκίμασε λίγη από την αίγλη και τη γοητεία των Vintage & Hollywood style χορογραφιών! Έλα να αναβιώσουμε μαζί τα μπαλέτα των μεγάλων club της -μαγευτικής- Νέας Υόρκης των δεκαετιών ’20-’50. \nΔήλωσε συμμετοχή για το δοκιμαστικό μάθημα συμπληρώνοντας τα στοιχεία σου στην φόρμα: \nhttps://forms.gle/xH8QLQqQYDqFr2M18 \nΘα λάβεις email επιβεβαίωσης σύντομα με όλες τις λεπτομέρειες!\nΟι θέσεις είναι περιορισμένες\, θα τηρηθεί σειρά προτεραιότητας. \nΣε αυτόν τον κύκλο μαθημάτων θα επικεντρωθούμε σε απλές κινήσεις εμπνευσμένες από τις χορογραφίες των Chorus Line των δεκαετιών ’20-’40\, δημιουργώντας με αυτές ομαδικές χορογραφίες που θα περιέχουν high kicks\, κλασικές κινήσεις Jazz και μια ιδέα από τις ταινίες του Hollywood (βλ. John Tiller\, Busby Berkeley και … Bob Fosse). \nAτομικά\, θα μάθεις καινούρια βήματα και θα σε βοηθήσει να κατανοήσεις καλύτερα το ρυθμό. Θα εξελίξεις τη μουσικότητα και το στιλ σου\, καθώς και τον συντονισμό με την μουσική\, στοιχεία που θα σε βοηθήσουν χορεύοντας και με το ζευγάρι σου. Ένας από τους στόχους του κύκλου μαθημάτων θα είναι η ομάδα να παρουσιάζει χορογραφίες ανά τακτά χρονικά διαστήματα. \nΤο επίπεδο σε αυτό το μάθημα είναι ανοιχτό (Open Level)\, χρειάζεται όμως να έχεις καλή φυσική κατάσταση για να το παρακολουθήσεις και χορευτική εμπειρία τουλαχιστον 1 χρόνo. \nΚαι μην ξεχνάς\, σε λίγο καιρό θα είμαστε πάλι στα 20’s γι’ αυτό ντύσου με στιλ\, άκου μουσικές από γραμμόφωνο και χόρεψε Jazz μέχρι το πρωί!! \nΔιδάσκει η Λιλη Σπανιδη!\nΣάββατο 14.00-15.00 \nΖαν Μωρεάς 1 & Ζαχαρίτσα\nΚουκάκι\, Αθήνα.\nτηλ. επικοινωνίας 215 5509 747\n& 6948462754
URL:https://jumpnjive.gr/event/vintage-chorus-line-%ce%b4%ce%bf%ce%ba%ce%b9%ce%bc%ce%b1%cf%83%cf%84%ce%b9%ce%ba%cf%8c-%ce%bc%ce%ac%ce%b8%ce%b7%ce%bc%ce%b1-%ce%bd%ce%ad%ce%bf%cf%82-%ce%ba%cf%8d%ce%ba%ce%bb%ce%bf%cf%82-%ce%bc/
LOCATION:Athens
CATEGORIES:Jump & Jive Events
ATTACH;FMTTYPE=image/jpeg:https://jumpnjive.gr/wp-content/uploads/2019/09/71084386_1623928894409105_7482937008025763840_o.jpg
ORGANIZER;CN="Jump & Jive - Athens Swing Team":MAILTO:jumpnjive@gmail.com
END:VEVENT
END:VCALENDAR