BEGIN:VCALENDAR
VERSION:2.0
PRODID:-//Jump &amp; Jive - Athens Swing Team - ECPv6.6.3//NONSGML v1.0//EN
CALSCALE:GREGORIAN
METHOD:PUBLISH
X-WR-CALNAME:Jump &amp; Jive - Athens Swing Team
X-ORIGINAL-URL:https://jumpnjive.gr
X-WR-CALDESC:Jump &amp; Jive - Athens Swing Team - Εκδηλώσεις
REFRESH-INTERVAL;VALUE=DURATION:PT1H
X-Robots-Tag:noindex
X-PUBLISHED-TTL:PT1H
BEGIN:VTIMEZONE
TZID:Europe/Athens
BEGIN:DAYLIGHT
TZOFFSETFROM:+0200
TZOFFSETTO:+0300
TZNAME:EEST
DTSTART:20200329T010000
END:DAYLIGHT
BEGIN:STANDARD
TZOFFSETFROM:+0300
TZOFFSETTO:+0200
TZNAME:EET
DTSTART:20201025T010000
END:STANDARD
END:VTIMEZONE
BEGIN:VEVENT
DTSTART;TZID=Europe/Athens:20201003T140000
DTEND;TZID=Europe/Athens:20201010T150000
DTSTAMP:20260423T011902
CREATED:20200823T160147Z
LAST-MODIFIED:20201001T095220Z
UID:9695-1601733600-1602342000@jumpnjive.gr
SUMMARY:R'n'R/ Boogie Woogie + Free Taster
DESCRIPTION:Δοκιμαστικό Μάθημα και Νέος κύκλος μαθημάτων R’n’R – Boogie Woogie\, από τo Σάββατο 12/09 και κάθε Σάββατο στις 13.00!\nΟι εγγραφές στο τμήμα θα ανοίξουν τη Κυριακή 30/08 στις 18.00!\nΔήλωσε συμμετοχή για το δοκιμαστικό μάθημα συμπληρώνοντας τα στοιχεία σου στην φόρμα μόλις ανοίξουν οι συμμετοχές!\nhttps://forms.gle/pSo8N4qVauQ9pnN39\nΘα λάβεις email επιβεβαίωσης σύντομα με όλες τις λεπτομέρειες!\n*Τα καινούρια τμήματα Αρχαρίων έχουν πάντα μεγάλη συμμετοχή γι’ αυτό μην καθυστερείς την εγγραφή σου!\n**Επειδή το swing χορεύεται σε ζευγάρια προσπαθούμε να διατηρήσουμε καλή ισορροπία μεταξύ leaders(καβαλιέρους) & followers(ντάμες) στα μαθήματα. Αυτό σημαίνει πως αν έχεις κάποιο φίλο που ενδιαφέρεται καλό θα ήταν να έρθετε μαζί.\n*** Τηρούμε όλους τους κανόνες υγιείνής και σου ζητάμε να κάνεις το ίδιο για την ασφάλεια όλων μας.\n**** Όλα τα μαθήματα θα αναμεταδίδονται live μέσω της πλατφόρμας Zoom. Αν θέλεις να τα παρακολουθήσεις online μπορείς να δηλώσεις συμμετοχή γράφοντάς το στα σχόλια της φόρμας.\nΖαν Μωρεάς 1 & Ζαχαρίτσα\nΚουκάκι\, Αθήνα.\nτηλ. επικοινωνίας 215 5509 747\n& 6948462754\nemail: jumpnjive.gr@gmail.com
URL:https://jumpnjive.gr/event/%ce%bd%ce%ad%ce%bf-%cf%84%ce%bc%ce%ae%ce%bc%ce%b1-rnr-boogie-woogie-free-taster-3/
LOCATION:Jump & Jive – Athens Swing Team\, Zan moreas 1\, Koukaki\, Athens\, 11741
CATEGORIES:Jump & Jive Events
ATTACH;FMTTYPE=image/png:https://jumpnjive.gr/wp-content/uploads/2020/08/4.png
ORGANIZER;CN="Jump & Jive - Athens Swing Team":MAILTO:jumpnjive@gmail.com
END:VEVENT
BEGIN:VEVENT
DTSTART;TZID=Europe/Athens:20201003T140000
DTEND;TZID=Europe/Athens:20201010T150000
DTSTAMP:20260423T011902
CREATED:20200823T154224Z
LAST-MODIFIED:20201001T095145Z
UID:9685-1601733600-1602342000@jumpnjive.gr
SUMMARY:Vintage Chorus Line | Δοκιμαστικό μάθημα + Νέος Κύκλος μαθημάτων
DESCRIPTION:Join our Chorus Line Track!! Aπό τo Σάββατο 05/09 και κάθε Σάββατο στις 14.00!\nΜπες στο Chorus Line και δοκίμασε λίγη από την αίγλη και τη γοητεία των Vintage & Hollywood style χορογραφιών! Έλα να αναβιώσουμε μαζί τα μπαλέτα των μεγάλων club της -μαγευτικής- Νέας Υόρκης των δεκαετιών ’20-’50.\nΔήλωσε συμμετοχή για το δοκιμαστικό μάθημα συμπληρώνοντας τα στοιχεία σου στην φόρμα:\nhttps://forms.gle/GPFem6Gom5qvyP336\nΘα λάβεις email επιβεβαίωσης σύντομα με όλες τις λεπτομέρειες!\nΟι θέσεις είναι περιορισμένες\, θα τηρηθεί σειρά προτεραιότητας.\nΣε αυτόν τον κύκλο μαθημάτων θα επικεντρωθούμε σε απλές κινήσεις εμπνευσμένες από τις χορογραφίες των Chorus Line των δεκαετιών ’20-’40\, δημιουργώντας με αυτές ομαδικές χορογραφίες που θα περιέχουν high kicks\, κλασικές κινήσεις Jazz και μια ιδέα από τις ταινίες του Hollywood (βλ. John Tiller\, Busby Berkeley και … Bob Fosse).\nAτομικά\, θα μάθεις καινούρια βήματα και θα σε βοηθήσει να κατανοήσεις καλύτερα το ρυθμό. Θα εξελίξεις τη μουσικότητα και το στιλ σου\, καθώς και τον συντονισμό με την μουσική\, στοιχεία που θα σε βοηθήσουν χορεύοντας και με το ζευγάρι σου. Ένας από τους στόχους του κύκλου μαθημάτων θα είναι η ομάδα να παρουσιάζει χορογραφίες ανά τακτά χρονικά διαστήματα.\nΤο επίπεδο σε αυτό το μάθημα είναι ανοιχτό (Open Level)\, χρειάζεται όμως να έχεις καλή φυσική κατάσταση για να το παρακολουθήσεις και χορευτική εμπειρία τουλαχιστον 1 χρόνo.\nΚαι μην ξεχνάς\, σε λίγο καιρό θα είμαστε πάλι στα 20’s γι’ αυτό ντύσου με στιλ\, άκου μουσικές από γραμμόφωνο και χόρεψε Jazz μέχρι το πρωί!!\nΔιδάσκει η Λιλη Σπανιδη!\nΣάββατο 14.00-15.00\nΖαν Μωρεάς 1 & Ζαχαρίτσα\nΚουκάκι\, Αθήνα.\nτηλ. επικοινωνίας 215 5509 747\n& 6948462754
URL:https://jumpnjive.gr/event/vintage-chorus-line-%ce%b4%ce%bf%ce%ba%ce%b9%ce%bc%ce%b1%cf%83%cf%84%ce%b9%ce%ba%cf%8c-%ce%bc%ce%ac%ce%b8%ce%b7%ce%bc%ce%b1-%ce%bd%ce%ad%ce%bf%cf%82-%ce%ba%cf%8d%ce%ba%ce%bb%ce%bf%cf%82-%ce%bc-2/
LOCATION:Jump & Jive – Athens Swing Team\, Zan moreas 1\, Koukaki\, Athens\, 11741
CATEGORIES:Jump & Jive Events
ATTACH;FMTTYPE=image/png:https://jumpnjive.gr/wp-content/uploads/2020/08/chorus-cover.png
ORGANIZER;CN="Jump & Jive - Athens Swing Team":MAILTO:jumpnjive@gmail.com
END:VEVENT
END:VCALENDAR