BEGIN:VCALENDAR
VERSION:2.0
PRODID:-//Jump &amp; Jive - Athens Swing Team - ECPv6.6.3//NONSGML v1.0//EN
CALSCALE:GREGORIAN
METHOD:PUBLISH
X-ORIGINAL-URL:https://jumpnjive.gr
X-WR-CALDESC:Jump &amp; Jive - Athens Swing Team - Εκδηλώσεις
REFRESH-INTERVAL;VALUE=DURATION:PT1H
X-Robots-Tag:noindex
X-PUBLISHED-TTL:PT1H
BEGIN:VTIMEZONE
TZID:Europe/Athens
BEGIN:DAYLIGHT
TZOFFSETFROM:+0200
TZOFFSETTO:+0300
TZNAME:EEST
DTSTART:20220327T010000
END:DAYLIGHT
BEGIN:STANDARD
TZOFFSETFROM:+0300
TZOFFSETTO:+0200
TZNAME:EET
DTSTART:20221030T010000
END:STANDARD
END:VTIMEZONE
BEGIN:VEVENT
DTSTART;TZID=Europe/Athens:20220205T130000
DTEND;TZID=Europe/Athens:20220205T140000
DTSTAMP:20260422T003043
CREATED:20220124T115725Z
LAST-MODIFIED:20220124T115946Z
UID:9831-1644066000-1644069600@jumpnjive.gr
SUMMARY:Authentic Jazz - Δωρεάν Δοκιμαστικό Μάθημα
DESCRIPTION:Ήρθε η ώρα να ξεκινήσεις Jazz! Αν πάντα ήθελες να μπορείς να γκρουβάρεις στο ρυθμό της jazz \, της b-bop και της swing όπου και αν βρεθείς\, αυτό το μάθημα είναι για σένα! \nΈλα να μάθουμε τις πιο κλασσικές κινήσεις Jazz που γνωρίζουν όλοι οι Lindy hoppers ανα τον κόσμο\, μέσα από χορογραφίες και παιχνίδι με τη μουσική και το ρυθμό! \nΔωρεάν δοκιμαστικό μάθημα το Σάββατο 05/02 στις 13:00-14:00 με την Έλενα Ευαγγελία!\nΔήλωσε συμμετοχή για το μάθημα συμπληρώνοντας τα στοιχεία σου στην παρακάτω φόρμα. \nhttps://forms.gle/5c1ib35enbH2B4S39 \nΘα λάβεις email επιβεβαίωσης σύντομα με όλες τις λεπτομέρειες!\nΟι θέσεις είναι περιορισμένες\, θα τηρηθεί σειρά προτεραιότητας. \nΖαν Μωρεάς 1 & Ζαχαρίτσα\nΚουκάκι\, Αθήνα.\nτηλ. επικοινωνίας 215 5509 747\n& 6948462754 \n 
URL:https://jumpnjive.gr/event/solo-jazz-free-taster-class/
LOCATION:Jump & Jive – Athens Swing Team\, Zan moreas 1\, Koukaki\, Athens\, 11741
CATEGORIES:Jump & Jive Events
ATTACH;FMTTYPE=image/jpeg:https://jumpnjive.gr/wp-content/uploads/2015/05/9be64af12cf6541ad1420994e4881-1.jpg
END:VEVENT
END:VCALENDAR