BEGIN:VCALENDAR
VERSION:2.0
PRODID:-//Jump &amp; Jive - Athens Swing Team - ECPv6.6.3//NONSGML v1.0//EN
CALSCALE:GREGORIAN
METHOD:PUBLISH
X-WR-CALNAME:Jump &amp; Jive - Athens Swing Team
X-ORIGINAL-URL:https://jumpnjive.gr
X-WR-CALDESC:Jump &amp; Jive - Athens Swing Team - Εκδηλώσεις
REFRESH-INTERVAL;VALUE=DURATION:PT1H
X-Robots-Tag:noindex
X-PUBLISHED-TTL:PT1H
BEGIN:VTIMEZONE
TZID:Europe/Athens
BEGIN:DAYLIGHT
TZOFFSETFROM:+0200
TZOFFSETTO:+0300
TZNAME:EEST
DTSTART:20220327T010000
END:DAYLIGHT
BEGIN:STANDARD
TZOFFSETFROM:+0300
TZOFFSETTO:+0200
TZNAME:EET
DTSTART:20221030T010000
END:STANDARD
END:VTIMEZONE
BEGIN:VEVENT
DTSTART;TZID=Europe/Athens:20220310T080000
DTEND;TZID=Europe/Athens:20220317T220000
DTSTAMP:20260421T231010
CREATED:20220226T165310Z
LAST-MODIFIED:20220226T165320Z
UID:9976-1646899200-1647554400@jumpnjive.gr
SUMMARY:Blindfolded Dancers' Week
DESCRIPTION:Αυτή την εβδομάδα φέρνουμε μαζί στο μάθημα το μαντίλι μας (ή τη μάσκα ύπνου) & εξασκούμαστε με … κλειστά τα μάτια!\nΒελτιώνουμε με αυτό τον τρόπο την επαφή με το ζευγάρι μας\, το following & το leading καθώς και την… εμπιστοσύνη μας προς τ@παρτενερ μας!\n.\nhttps://fb.watch/bq4klEzXix/\n.\n.\n.\n.\n#blindfoldedweek #ματιαερμητικακλειστα #jumpnjive
URL:https://jumpnjive.gr/event/blindfolded-dancers-week/
LOCATION:Athens
CATEGORIES:Jump & Jive Events
ATTACH;FMTTYPE=image/png:https://jumpnjive.gr/wp-content/uploads/2022/02/blindfolded-week.png
END:VEVENT
END:VCALENDAR