BEGIN:VCALENDAR
VERSION:2.0
PRODID:-//Jump &amp; Jive - Athens Swing Team - ECPv6.6.3//NONSGML v1.0//EN
CALSCALE:GREGORIAN
METHOD:PUBLISH
X-ORIGINAL-URL:https://jumpnjive.gr
X-WR-CALDESC:Jump &amp; Jive - Athens Swing Team - Εκδηλώσεις
REFRESH-INTERVAL;VALUE=DURATION:PT1H
X-Robots-Tag:noindex
X-PUBLISHED-TTL:PT1H
BEGIN:VTIMEZONE
TZID:Europe/Athens
BEGIN:DAYLIGHT
TZOFFSETFROM:+0200
TZOFFSETTO:+0300
TZNAME:EEST
DTSTART:20220327T010000
END:DAYLIGHT
BEGIN:STANDARD
TZOFFSETFROM:+0300
TZOFFSETTO:+0200
TZNAME:EET
DTSTART:20221030T010000
END:STANDARD
END:VTIMEZONE
BEGIN:VEVENT
DTSTART;TZID=Europe/Athens:20220409T190000
DTEND;TZID=Europe/Athens:20220409T210000
DTSTAMP:20260421T214540
CREATED:20220330T133316Z
LAST-MODIFIED:20220330T133409Z
UID:10073-1649530800-1649538000@jumpnjive.gr
SUMMARY:A study in Jazz Dance- Let's watch and dance together the Old Clips
DESCRIPTION:Let’s watch and dance together the Old Clips\nA study in Jazz Dance.\n.\nΣας προσκαλώ σε ένα απόγευμα γεμάτο σινεμά\, χορό και φυσικά (!) ποπ κορν! \nΕλάτε να δούμε παρέα\, μερικά αυθεντικά video jazz χορού με κάποια από τα αγαπημένα μας ονόματα όπως Al Minns\, Leon James\, Mable Lee\, The Berry Brothers\, να τα αναλύσουμε και να χορέψουμε μαζί\, βάζοντας στα πόδια μας τα διαφορετικά variations και αποδίδωντας σωματικά το μοναδικό στυλ τους.\nΑνυπομονω να τα μοιραστώ μαζί σας!\n.\nLevel Open: Κατάλληλο για όσους ξέρουν τα βασικά βήματα της Jazz και έχουν όρεξη να εξερευνήσουν και να υιοθετήσουν το δικό τους χορευτικό στυλ.\nΠότε : Σάββατο 9/04\nΏρα : 19:00-21:00\nΠού : Ζαν Μωρεας 1\, Κουκάκι\n@ Jump n Jive Athens Swing Team\nΣυμμετοχη : 10 ευρώ\nΔήλωστε συμμετοχή εδώ:\nhttps://forms.gle/XC7bTCWJQ54k2EC66\nΜε χορευτικούς χαιρετισμούς\,\nElena Evangelia\n&\nJnJ\n.\n#workshop #oldclips #jazz #authenticjazz #jazzitup
URL:https://jumpnjive.gr/event/a-study-in-jazz-dance-lets-watch-and-dance-together-the-old-clips/
LOCATION:Jump & Jive – Athens Swing Team\, Zan moreas 1\, Koukaki\, Athens\, 11741
CATEGORIES:Jump & Jive Events
ATTACH;FMTTYPE=image/png:https://jumpnjive.gr/wp-content/uploads/2022/03/A-study-Old-Clips.png
ORGANIZER;CN="Jump & Jive - Athens Swing Team":MAILTO:jumpnjive@gmail.com
END:VEVENT
END:VCALENDAR