BEGIN:VCALENDAR
VERSION:2.0
PRODID:-//Jump &amp; Jive - Athens Swing Team - ECPv6.6.3//NONSGML v1.0//EN
CALSCALE:GREGORIAN
METHOD:PUBLISH
X-WR-CALNAME:Jump &amp; Jive - Athens Swing Team
X-ORIGINAL-URL:https://jumpnjive.gr
X-WR-CALDESC:Jump &amp; Jive - Athens Swing Team - Εκδηλώσεις
REFRESH-INTERVAL;VALUE=DURATION:PT1H
X-Robots-Tag:noindex
X-PUBLISHED-TTL:PT1H
BEGIN:VTIMEZONE
TZID:Europe/Athens
BEGIN:DAYLIGHT
TZOFFSETFROM:+0200
TZOFFSETTO:+0300
TZNAME:EEST
DTSTART:20220327T010000
END:DAYLIGHT
BEGIN:STANDARD
TZOFFSETFROM:+0300
TZOFFSETTO:+0200
TZNAME:EET
DTSTART:20221030T010000
END:STANDARD
END:VTIMEZONE
BEGIN:VEVENT
DTSTART;TZID=Europe/Athens:20221004T080000
DTEND;TZID=Europe/Athens:20221004T170000
DTSTAMP:20260421T115638
CREATED:20221004T035856Z
LAST-MODIFIED:20221004T035857Z
UID:10207-1664870400-1664902800@jumpnjive.gr
SUMMARY:A Swing Dance Party - Outdoors Rooftop
DESCRIPTION:Παρασκευή 07 Οκτωβρίου βρισκόμαστε στη φανταστική ταράτσα του Royal Rooftop \, στην καρδιά της Αθήνας\, με θέα όλη την πόλη\, δυό βήματα από το σταθμό Μοναστηράκι. \n\nπι.ες. Ζακέτα να πάρεις \n\nΕίσοδος ελεύθερη\nΏρα έναρξης: 21:30\nΠαρασκευή 07/10\nΑθηνάς & Αγίας Ειρήνης 105\nΜοναστηράκι
URL:https://jumpnjive.gr/event/a-swing-dance-party-outdoors-rooftop/
LOCATION:Royal Rooftop\, Αθηνάς και Αγίας Ειρήνης\, Αθήνα\, Αττική\, 10551\, Ελλάδα
CATEGORIES:Jump & Jive Events
ATTACH;FMTTYPE=image/png:https://jumpnjive.gr/wp-content/uploads/2022/10/rooftop-swing-2.png
ORGANIZER;CN="Jump & Jive - Athens Swing Team":MAILTO:jumpnjive@gmail.com
END:VEVENT
END:VCALENDAR