BEGIN:VCALENDAR
VERSION:2.0
PRODID:-//Jump &amp; Jive - Athens Swing Team - ECPv6.6.3//NONSGML v1.0//EN
CALSCALE:GREGORIAN
METHOD:PUBLISH
X-ORIGINAL-URL:https://jumpnjive.gr
X-WR-CALDESC:Jump &amp; Jive - Athens Swing Team - Εκδηλώσεις
REFRESH-INTERVAL;VALUE=DURATION:PT1H
X-Robots-Tag:noindex
X-PUBLISHED-TTL:PT1H
BEGIN:VTIMEZONE
TZID:Europe/Athens
BEGIN:DAYLIGHT
TZOFFSETFROM:+0200
TZOFFSETTO:+0300
TZNAME:EEST
DTSTART:20230326T010000
END:DAYLIGHT
BEGIN:STANDARD
TZOFFSETFROM:+0300
TZOFFSETTO:+0200
TZNAME:EET
DTSTART:20231029T010000
END:STANDARD
END:VTIMEZONE
BEGIN:VEVENT
DTSTART;TZID=Europe/Athens:20230114T220000
DTEND;TZID=Europe/Athens:20230115T013000
DTSTAMP:20260421T071337
CREATED:20191024T000253Z
LAST-MODIFIED:20230105T140659Z
UID:9568-1673733600-1673746200@jumpnjive.gr
SUMMARY:The Jumpin' Bones Live - A Crazy Dance Party
DESCRIPTION:Τους αγαπάμε\, μας λείψανε\, ήρθε η ώρα!!!\nΤο Σάββατο 14 Ιανουαρίου κατεβαίνουμε Κυψέλη για χορό με live  μουσικάρες…..\nΜαζί μας οι …..\nJumpin’ Bones!!!\nΦουλ σετ για χορό!\nΜουσικές -οφ στειτζ- από την Εlena Evangelia\, swinging jazz\, jump blues\, rnb\, rnr … και όλα αυτά στη μουσική σκηνή του Orfea Cafe Bar!\n.\n.\nΤι λέτε λοιπόν;\nΧορεύουμε;\n.\n.\n#letsdance #jumpnjive #livemusic\n\nAbout Jumpin Bones\nLinks\nhttp://www.thejumpinbones.com (Official Website)\nhttps://www.facebook.com/TheJumpinBones/ (Facebook)\nhttps://www.instagram.com/thejumpinbones/ (Instagram)\nVideos\nhttps://youtu.be/t2oFHLPfIEo\nhttps://youtu.be/C33CqLiABKs\nhttps://youtu.be/xrgsLQoGuNQ\nhttps://youtu.be/iE5Hk5mKmGQ\nhttps://youtu.be/5lKzm4WEdMs\nΣάββατο 14/01\nΏρα έναρξης 22.00\nΣυμμετοχή: 6 ευρώ\nOrfeas Cafe Bar Restaurant Fokionos Negri 25\, Αθήνα\nwww.jumpnjive.gr\nOrfeas Live\nCafe Bar Restaurant\nΦωκίωνος Νέγρη 25\nΑθήνα\, Κυψέλη\nΤηλέφωνο για κρατήσεις 2108668544 6939-187511\nhttps://www.facebook.com/orfeas.cafe/\n\n 
URL:https://jumpnjive.gr/event/jump-n-jive-jumpin-bones-at-%ce%bf%cf%81%cf%86%ce%ad%ce%b1%cf%82-%cf%83%ce%ac%ce%b2-9-%ce%bd%ce%bf%ce%b5/
LOCATION:Orfeas Bar\, Φωκίωνος Νέγρη 25\, Αθήνα\, 11257\, Ελλάδα
CATEGORIES:Jump & Jive Events
ATTACH;FMTTYPE=image/png:https://jumpnjive.gr/wp-content/uploads/2022/12/Event-Covers-2021-2022-8.png
ORGANIZER;CN="Jump & Jive - Athens Swing Team":MAILTO:jumpnjive@gmail.com
END:VEVENT
END:VCALENDAR