BEGIN:VCALENDAR
VERSION:2.0
PRODID:-//Jump &amp; Jive - Athens Swing Team - ECPv6.6.3//NONSGML v1.0//EN
CALSCALE:GREGORIAN
METHOD:PUBLISH
X-WR-CALNAME:Jump &amp; Jive - Athens Swing Team
X-ORIGINAL-URL:https://jumpnjive.gr
X-WR-CALDESC:Jump &amp; Jive - Athens Swing Team - Εκδηλώσεις
REFRESH-INTERVAL;VALUE=DURATION:PT1H
X-Robots-Tag:noindex
X-PUBLISHED-TTL:PT1H
BEGIN:VTIMEZONE
TZID:Europe/Athens
BEGIN:DAYLIGHT
TZOFFSETFROM:+0200
TZOFFSETTO:+0300
TZNAME:EEST
DTSTART:20230326T010000
END:DAYLIGHT
BEGIN:STANDARD
TZOFFSETFROM:+0300
TZOFFSETTO:+0200
TZNAME:EET
DTSTART:20231029T010000
END:STANDARD
END:VTIMEZONE
BEGIN:VEVENT
DTSTART;VALUE=DATE:20230304
DTEND;VALUE=DATE:20230305
DTSTAMP:20260421T035818
CREATED:20230207T122050Z
LAST-MODIFIED:20230207T122050Z
UID:10247-1677888000-1677974399@jumpnjive.gr
SUMMARY:Ruben & Gunnhild in Athens
DESCRIPTION:Ruben & Gunnhild στην Αθηνά! Το Σάββατο 04 Μαρτίου φιλοξενούμε στη σχολη μας το αγαπημένο μας ζευγάρι και χορεύουμε μαζι τους σε σεμινάρια Lindy Hop\, Boogie και Aerials!\nΤο Σάββατο το βραδυ μαζι με LIVE μουσικές από τους ‘The Jumpin’ Bones’ θα παρταρουμε όλοι μαζι στον Ορφέα!\nΟι εγγραφές θα ανοίξουν την Τετάρτη στις 18.00 (και οι θεσεις ως συνήθως καλύπτονται σε λιγες ωρες) .\nΟι δηλώσεις συμμετοχής γίνονται σε ζευγάρια.\nΘα βρεις περισσότερες λεπτομέρειες στο website μας www.jumpnjive.gr . \nΑκολούθησε το λινκ για τη φόρμα και δήλωσε συμμετοχή με το ζευγάρι σου: \nhttps://forms.gle/24JLV5GK2LY3Dj6v6 \nΠρόγραμμα Σαββάτου 04/03 : \n13:00 -14:15 -Lindy Hop Int/Adv.\n14:30 – 16:00 – Aerials\n18:30-19:45 – Boogie Woogie Int/Adv.\n20:00 – 21:15 – Boogie Woogie Open \n22.00 Παρτάρα στον Ορφέα με LIVE ‘The Jumpin’ Bones’! \nΚόστος :\n1 μάθημα : 20 ευρώ\n2 μαθήματα : 40 ευρώ\n3 μαθήματα : 55 ευρώ\n4 μαθήματα : 70 ευρώ \nΛίγα λόγια στα αγγλικά! 😉 \nGunnhild and Ruben are two Lindy Hop – & Boogie Woogie – dancers located in Oslo/Bergen. They have a strong passion for teaching\, competing and especially social dancing – where the goal for both during the social night is to avoid leaving the floor for as long as humanly possible. \nThey both embrace the joy\, fun and spontaneity in swing dancing\, and love to connect and play around with the “here and now” on the social floor. After having started competing internationally\, they have accomplished various achievements (listed underneath). Ruben has also been teaching at various international festivals with different partners. \nSome recent achievements: \n– 3rd place in The Minute Challenge at The Snowball 2022 (Gunnhild and Ruben)\n– 2nd place in the Boogie Woogie Mix & Match at Wild West Festival 2022 (Gunnhild)\n– 2nd place in the Boogie Woogie Advanced Jack ‘n Jill at Boogie Feets Festival 2022 (Gunnhild and Ruben)\n– 1st place in the Lindy Hop Fast Feet Competition at Herräng 2019 (Ruben) \n#σεμιναρια #social #αχαστο
URL:https://jumpnjive.gr/event/ruben-gunnhild-in-athens/
LOCATION:Jump & Jive – Athens Swing Team\, Zan moreas 1\, Koukaki\, Athens\, 11741
CATEGORIES:Jump & Jive Events
ATTACH;FMTTYPE=image/png:https://jumpnjive.gr/wp-content/uploads/2023/02/Event-Covers-2021-2022-22.png
ORGANIZER;CN="Jump & Jive - Athens Swing Team":MAILTO:jumpnjive@gmail.com
END:VEVENT
END:VCALENDAR