BEGIN:VCALENDAR
VERSION:2.0
PRODID:-//Jump &amp; Jive - Athens Swing Team - ECPv6.6.3//NONSGML v1.0//EN
CALSCALE:GREGORIAN
METHOD:PUBLISH
X-ORIGINAL-URL:https://jumpnjive.gr
X-WR-CALDESC:Jump &amp; Jive - Athens Swing Team - Εκδηλώσεις
REFRESH-INTERVAL;VALUE=DURATION:PT1H
X-Robots-Tag:noindex
X-PUBLISHED-TTL:PT1H
BEGIN:VTIMEZONE
TZID:Europe/Athens
BEGIN:DAYLIGHT
TZOFFSETFROM:+0200
TZOFFSETTO:+0300
TZNAME:EEST
DTSTART:20230326T010000
END:DAYLIGHT
BEGIN:STANDARD
TZOFFSETFROM:+0300
TZOFFSETTO:+0200
TZNAME:EET
DTSTART:20231029T010000
END:STANDARD
END:VTIMEZONE
BEGIN:VEVENT
DTSTART;TZID=Europe/Athens:20230918T180000
DTEND;TZID=Europe/Athens:20230918T190000
DTSTAMP:20260420T183548
CREATED:20230902T122852Z
LAST-MODIFIED:20230902T123157Z
UID:10360-1695060000-1695063600@jumpnjive.gr
SUMMARY:Νέο Τμήμα Shuffle 101
DESCRIPTION:Νέος κύκλος αρχαρίων Shuffle Dance!\nΟ κύκλος αυτός απευθύνεται σε όσους έχουν μικρή ή και καθόλου εμπειρία στο χορό.\n.\nΤο Shuffle dance είναι το χορευτικο στυλ το οποίο γεννήθηκε στη club κουλτούρα της Μελβούρνης στα 80s.\nH δημιουργία του αποδίδεται – όπως και του Hip Hop- στους Αφροαμερικανούς και στα πρώιμα είδη χορού\, Jazz\, Tap κτλ.\, από τα οποια ενσωματωθηκαν βήματα\, ενέργεις και κινησεις από τη δική τους χορευτική ιστορία.\nΈγινε πολύ δημοφιλές στο Λονδίνο και στις μέρες μας χορεύεται φανατικά παγκοσμίως.\nΕίναι ένας χορός κατά βάση αυτοσχεδιαστικός\, ο οποίος δίνει έμφαση σε γρήγορα και περίπλοκα βήματα με τα πόδια.\nΕμείς θα ξεκινήσουμε μαθαίνοντας τις βασικές κινήσεις και φιγούρες και θα προσεγγίσουμε τον αυτοσχεδιασμό.\n.\nH μουσική θα ειναι Electro Swing και House!\nΟι δηλώσεις συμμετοχής θα ανοίξουν στις .\nΔήλωσε συμμετοχή online\, συμπληρώνοντας τα στοιχεία σου στη φόρμα και θα λάβεις email επιβεβαίωσης με όλες τις λεπτομέρειες!\nhttps://forms.gle/fam5M5uBqjiL71Yw5\n—\nJump n Jive Athens Swing Team\n#talktomevintage\nΖαν Μωρεάς 1\nΚουκάκι\, Αθήνα.\nτηλ. επικοινωνίας 2155509747\nΑκολούθησέ μας και στο @shuffledanceathens στο Ιnstagram.
URL:https://jumpnjive.gr/event/%ce%bd%ce%ad%ce%bf-%cf%84%ce%bc%ce%ae%ce%bc%ce%b1-shuffle-101/
LOCATION:Jump & Jive – Athens Swing Team\, Zan moreas 1\, Koukaki\, Athens\, 11741
CATEGORIES:Jump & Jive Events
ATTACH;FMTTYPE=image/jpeg:https://jumpnjive.gr/wp-content/uploads/2023/07/1-486-scaled.jpg
ORGANIZER;CN="Jump & Jive - Athens Swing Team":MAILTO:jumpnjive@gmail.com
END:VEVENT
END:VCALENDAR