BEGIN:VCALENDAR
VERSION:2.0
PRODID:-//Jump &amp; Jive - Athens Swing Team - ECPv6.6.3//NONSGML v1.0//EN
CALSCALE:GREGORIAN
METHOD:PUBLISH
X-ORIGINAL-URL:https://jumpnjive.gr
X-WR-CALDESC:Jump &amp; Jive - Athens Swing Team - Εκδηλώσεις
REFRESH-INTERVAL;VALUE=DURATION:PT1H
X-Robots-Tag:noindex
X-PUBLISHED-TTL:PT1H
BEGIN:VTIMEZONE
TZID:Europe/Athens
BEGIN:DAYLIGHT
TZOFFSETFROM:+0200
TZOFFSETTO:+0300
TZNAME:EEST
DTSTART:20230326T010000
END:DAYLIGHT
BEGIN:STANDARD
TZOFFSETFROM:+0300
TZOFFSETTO:+0200
TZNAME:EET
DTSTART:20231029T010000
END:STANDARD
END:VTIMEZONE
BEGIN:VEVENT
DTSTART;TZID=Europe/Athens:20231126T190000
DTEND;TZID=Europe/Athens:20231127T003000
DTSTAMP:20260420T142030
CREATED:20231011T102516Z
LAST-MODIFIED:20231107T093449Z
UID:10379-1701025200-1701045000@jumpnjive.gr
SUMMARY:Vintage Night - Swing Party at Xorostasion
DESCRIPTION:Χορεύουμε στο αγαπημένο μας Χοροστάσιον!\nΔίπλα από το μετρό Πανεπιστήμιο\, στο κέντρο της Αθήνας.\nΘα μας βρειτε εκεί να swingοροκάρουμε την Κυριακή 26 Νοεμβρίου από τις 19:00!\nΜην αργήσετε \nΗ πρώτη ώρα θα είναι σε ‘beginner friendly’ tempos.\nΦήμες λένε πως κατά τη διάρκεια της βραδιάς θα υπάρχουν χορευτικές εκπλήξεις \n.\nΕίσοδος Ελέυθερη\n.\nΧοροστασιον\nΣκουλενίου 2Β\, Πλατεία Κλαυθμώνος.\n.\nJump n Jive\nTalk Vintage To Me
URL:https://jumpnjive.gr/event/vintage-night-swing-party-at-xorostasion/
LOCATION:Athens
CATEGORIES:Jump & Jive Events
ATTACH;FMTTYPE=image/png:https://jumpnjive.gr/wp-content/uploads/2023/10/Trivia-Night-Instagram-Post.png
ORGANIZER;CN="Jump & Jive - Athens Swing Team":MAILTO:jumpnjive@gmail.com
END:VEVENT
END:VCALENDAR