BEGIN:VCALENDAR
VERSION:2.0
PRODID:-//Jump &amp; Jive - Athens Swing Team - ECPv6.6.3//NONSGML v1.0//EN
CALSCALE:GREGORIAN
METHOD:PUBLISH
X-WR-CALNAME:Jump &amp; Jive - Athens Swing Team
X-ORIGINAL-URL:https://jumpnjive.gr
X-WR-CALDESC:Jump &amp; Jive - Athens Swing Team - Εκδηλώσεις
REFRESH-INTERVAL;VALUE=DURATION:PT1H
X-Robots-Tag:noindex
X-PUBLISHED-TTL:PT1H
BEGIN:VTIMEZONE
TZID:Europe/Athens
BEGIN:DAYLIGHT
TZOFFSETFROM:+0200
TZOFFSETTO:+0300
TZNAME:EEST
DTSTART:20230326T010000
END:DAYLIGHT
BEGIN:STANDARD
TZOFFSETFROM:+0300
TZOFFSETTO:+0200
TZNAME:EET
DTSTART:20231029T010000
END:STANDARD
END:VTIMEZONE
BEGIN:VEVENT
DTSTART;TZID=Europe/Athens:20231202T183000
DTEND;TZID=Europe/Athens:20231202T200000
DTSTAMP:20260420T141210
CREATED:20231107T101859Z
LAST-MODIFIED:20231129T211649Z
UID:10404-1701541800-1701547200@jumpnjive.gr
SUMMARY:Μάθε να χορεύεις Blues!!
DESCRIPTION:Still Got the Blues Workshop -Open level\, με τον Ανδρέα και την Έλενα! \nTo σεμινάριο είναι ανοιχτό για όλα τα επίπεδα και για όσ@ δεν έχουν ξανακάνει Blues. Αν έχεις ξανακάνει μαζί μας σεμινάριο ξέρεις ότι θα πάρεις έμπνευση από την ανάλυση μας και θα μάθεις -σε κάθε σεμινάριο- νέες κινήσεις για να εμπλουτίσεις το χορό σου.\nΚατά τη διάρκεια του σεμιναρίου θα κάνουμε rotation στα ζευγάρια. \nTo επίπεδο είναι κατάλληλο για όλ@ !\nΟ κύκλος Blues θα περιέχει 3 σεμιναριακά μαθήματα. \nΔήλωσε τώρα συμμετοχή εδώ:\nhttps://forms.gle/Hun7iqLUqsNL7a5P6 \n⏳   Διάρκεια\n1 ώρα & 20 λεπτά  ( 18:40-20:00 ) \nΗμερομηνίες\n-Σάββατο 18 /11\n-Σάββατο 02/12\n-Σάββατο 16/12 \nΚόστος συμμετοχής : 60 ευρώ\nΜέλη JnJ : 40 ευρώ Drop in με δήλωση συμμετοχής : 25 ευρώ\nΜέλη JnJ : 15 ευρώ \nΔήλωσε συμμετοχή συμπληρώνοντας τα στοιχεία σου στην φόρμα  και θα λάβεις email επιβεβαίωσης σύντομα με όλες τις λεπτομέρειες! \nΟι θέσεις είναι περιορισμένες\, θα τηρηθεί σειρά προτεραιότητας.\nΚατα τη διαάρκεια του μαθήματος θα γίνεται rotation. \nJump n Jive – Athens Swing Team\nΖαν Μωρεάς 1 & Ζαχαρίτσα\nΚουκάκι \, Αθήνα.\nTηλ. επικοινωνίας\n2155509747
URL:https://jumpnjive.gr/event/%ce%bc%ce%ac%ce%b8%ce%b5-%ce%bd%ce%b1-%cf%87%ce%bf%cf%81%ce%b5%cf%8d%ce%b5%ce%b9%cf%82-blues/
LOCATION:Jump & Jive – Athens Swing Team\, Zan moreas 1\, Koukaki\, Athens\, 11741
CATEGORIES:Jump & Jive Events
ATTACH;FMTTYPE=image/png:https://jumpnjive.gr/wp-content/uploads/2023/11/Balboa-Blues-Intense.png
ORGANIZER;CN="Jump & Jive - Athens Swing Team":MAILTO:jumpnjive@gmail.com
END:VEVENT
END:VCALENDAR