BEGIN:VCALENDAR
VERSION:2.0
PRODID:-//Jump &amp; Jive - Athens Swing Team - ECPv6.6.3//NONSGML v1.0//EN
CALSCALE:GREGORIAN
METHOD:PUBLISH
X-ORIGINAL-URL:https://jumpnjive.gr
X-WR-CALDESC:Jump &amp; Jive - Athens Swing Team - Εκδηλώσεις
REFRESH-INTERVAL;VALUE=DURATION:PT1H
X-Robots-Tag:noindex
X-PUBLISHED-TTL:PT1H
BEGIN:VTIMEZONE
TZID:Europe/Athens
BEGIN:DAYLIGHT
TZOFFSETFROM:+0200
TZOFFSETTO:+0300
TZNAME:EEST
DTSTART:20230326T010000
END:DAYLIGHT
BEGIN:STANDARD
TZOFFSETFROM:+0300
TZOFFSETTO:+0200
TZNAME:EET
DTSTART:20231029T010000
END:STANDARD
END:VTIMEZONE
BEGIN:VEVENT
DTSTART;TZID=Europe/Athens:20231204T200000
DTEND;TZID=Europe/Athens:20231204T210000
DTSTAMP:20260420T142559
CREATED:20231129T211934Z
LAST-MODIFIED:20231129T211934Z
UID:10423-1701720000-1701723600@jumpnjive.gr
SUMMARY:Rockabilly Workshop(s)
DESCRIPTION:Τις Δευτέρες του Δεκεμβρίου γινόμαστε… Ροκαμπιλάδες! \nMini κύκλος σεμιναρίων από τον Τάσο και τη Κατούλα στο Rock-a-billy Jive\, χορός εκ τας Αγγλίας και χορεύεται με πολύ…στυλ \nΟ κύκλος Rock-a-billy Jive θα περιέχει 3 σεμιναριακά μαθήματα.\nTo επίπεδο είναι κατάλληλο για όλ@ !\n Διάρκεια μαθημάτων\n1 ώρα (20:00 – 21:00)\n Ημερομηνίες\nΔευτέρα 04/12\nΔευτέρα 11/12\nΔευτέρα 18/12\n Κόστος συμμετοχής : 40 ευρώ\nΜέλη JnJ : 25 ευρώ\n Drop in με δήλωση συμμετοχής : 20 ευρώ\nΜέλη JnJ : 10 ευρώ\nΔήλωσε συμμετοχή συμπληρώνοντας τα στοιχεία σου στη φόρμα\nhttps://forms.gle/UmC8imHWvr3NyT6H6\nκαι θα λάβεις email επιβεβαίωσης σύντομα με όλες τις λεπτομέρειες!\nΟι θέσεις είναι περιορισμένες\, θα τηρηθεί σειρά προτεραιότητας.\n To σεμινάριο είναι ανοιχτό για όλα τα επίπεδα.\n Κατά τη διάρκεια του σεμιναρίου θα κάνουμε rotation στα ζευγάρια.\nJump n Jive – Athens Swing Team\nΖαν Μωρεάς 1 & Ζαχαρίτσα\nΚουκάκι \, Αθήνα.\nTηλ. επικοινωνίας\n2155509747
URL:https://jumpnjive.gr/event/rockabilly-workshops/
LOCATION:Jump & Jive – Athens Swing Team\, Zan moreas 1\, Koukaki\, Athens\, 11741
CATEGORIES:Jump & Jive Events
ATTACH;FMTTYPE=image/png:https://jumpnjive.gr/wp-content/uploads/2023/11/KILLER-BOOGIE-1-1.png
ORGANIZER;CN="Jump & Jive - Athens Swing Team":MAILTO:jumpnjive@gmail.com
END:VEVENT
END:VCALENDAR