BEGIN:VCALENDAR
VERSION:2.0
PRODID:-//Jump &amp; Jive - Athens Swing Team - ECPv6.6.3//NONSGML v1.0//EN
CALSCALE:GREGORIAN
METHOD:PUBLISH
X-ORIGINAL-URL:https://jumpnjive.gr
X-WR-CALDESC:Jump &amp; Jive - Athens Swing Team - Εκδηλώσεις
REFRESH-INTERVAL;VALUE=DURATION:PT1H
X-Robots-Tag:noindex
X-PUBLISHED-TTL:PT1H
BEGIN:VTIMEZONE
TZID:Europe/Athens
BEGIN:DAYLIGHT
TZOFFSETFROM:+0200
TZOFFSETTO:+0300
TZNAME:EEST
DTSTART:20250330T010000
END:DAYLIGHT
BEGIN:STANDARD
TZOFFSETFROM:+0300
TZOFFSETTO:+0200
TZNAME:EET
DTSTART:20251026T010000
END:STANDARD
END:VTIMEZONE
BEGIN:VEVENT
DTSTART;TZID=Europe/Athens:20250611T190000
DTEND;TZID=Europe/Athens:20250611T203000
DTSTAMP:20260421T012835
CREATED:20240611T061755Z
LAST-MODIFIED:20250609T171803Z
UID:10527-1749668400-1749673800@jumpnjive.gr
SUMMARY:Ετήσια Παράσταση Σχολής Χορού παιδικών τμημάτων Jump n Jive
DESCRIPTION:Jump n Jive παρουσιάζει\nΕτήσια Παιδική Παράσταση Χορού 2025\n«Το Ταξίδι μιας Μουσικής Νότας»\n\nΕλάτε να γιορτάσουμε μαζί το φινάλε μιας γεμάτης χρονιάς!\nΜιας χρονιάς με πολλή κίνηση\, χορό\, γέλιο και ρυθμό!\nΜάθαμε βήματα — αλλά και κάτι πολύ πιο σημαντικό:\nΝα συνεργαζόμαστε\, να συγχρονιζόμαστε\, να είμαστε ομάδα!\n\nΑκολουθούμε το ταξίδι μιας μικρής μουσικής νότας που ξεκινά από το πρώτο της «ντο» και περιπλανιέται μέσα στον μαγικό κόσμο του ήχου\, εμπνέεται από αγαπημένα musicals και μουσικές ταινίες\, συναντά ρυθμούς\, μελωδίες και φυσικά… πολλά χορευτικά βήματα!\n\nΤετάρτη 11 Ιουνίου | 19:00\nΠολυχώρος Παλαιού Φαλήρου (Δημαρχείο)\nΤερψιχόρης 51\, Παλαιό Φάληρο\nΕίσοδος Ελεύθερη\n\n\nΣας περιμένουμε με χαρά να απολαύσετε τη μαγεία του χορού μέσα από τα μάτια των μικρών μας χορευτών! \n  \n 
URL:https://jumpnjive.gr/event/%ce%b5%cf%84%ce%ae%cf%83%ce%b9%ce%b1-%cf%80%ce%b1%cf%81%ce%ac%cf%83%cf%84%ce%b1%cf%83%ce%b7-%cf%83%cf%87%ce%bf%ce%bb%ce%ae%cf%82-%cf%87%ce%bf%cf%81%ce%bf%cf%8d-%cf%80%ce%b1%ce%b9%ce%b4%ce%b9%ce%ba/
LOCATION:Πολυχώρος Δημαρχείου Παλαιού Φαλήρου\, Τερψιχόρης 51\, Αθήνα\, Αττικής\, 17562\, Greece
CATEGORIES:Jump & Jive Events
ATTACH;FMTTYPE=image/png:https://jumpnjive.gr/wp-content/uploads/2024/06/Blue-Illustrated-Ballet-Dance-Flyer-1920-x-1080-px-1.png
ORGANIZER;CN="Jump & Jive - Athens Swing Team":MAILTO:jumpnjive@gmail.com
END:VEVENT
BEGIN:VEVENT
DTSTART;TZID=Europe/Athens:20250627T203000
DTEND;TZID=Europe/Athens:20250627T233000
DTSTAMP:20260421T012835
CREATED:20250610T084858Z
LAST-MODIFIED:20250610T084858Z
UID:10763-1751056200-1751067000@jumpnjive.gr
SUMMARY:School’s Out – Let’s Swing Out!
DESCRIPTION:Graduation Night 2025 School’s Out – Let’s Swing Out! ???? Athens Σας προσκαλούμε σε μια βραδιά αφιερωμένη στους Swing χορούς\, με σεβασμό στην κουλτούρα και τις ρίζες της Jazz! Η τελική παράσταση της σχολής μας μετατρέπεται και φέτος στο πιο μεγάλο social dance πάρτι της χρονιάς — γεμάτο ρυθμό\, ενέργεια\, χορευτικά shows και performances από την ομάδα μας και τους ταλαντούχους μαθητές μας! ???? Μαζί μας σε αυτή τη γιορτή\, οι Jumpin’ Bones\, σε ένα live set γεμάτο rhythm ‘n’ blues\, swing και αυθεντικό groove! ???? Ελάτε να χορέψουμε\, να χειροκροτήσουμε και να αποχαιρετήσουμε τη σεζόν με στυλ — όπως μόνο η swing κοινότητα ξέρει! ???????? Let’s party like it’s 1945! #swingout #schoolsout #swing #lindyhop #boogiemadness #rhythmandblues #graduationparty #letsdance #jumpnjive
URL:https://jumpnjive.gr/event/schools-out-lets-swing-out/
LOCATION:dionisiou aeropagitou
ATTACH;FMTTYPE=image/png:https://jumpnjive.gr/wp-content/uploads/2025/06/SWING-OUT-1.png
ORGANIZER;CN="Jump & Jive - Athens Swing Team":MAILTO:jumpnjive@gmail.com
END:VEVENT
END:VCALENDAR